BEGIN:VCALENDAR
VERSION:2.0
PRODID:-//American Lutheran Church - ECPv6.15.14//NONSGML v1.0//EN
CALSCALE:GREGORIAN
METHOD:PUBLISH
X-WR-CALNAME:American Lutheran Church
X-ORIGINAL-URL:https://americanlutheranchurch.com
X-WR-CALDESC:Events for American Lutheran Church
REFRESH-INTERVAL;VALUE=DURATION:PT1H
X-Robots-Tag:noindex
X-PUBLISHED-TTL:PT1H
BEGIN:VTIMEZONE
TZID:America/Chicago
BEGIN:DAYLIGHT
TZOFFSETFROM:-0600
TZOFFSETTO:-0500
TZNAME:CDT
DTSTART:20200308T080000
END:DAYLIGHT
BEGIN:STANDARD
TZOFFSETFROM:-0500
TZOFFSETTO:-0600
TZNAME:CST
DTSTART:20201101T070000
END:STANDARD
BEGIN:DAYLIGHT
TZOFFSETFROM:-0600
TZOFFSETTO:-0500
TZNAME:CDT
DTSTART:20210314T080000
END:DAYLIGHT
BEGIN:STANDARD
TZOFFSETFROM:-0500
TZOFFSETTO:-0600
TZNAME:CST
DTSTART:20211107T070000
END:STANDARD
BEGIN:DAYLIGHT
TZOFFSETFROM:-0600
TZOFFSETTO:-0500
TZNAME:CDT
DTSTART:20220313T080000
END:DAYLIGHT
BEGIN:STANDARD
TZOFFSETFROM:-0500
TZOFFSETTO:-0600
TZNAME:CST
DTSTART:20221106T070000
END:STANDARD
BEGIN:DAYLIGHT
TZOFFSETFROM:-0600
TZOFFSETTO:-0500
TZNAME:CDT
DTSTART:20230312T080000
END:DAYLIGHT
BEGIN:STANDARD
TZOFFSETFROM:-0500
TZOFFSETTO:-0600
TZNAME:CST
DTSTART:20231105T070000
END:STANDARD
END:VTIMEZONE
BEGIN:VEVENT
DTSTART;TZID=America/Chicago:20220105T171500
DTEND;TZID=America/Chicago:20220105T181500
DTSTAMP:20260423T144638
CREATED:20211230T213733Z
LAST-MODIFIED:20211230T213733Z
UID:1616-1641402900-1641406500@americanlutheranchurch.com
SUMMARY:5:15 Confirmation
DESCRIPTION:
URL:https://americanlutheranchurch.com/event/515-confirmation/
LOCATION:American Lutheran Church\, 311 S 4th Ave\, Castlewood\, SD\, 57223\, United States
END:VEVENT
BEGIN:VEVENT
DTSTART;TZID=America/Chicago:20220105T140000
DTEND;TZID=America/Chicago:20220105T170000
DTSTAMP:20260423T144638
CREATED:20211230T215009Z
LAST-MODIFIED:20211230T215009Z
UID:1643-1641391200-1641402000@americanlutheranchurch.com
SUMMARY:2:00pm Asst. Living Study
DESCRIPTION:
URL:https://americanlutheranchurch.com/event/200pm-asst-living-study/
LOCATION:American Lutheran Church\, 311 S 4th Ave\, Castlewood\, SD\, 57223\, United States
END:VEVENT
BEGIN:VEVENT
DTSTART;TZID=America/Chicago:20220112T100000
DTEND;TZID=America/Chicago:20220112T110000
DTSTAMP:20260423T144638
CREATED:20211230T214531Z
LAST-MODIFIED:20211230T214531Z
UID:1632-1641981600-1641985200@americanlutheranchurch.com
SUMMARY:10:00am Bible Study
DESCRIPTION:
URL:https://americanlutheranchurch.com/event/1000am-bible-study-2/
LOCATION:American Lutheran Church\, 311 S 4th Ave\, Castlewood\, SD\, 57223\, United States
END:VEVENT
BEGIN:VEVENT
DTSTART;TZID=America/Chicago:20220112T193000
DTEND;TZID=America/Chicago:20220112T193000
DTSTAMP:20260423T144638
CREATED:20211230T214345Z
LAST-MODIFIED:20211230T214345Z
UID:1627-1642015800-1642015800@americanlutheranchurch.com
SUMMARY:7:30pm Bible Study
DESCRIPTION:
URL:https://americanlutheranchurch.com/event/730pm-bible-study/
LOCATION:American Lutheran Church\, 311 S 4th Ave\, Castlewood\, SD\, 57223\, United States
END:VEVENT
BEGIN:VEVENT
DTSTART;TZID=America/Chicago:20220105T171500
DTEND;TZID=America/Chicago:20220105T181500
DTSTAMP:20260423T144638
CREATED:20211230T213733Z
LAST-MODIFIED:20211230T213733Z
UID:1616-1641402900-1641406500@americanlutheranchurch.com
SUMMARY:5:15 Confirmation
DESCRIPTION:
URL:https://americanlutheranchurch.com/event/515-confirmation/
LOCATION:American Lutheran Church\, 311 S 4th Ave\, Castlewood\, SD\, 57223\, United States
END:VEVENT
BEGIN:VEVENT
DTSTART;TZID=America/Chicago:20220105T140000
DTEND;TZID=America/Chicago:20220105T170000
DTSTAMP:20260423T144638
CREATED:20211230T215009Z
LAST-MODIFIED:20211230T215009Z
UID:1643-1641391200-1641402000@americanlutheranchurch.com
SUMMARY:2:00pm Asst. Living Study
DESCRIPTION:
URL:https://americanlutheranchurch.com/event/200pm-asst-living-study/
LOCATION:American Lutheran Church\, 311 S 4th Ave\, Castlewood\, SD\, 57223\, United States
END:VEVENT
BEGIN:VEVENT
DTSTART;TZID=America/Chicago:20220112T100000
DTEND;TZID=America/Chicago:20220112T110000
DTSTAMP:20260423T144638
CREATED:20211230T214531Z
LAST-MODIFIED:20211230T214531Z
UID:1632-1641981600-1641985200@americanlutheranchurch.com
SUMMARY:10:00am Bible Study
DESCRIPTION:
URL:https://americanlutheranchurch.com/event/1000am-bible-study-2/
LOCATION:American Lutheran Church\, 311 S 4th Ave\, Castlewood\, SD\, 57223\, United States
END:VEVENT
BEGIN:VEVENT
DTSTART;TZID=America/Chicago:20220120T080000
DTEND;TZID=America/Chicago:20220120T150000
DTSTAMP:20260423T144638
CREATED:20211207T214817Z
LAST-MODIFIED:20211207T214817Z
UID:1595-1642665600-1642690800@americanlutheranchurch.com
SUMMARY:ESD Pastor's Mtg.
DESCRIPTION:
URL:https://americanlutheranchurch.com/event/esd-pastors-mtg/
LOCATION:American Lutheran Church\, 311 S 4th Ave\, Castlewood\, SD\, 57223\, United States
END:VEVENT
BEGIN:VEVENT
DTSTART;TZID=America/Chicago:20220112T193000
DTEND;TZID=America/Chicago:20220112T193000
DTSTAMP:20260423T144638
CREATED:20211230T214345Z
LAST-MODIFIED:20211230T214345Z
UID:1627-1642015800-1642015800@americanlutheranchurch.com
SUMMARY:7:30pm Bible Study
DESCRIPTION:
URL:https://americanlutheranchurch.com/event/730pm-bible-study/
LOCATION:American Lutheran Church\, 311 S 4th Ave\, Castlewood\, SD\, 57223\, United States
END:VEVENT
BEGIN:VEVENT
DTSTART;TZID=America/Chicago:20220119T183000
DTEND;TZID=America/Chicago:20220119T193000
DTSTAMP:20260423T144638
CREATED:20211230T214131Z
LAST-MODIFIED:20211230T214131Z
UID:1625-1642617000-1642620600@americanlutheranchurch.com
SUMMARY:6:30pm Youth Group - Romans 7
DESCRIPTION:
URL:https://americanlutheranchurch.com/event/630pm-youth-group-romans-7/
LOCATION:American Lutheran Church\, 311 S 4th Ave\, Castlewood\, SD\, 57223\, United States
END:VEVENT
BEGIN:VEVENT
DTSTART;TZID=America/Chicago:20220105T171500
DTEND;TZID=America/Chicago:20220105T181500
DTSTAMP:20260423T144638
CREATED:20211230T213733Z
LAST-MODIFIED:20211230T213733Z
UID:1616-1641402900-1641406500@americanlutheranchurch.com
SUMMARY:5:15 Confirmation
DESCRIPTION:
URL:https://americanlutheranchurch.com/event/515-confirmation/
LOCATION:American Lutheran Church\, 311 S 4th Ave\, Castlewood\, SD\, 57223\, United States
END:VEVENT
BEGIN:VEVENT
DTSTART;TZID=America/Chicago:20220105T140000
DTEND;TZID=America/Chicago:20220105T170000
DTSTAMP:20260423T144638
CREATED:20211230T215009Z
LAST-MODIFIED:20211230T215009Z
UID:1643-1641391200-1641402000@americanlutheranchurch.com
SUMMARY:2:00pm Asst. Living Study
DESCRIPTION:
URL:https://americanlutheranchurch.com/event/200pm-asst-living-study/
LOCATION:American Lutheran Church\, 311 S 4th Ave\, Castlewood\, SD\, 57223\, United States
END:VEVENT
BEGIN:VEVENT
DTSTART;TZID=America/Chicago:20220112T100000
DTEND;TZID=America/Chicago:20220112T110000
DTSTAMP:20260423T144638
CREATED:20211230T214531Z
LAST-MODIFIED:20211230T214531Z
UID:1632-1641981600-1641985200@americanlutheranchurch.com
SUMMARY:10:00am Bible Study
DESCRIPTION:
URL:https://americanlutheranchurch.com/event/1000am-bible-study-2/
LOCATION:American Lutheran Church\, 311 S 4th Ave\, Castlewood\, SD\, 57223\, United States
END:VEVENT
BEGIN:VEVENT
DTSTART;TZID=America/Chicago:20220116T130000
DTEND;TZID=America/Chicago:20220116T170000
DTSTAMP:20260423T144638
CREATED:20211230T214804Z
LAST-MODIFIED:20211230T214804Z
UID:1639-1642338000-1642352400@americanlutheranchurch.com
SUMMARY:1:00pm Amer. Legion Event
DESCRIPTION:
URL:https://americanlutheranchurch.com/event/100pm-amer-legion-event/
LOCATION:American Lutheran Church\, 311 S 4th Ave\, Castlewood\, SD\, 57223\, United States
END:VEVENT
BEGIN:VEVENT
DTSTART;TZID=America/Chicago:20220116T101500
DTEND;TZID=America/Chicago:20220116T170000
DTSTAMP:20260423T144638
CREATED:20211230T214840Z
LAST-MODIFIED:20211230T214840Z
UID:1641-1642328100-1642352400@americanlutheranchurch.com
SUMMARY:10:15am Annual Meeting
DESCRIPTION:
URL:https://americanlutheranchurch.com/event/1015am-annual-meeting/
LOCATION:American Lutheran Church\, 311 S 4th Ave\, Castlewood\, SD\, 57223\, United States
END:VEVENT
BEGIN:VEVENT
DTSTART;TZID=America/Chicago:20220112T193000
DTEND;TZID=America/Chicago:20220112T193000
DTSTAMP:20260423T144638
CREATED:20211230T214345Z
LAST-MODIFIED:20211230T214345Z
UID:1627-1642015800-1642015800@americanlutheranchurch.com
SUMMARY:7:30pm Bible Study
DESCRIPTION:
URL:https://americanlutheranchurch.com/event/730pm-bible-study/
LOCATION:American Lutheran Church\, 311 S 4th Ave\, Castlewood\, SD\, 57223\, United States
END:VEVENT
BEGIN:VEVENT
DTSTART;TZID=America/Chicago:20220105T171500
DTEND;TZID=America/Chicago:20220105T181500
DTSTAMP:20260423T144638
CREATED:20211230T213733Z
LAST-MODIFIED:20211230T213733Z
UID:1616-1641402900-1641406500@americanlutheranchurch.com
SUMMARY:5:15 Confirmation
DESCRIPTION:
URL:https://americanlutheranchurch.com/event/515-confirmation/
LOCATION:American Lutheran Church\, 311 S 4th Ave\, Castlewood\, SD\, 57223\, United States
END:VEVENT
BEGIN:VEVENT
DTSTART;TZID=America/Chicago:20220105T140000
DTEND;TZID=America/Chicago:20220105T170000
DTSTAMP:20260423T144638
CREATED:20211230T215009Z
LAST-MODIFIED:20211230T215009Z
UID:1643-1641391200-1641402000@americanlutheranchurch.com
SUMMARY:2:00pm Asst. Living Study
DESCRIPTION:
URL:https://americanlutheranchurch.com/event/200pm-asst-living-study/
LOCATION:American Lutheran Church\, 311 S 4th Ave\, Castlewood\, SD\, 57223\, United States
END:VEVENT
BEGIN:VEVENT
DTSTART;TZID=America/Chicago:20220112T100000
DTEND;TZID=America/Chicago:20220112T110000
DTSTAMP:20260423T144638
CREATED:20211230T214531Z
LAST-MODIFIED:20211230T214531Z
UID:1632-1641981600-1641985200@americanlutheranchurch.com
SUMMARY:10:00am Bible Study
DESCRIPTION:
URL:https://americanlutheranchurch.com/event/1000am-bible-study-2/
LOCATION:American Lutheran Church\, 311 S 4th Ave\, Castlewood\, SD\, 57223\, United States
END:VEVENT
BEGIN:VEVENT
DTSTART;TZID=America/Chicago:20220109T101500
DTEND;TZID=America/Chicago:20220109T111500
DTSTAMP:20260423T144638
CREATED:20211230T214720Z
LAST-MODIFIED:20211230T214720Z
UID:1637-1641723300-1641726900@americanlutheranchurch.com
SUMMARY:10:15am Church Council
DESCRIPTION:
URL:https://americanlutheranchurch.com/event/1015am-church-council-2/
LOCATION:American Lutheran Church\, 311 S 4th Ave\, Castlewood\, SD\, 57223\, United States
END:VEVENT
BEGIN:VEVENT
DTSTART;TZID=America/Chicago:20220108T080000
DTEND;TZID=America/Chicago:20220108T160000
DTSTAMP:20260423T144638
CREATED:20211209T214347Z
LAST-MODIFIED:20211209T214347Z
UID:1599-1641628800-1641657600@americanlutheranchurch.com
SUMMARY:8:00-4:00 Church Reserved for Member Event
DESCRIPTION:
URL:https://americanlutheranchurch.com/event/800-400-church-reserved-for-member-event/
LOCATION:American Lutheran Church\, 311 S 4th Ave\, Castlewood\, SD\, 57223\, United States
END:VEVENT
BEGIN:VEVENT
DTSTART;TZID=America/Chicago:20220105T183000
DTEND;TZID=America/Chicago:20220105T193000
DTSTAMP:20260423T144638
CREATED:20211230T214016Z
LAST-MODIFIED:20211230T214016Z
UID:1623-1641407400-1641411000@americanlutheranchurch.com
SUMMARY:6:30pm  Youth Group-Romans 6
DESCRIPTION:
URL:https://americanlutheranchurch.com/event/630pm-youth-group-romans-6/
LOCATION:American Lutheran Church\, 311 S 4th Ave\, Castlewood\, SD\, 57223\, United States
END:VEVENT
BEGIN:VEVENT
DTSTART;TZID=America/Chicago:20220105T171500
DTEND;TZID=America/Chicago:20220105T181500
DTSTAMP:20260423T144638
CREATED:20211230T213733Z
LAST-MODIFIED:20211230T213733Z
UID:1616-1641402900-1641406500@americanlutheranchurch.com
SUMMARY:5:15 Confirmation
DESCRIPTION:
URL:https://americanlutheranchurch.com/event/515-confirmation/
LOCATION:American Lutheran Church\, 311 S 4th Ave\, Castlewood\, SD\, 57223\, United States
END:VEVENT
BEGIN:VEVENT
DTSTART;TZID=America/Chicago:20220105T140000
DTEND;TZID=America/Chicago:20220105T170000
DTSTAMP:20260423T144638
CREATED:20211230T215009Z
LAST-MODIFIED:20211230T215009Z
UID:1643-1641391200-1641402000@americanlutheranchurch.com
SUMMARY:2:00pm Asst. Living Study
DESCRIPTION:
URL:https://americanlutheranchurch.com/event/200pm-asst-living-study/
LOCATION:American Lutheran Church\, 311 S 4th Ave\, Castlewood\, SD\, 57223\, United States
END:VEVENT
BEGIN:VEVENT
DTSTART;TZID=America/Chicago:20211201T200000
DTEND;TZID=America/Chicago:20211201T210000
DTSTAMP:20260423T144638
CREATED:20211128T205919Z
LAST-MODIFIED:20211128T205919Z
UID:1248-1638388800-1638392400@americanlutheranchurch.com
SUMMARY:8:00pm Bible Study
DESCRIPTION:
URL:https://americanlutheranchurch.com/event/800pm-bible-study/
END:VEVENT
BEGIN:VEVENT
DTSTART;TZID=America/Chicago:20211201T171500
DTEND;TZID=America/Chicago:20211201T181500
DTSTAMP:20260423T144638
CREATED:20211128T200745Z
LAST-MODIFIED:20211128T224152Z
UID:1233-1638378900-1638382500@americanlutheranchurch.com
SUMMARY:5:15pm Confirmation
DESCRIPTION:
URL:https://americanlutheranchurch.com/event/515pm-confirmation/
END:VEVENT
BEGIN:VEVENT
DTSTART;TZID=America/Chicago:20211201T140000
DTEND;TZID=America/Chicago:20211201T150000
DTSTAMP:20260423T144638
CREATED:20211128T205814Z
LAST-MODIFIED:20211128T205814Z
UID:1243-1638367200-1638370800@americanlutheranchurch.com
SUMMARY:2:00pm Bible Study at Asst. Living
DESCRIPTION:
URL:https://americanlutheranchurch.com/event/200pm-bible-study-at-asst-living/
END:VEVENT
BEGIN:VEVENT
DTSTART;TZID=America/Chicago:20211208T100000
DTEND;TZID=America/Chicago:20211208T110000
DTSTAMP:20260423T144638
CREATED:20211128T205648Z
LAST-MODIFIED:20211128T205648Z
UID:1238-1638957600-1638961200@americanlutheranchurch.com
SUMMARY:10:00am Bible Study
DESCRIPTION:
URL:https://americanlutheranchurch.com/event/1000am-bible-study/
END:VEVENT
BEGIN:VEVENT
DTSTART;TZID=America/Chicago:20211219T110000
DTEND;TZID=America/Chicago:20211219T120000
DTSTAMP:20260423T144638
CREATED:20211128T191653Z
LAST-MODIFIED:20211128T230543Z
UID:1087-1639911600-1639915200@americanlutheranchurch.com
SUMMARY:11:00am Fellowship
DESCRIPTION:
URL:https://americanlutheranchurch.com/event/fellowship-2021-12-19/
END:VEVENT
BEGIN:VEVENT
DTSTART;TZID=America/Chicago:20211219T090000
DTEND;TZID=America/Chicago:20211219T100000
DTSTAMP:20260423T144638
CREATED:20211128T191820Z
LAST-MODIFIED:20211128T201142Z
UID:964-1639904400-1639908000@americanlutheranchurch.com
SUMMARY:9:00am Program Practice
DESCRIPTION:
URL:https://americanlutheranchurch.com/event/sunday-school-2021-12-19/
LOCATION:American Lutheran Church\, 311 S 4th Ave\, Castlewood\, SD\, 57223\, United States
END:VEVENT
END:VCALENDAR