BEGIN:VCALENDAR
VERSION:2.0
PRODID:-//American Lutheran Church - ECPv6.15.14//NONSGML v1.0//EN
CALSCALE:GREGORIAN
METHOD:PUBLISH
X-WR-CALNAME:American Lutheran Church
X-ORIGINAL-URL:https://americanlutheranchurch.com
X-WR-CALDESC:Events for American Lutheran Church
REFRESH-INTERVAL;VALUE=DURATION:PT1H
X-Robots-Tag:noindex
X-PUBLISHED-TTL:PT1H
BEGIN:VTIMEZONE
TZID:America/Chicago
BEGIN:DAYLIGHT
TZOFFSETFROM:-0600
TZOFFSETTO:-0500
TZNAME:CDT
DTSTART:20210314T080000
END:DAYLIGHT
BEGIN:STANDARD
TZOFFSETFROM:-0500
TZOFFSETTO:-0600
TZNAME:CST
DTSTART:20211107T070000
END:STANDARD
BEGIN:DAYLIGHT
TZOFFSETFROM:-0600
TZOFFSETTO:-0500
TZNAME:CDT
DTSTART:20220313T080000
END:DAYLIGHT
BEGIN:STANDARD
TZOFFSETFROM:-0500
TZOFFSETTO:-0600
TZNAME:CST
DTSTART:20221106T070000
END:STANDARD
BEGIN:DAYLIGHT
TZOFFSETFROM:-0600
TZOFFSETTO:-0500
TZNAME:CDT
DTSTART:20230312T080000
END:DAYLIGHT
BEGIN:STANDARD
TZOFFSETFROM:-0500
TZOFFSETTO:-0600
TZNAME:CST
DTSTART:20231105T070000
END:STANDARD
END:VTIMEZONE
BEGIN:VEVENT
DTSTART;TZID=America/Chicago:20220429T080000
DTEND;TZID=America/Chicago:20220429T170000
DTSTAMP:20260423T100754
CREATED:20220308T151113Z
LAST-MODIFIED:20220308T151113Z
UID:1778-1651219200-1651251600@americanlutheranchurch.com
SUMMARY:NALC District Convo
DESCRIPTION:
URL:https://americanlutheranchurch.com/event/nalc-district-convo/
LOCATION:American Lutheran Church\, 311 S 4th Ave\, Castlewood\, SD\, 57223\, United States
END:VEVENT
BEGIN:VEVENT
DTSTART;TZID=America/Chicago:20220424T090000
DTEND;TZID=America/Chicago:20220424T100000
DTSTAMP:20260423T100754
CREATED:20220119T230218Z
LAST-MODIFIED:20220119T230218Z
UID:1682-1650790800-1650794400@americanlutheranchurch.com
SUMMARY:9:00 am Worship/Rite of Confirmation
DESCRIPTION:
URL:https://americanlutheranchurch.com/event/900-am-worship-rite-of-confirmation/
LOCATION:American Lutheran Church\, 311 S 4th Ave\, Castlewood\, SD\, 57223\, United States
END:VEVENT
BEGIN:VEVENT
DTSTART;TZID=America/Chicago:20220417T090000
DTEND;TZID=America/Chicago:20220417T090000
DTSTAMP:20260423T100754
CREATED:20220330T024611Z
LAST-MODIFIED:20220330T024611Z
UID:1851-1650186000-1650186000@americanlutheranchurch.com
SUMMARY:9:00am Easter Festival Worship
DESCRIPTION:
URL:https://americanlutheranchurch.com/event/900am-easter-festival-worship/
LOCATION:American Lutheran Church\, 311 S 4th Ave\, Castlewood\, SD\, 57223\, United States
END:VEVENT
BEGIN:VEVENT
DTSTART;TZID=America/Chicago:20220417T080000
DTEND;TZID=America/Chicago:20220417T170000
DTSTAMP:20260423T100754
CREATED:20220329T212357Z
LAST-MODIFIED:20220329T212357Z
UID:1810-1650182400-1650214800@americanlutheranchurch.com
SUMMARY:7:45 Easter Breakfast Begins
DESCRIPTION:
URL:https://americanlutheranchurch.com/event/745-easter-breakfast-begins/
LOCATION:American Lutheran Church\, 311 S 4th Ave\, Castlewood\, SD\, 57223\, United States
END:VEVENT
BEGIN:VEVENT
DTSTART;TZID=America/Chicago:20220417T070000
DTEND;TZID=America/Chicago:20220417T170000
DTSTAMP:20260423T100754
CREATED:20220329T212309Z
LAST-MODIFIED:20220329T212309Z
UID:1808-1650178800-1650214800@americanlutheranchurch.com
SUMMARY:7:00 Easter Sunrise Worship
DESCRIPTION:
URL:https://americanlutheranchurch.com/event/700-easter-sunrise-worship/
LOCATION:American Lutheran Church\, 311 S 4th Ave\, Castlewood\, SD\, 57223\, United States
END:VEVENT
BEGIN:VEVENT
DTSTART;TZID=America/Chicago:20220415T080000
DTEND;TZID=America/Chicago:20220415T170000
DTSTAMP:20260423T100754
CREATED:20220329T212144Z
LAST-MODIFIED:20220329T212144Z
UID:1806-1650009600-1650042000@americanlutheranchurch.com
SUMMARY:7:00pm Good Friday Tenebrae Worship
DESCRIPTION:
URL:https://americanlutheranchurch.com/event/700pm-good-friday-tenebrae-worship/
LOCATION:American Lutheran Church\, 311 S 4th Ave\, Castlewood\, SD\, 57223\, United States
END:VEVENT
BEGIN:VEVENT
DTSTART;TZID=America/Chicago:20220414T190000
DTEND;TZID=America/Chicago:20220414T190000
DTSTAMP:20260423T100754
CREATED:20220329T212102Z
LAST-MODIFIED:20220329T212102Z
UID:1804-1649962800-1649962800@americanlutheranchurch.com
SUMMARY:7:00pm Maundy Thursday Worship
DESCRIPTION:
URL:https://americanlutheranchurch.com/event/700pm-maundy-thursday-worship/
LOCATION:American Lutheran Church\, 311 S 4th Ave\, Castlewood\, SD\, 57223\, United States
END:VEVENT
BEGIN:VEVENT
DTSTART;TZID=America/Chicago:20220410T111500
DTEND;TZID=America/Chicago:20220410T193000
DTSTAMP:20260423T100754
CREATED:20220323T183553Z
LAST-MODIFIED:20220323T183553Z
UID:1798-1649589300-1649619000@americanlutheranchurch.com
SUMMARY:"Kids Against Hunger"
DESCRIPTION:
URL:https://americanlutheranchurch.com/event/kids-against-hunger/
LOCATION:American Lutheran Church\, 311 S 4th Ave\, Castlewood\, SD\, 57223\, United States
END:VEVENT
BEGIN:VEVENT
DTSTART;TZID=America/Chicago:20220410T101500
DTEND;TZID=America/Chicago:20220410T170000
DTSTAMP:20260423T100754
CREATED:20220323T183457Z
LAST-MODIFIED:20220323T183457Z
UID:1796-1649585700-1649610000@americanlutheranchurch.com
SUMMARY:Church Council
DESCRIPTION:
URL:https://americanlutheranchurch.com/event/church-council/
LOCATION:American Lutheran Church\, 311 S 4th Ave\, Castlewood\, SD\, 57223\, United States
END:VEVENT
BEGIN:VEVENT
DTSTART;TZID=America/Chicago:20220330T190000
DTEND;TZID=America/Chicago:20220330T190000
DTSTAMP:20260423T100754
CREATED:20220203T221854Z
LAST-MODIFIED:20220203T221854Z
UID:1723-1648666800-1648666800@americanlutheranchurch.com
SUMMARY:7:00pm "Amazing Race" Worship
DESCRIPTION:
URL:https://americanlutheranchurch.com/event/700pm-amazing-race-worship-4/
LOCATION:American Lutheran Church\, 311 S 4th Ave\, Castlewood\, SD\, 57223\, United States
END:VEVENT
BEGIN:VEVENT
DTSTART;TZID=America/Chicago:20220330T181500
DTEND;TZID=America/Chicago:20220330T181500
DTSTAMP:20260423T100754
CREATED:20220203T221822Z
LAST-MODIFIED:20220203T221822Z
UID:1721-1648664100-1648664100@americanlutheranchurch.com
SUMMARY:6:15pm Lenten Supper
DESCRIPTION:
URL:https://americanlutheranchurch.com/event/615pm-lenten-supper-4/
LOCATION:American Lutheran Church\, 311 S 4th Ave\, Castlewood\, SD\, 57223\, United States
END:VEVENT
BEGIN:VEVENT
DTSTART;TZID=America/Chicago:20220323T190000
DTEND;TZID=America/Chicago:20220323T190000
DTSTAMP:20260423T100754
CREATED:20220203T221748Z
LAST-MODIFIED:20220203T221748Z
UID:1719-1648062000-1648062000@americanlutheranchurch.com
SUMMARY:7:00pm "Amazing Race" Worship
DESCRIPTION:
URL:https://americanlutheranchurch.com/event/700pm-amazing-race-worship-3/
LOCATION:American Lutheran Church\, 311 S 4th Ave\, Castlewood\, SD\, 57223\, United States
END:VEVENT
BEGIN:VEVENT
DTSTART;TZID=America/Chicago:20220323T181500
DTEND;TZID=America/Chicago:20220323T181500
DTSTAMP:20260423T100754
CREATED:20220203T221712Z
LAST-MODIFIED:20220203T221712Z
UID:1717-1648059300-1648059300@americanlutheranchurch.com
SUMMARY:6:15pm Lenten Supper
DESCRIPTION:
URL:https://americanlutheranchurch.com/event/615pm-lenten-supper-3/
LOCATION:American Lutheran Church\, 311 S 4th Ave\, Castlewood\, SD\, 57223\, United States
END:VEVENT
BEGIN:VEVENT
DTSTART;TZID=America/Chicago:20220320T101500
DTEND;TZID=America/Chicago:20220320T170000
DTSTAMP:20260423T100754
CREATED:20220222T221614Z
LAST-MODIFIED:20220222T221614Z
UID:1761-1647771300-1647795600@americanlutheranchurch.com
SUMMARY:10:15 Church Council
DESCRIPTION:
URL:https://americanlutheranchurch.com/event/1015-church-council/
LOCATION:American Lutheran Church\, 311 S 4th Ave\, Castlewood\, SD\, 57223\, United States
END:VEVENT
BEGIN:VEVENT
DTSTART;TZID=America/Chicago:20220317T090000
DTEND;TZID=America/Chicago:20220317T133000
DTSTAMP:20260423T100754
CREATED:20220224T233440Z
LAST-MODIFIED:20220224T233440Z
UID:1765-1647507600-1647523800@americanlutheranchurch.com
SUMMARY:ESD Pastor's Meeting in Watertown
DESCRIPTION:
URL:https://americanlutheranchurch.com/event/esd-pastors-meeting-in-watertown/
LOCATION:American Lutheran Church\, 311 S 4th Ave\, Castlewood\, SD\, 57223\, United States
END:VEVENT
BEGIN:VEVENT
DTSTART;TZID=America/Chicago:20220316T190000
DTEND;TZID=America/Chicago:20220316T190000
DTSTAMP:20260423T100754
CREATED:20220203T221622Z
LAST-MODIFIED:20220203T221622Z
UID:1715-1647457200-1647457200@americanlutheranchurch.com
SUMMARY:7:00pm "Amazing Race" Worship
DESCRIPTION:
URL:https://americanlutheranchurch.com/event/700pm-amazing-race-worship-2/
LOCATION:American Lutheran Church\, 311 S 4th Ave\, Castlewood\, SD\, 57223\, United States
END:VEVENT
BEGIN:VEVENT
DTSTART;TZID=America/Chicago:20220316T181500
DTEND;TZID=America/Chicago:20220316T181500
DTSTAMP:20260423T100754
CREATED:20220203T221543Z
LAST-MODIFIED:20220203T221543Z
UID:1713-1647454500-1647454500@americanlutheranchurch.com
SUMMARY:6:15pm Lenten Supper
DESCRIPTION:
URL:https://americanlutheranchurch.com/event/615pm-lenten-supper-2/
LOCATION:American Lutheran Church\, 311 S 4th Ave\, Castlewood\, SD\, 57223\, United States
END:VEVENT
BEGIN:VEVENT
DTSTART;TZID=America/Chicago:20220309T190000
DTEND;TZID=America/Chicago:20220309T190000
DTSTAMP:20260423T100754
CREATED:20220203T221433Z
LAST-MODIFIED:20220203T221433Z
UID:1711-1646852400-1646852400@americanlutheranchurch.com
SUMMARY:7:00pm "Amazing Race" Worship
DESCRIPTION:
URL:https://americanlutheranchurch.com/event/700pm-amazing-race-worship/
LOCATION:American Lutheran Church\, 311 S 4th Ave\, Castlewood\, SD\, 57223\, United States
END:VEVENT
BEGIN:VEVENT
DTSTART;TZID=America/Chicago:20220309T181500
DTEND;TZID=America/Chicago:20220309T181500
DTSTAMP:20260423T100754
CREATED:20220203T221341Z
LAST-MODIFIED:20220203T221341Z
UID:1709-1646849700-1646849700@americanlutheranchurch.com
SUMMARY:6:15pm Lenten Supper
DESCRIPTION:
URL:https://americanlutheranchurch.com/event/615pm-lenten-supper/
LOCATION:American Lutheran Church\, 311 S 4th Ave\, Castlewood\, SD\, 57223\, United States
END:VEVENT
BEGIN:VEVENT
DTSTART;TZID=America/Chicago:20220302T190000
DTEND;TZID=America/Chicago:20220302T200000
DTSTAMP:20260423T100754
CREATED:20220203T221213Z
LAST-MODIFIED:20220203T221213Z
UID:1707-1646247600-1646251200@americanlutheranchurch.com
SUMMARY:7:00pm Ash Wednesday Worship
DESCRIPTION:
URL:https://americanlutheranchurch.com/event/700pm-ash-wednesday-worship/
LOCATION:American Lutheran Church\, 311 S 4th Ave\, Castlewood\, SD\, 57223\, United States
END:VEVENT
BEGIN:VEVENT
DTSTART;TZID=America/Chicago:20220302T181500
DTEND;TZID=America/Chicago:20220302T183000
DTSTAMP:20260423T100754
CREATED:20220203T215857Z
LAST-MODIFIED:20220203T215857Z
UID:1697-1646244900-1646245800@americanlutheranchurch.com
SUMMARY:6:15 Lenten Supper
DESCRIPTION:
URL:https://americanlutheranchurch.com/event/615-lenten-supper/
LOCATION:American Lutheran Church\, 311 S 4th Ave\, Castlewood\, SD\, 57223\, United States
END:VEVENT
BEGIN:VEVENT
DTSTART;TZID=America/Chicago:20220224T090000
DTEND;TZID=America/Chicago:20220224T140000
DTSTAMP:20260423T100754
CREATED:20220208T180538Z
LAST-MODIFIED:20220208T180538Z
UID:1727-1645693200-1645711200@americanlutheranchurch.com
SUMMARY:ESD Pastor's Mtg. at Hayti
DESCRIPTION:
URL:https://americanlutheranchurch.com/event/esd-pastors-mtg-at-hayti/
LOCATION:American Lutheran Church\, 311 S 4th Ave\, Castlewood\, SD\, 57223\, United States
END:VEVENT
BEGIN:VEVENT
DTSTART;TZID=America/Chicago:20220220T101500
DTEND;TZID=America/Chicago:20220220T170000
DTSTAMP:20260423T100754
CREATED:20220209T213848Z
LAST-MODIFIED:20220209T213848Z
UID:1739-1645352100-1645376400@americanlutheranchurch.com
SUMMARY:10:15am Church Council
DESCRIPTION:
URL:https://americanlutheranchurch.com/event/1015am-church-council-3/
LOCATION:American Lutheran Church\, 311 S 4th Ave\, Castlewood\, SD\, 57223\, United States
END:VEVENT
BEGIN:VEVENT
DTSTART;TZID=America/Chicago:20220220T083000
DTEND;TZID=America/Chicago:20220220T090000
DTSTAMP:20260423T100754
CREATED:20220203T220651Z
LAST-MODIFIED:20220203T220708Z
UID:1703-1645345800-1645347600@americanlutheranchurch.com
SUMMARY:8:30am Choir
DESCRIPTION:
URL:https://americanlutheranchurch.com/event/830am-choir/
LOCATION:American Lutheran Church\, 311 S 4th Ave\, Castlewood\, SD\, 57223\, United States
END:VEVENT
BEGIN:VEVENT
DTSTART;TZID=America/Chicago:20220215T080000
DTEND;TZID=America/Chicago:20220215T170000
DTSTAMP:20260423T100754
CREATED:20211230T215621Z
LAST-MODIFIED:20211230T215621Z
UID:1654-1644912000-1644944400@americanlutheranchurch.com
SUMMARY:Office Closed
DESCRIPTION:
URL:https://americanlutheranchurch.com/event/office-closed/
LOCATION:American Lutheran Church\, 311 S 4th Ave\, Castlewood\, SD\, 57223\, United States
END:VEVENT
BEGIN:VEVENT
DTSTART;TZID=America/Chicago:20220217T080000
DTEND;TZID=America/Chicago:20220217T170000
DTSTAMP:20260423T100754
CREATED:20211230T215538Z
LAST-MODIFIED:20211230T215538Z
UID:1652-1645084800-1645117200@americanlutheranchurch.com
SUMMARY:Pastor Returns
DESCRIPTION:
URL:https://americanlutheranchurch.com/event/pastor-returns/
LOCATION:American Lutheran Church\, 311 S 4th Ave\, Castlewood\, SD\, 57223\, United States
END:VEVENT
BEGIN:VEVENT
DTSTART;TZID=America/Chicago:20220216T183000
DTEND;TZID=America/Chicago:20220216T193000
DTSTAMP:20260423T100754
CREATED:20220203T215708Z
LAST-MODIFIED:20220203T215708Z
UID:1695-1645036200-1645039800@americanlutheranchurch.com
SUMMARY:6:30 Youth Group
DESCRIPTION:
URL:https://americanlutheranchurch.com/event/630-youth-group/
LOCATION:American Lutheran Church\, 311 S 4th Ave\, Castlewood\, SD\, 57223\, United States
END:VEVENT
BEGIN:VEVENT
DTSTART;TZID=America/Chicago:20220215T080000
DTEND;TZID=America/Chicago:20220215T170000
DTSTAMP:20260423T100754
CREATED:20211230T215621Z
LAST-MODIFIED:20211230T215621Z
UID:1654-1644912000-1644944400@americanlutheranchurch.com
SUMMARY:Office Closed
DESCRIPTION:
URL:https://americanlutheranchurch.com/event/office-closed/
LOCATION:American Lutheran Church\, 311 S 4th Ave\, Castlewood\, SD\, 57223\, United States
END:VEVENT
BEGIN:VEVENT
DTSTART;TZID=America/Chicago:20220215T080000
DTEND;TZID=America/Chicago:20220215T170000
DTSTAMP:20260423T100754
CREATED:20211230T215621Z
LAST-MODIFIED:20211230T215621Z
UID:1654-1644912000-1644944400@americanlutheranchurch.com
SUMMARY:Office Closed
DESCRIPTION:
URL:https://americanlutheranchurch.com/event/office-closed/
LOCATION:American Lutheran Church\, 311 S 4th Ave\, Castlewood\, SD\, 57223\, United States
END:VEVENT
BEGIN:VEVENT
DTSTART;TZID=America/Chicago:20220214T080000
DTEND;TZID=America/Chicago:20220214T080000
DTSTAMP:20260423T100754
CREATED:20211230T215442Z
LAST-MODIFIED:20211230T215442Z
UID:1650-1644825600-1644825600@americanlutheranchurch.com
SUMMARY:Pastor Leaves for NALC Theological Conf.
DESCRIPTION:
URL:https://americanlutheranchurch.com/event/pastor-leaves-for-nalc-theological-conf/
LOCATION:American Lutheran Church\, 311 S 4th Ave\, Castlewood\, SD\, 57223\, United States
END:VEVENT
END:VCALENDAR