BEGIN:VCALENDAR
VERSION:2.0
PRODID:-//American Lutheran Church - ECPv6.15.14//NONSGML v1.0//EN
CALSCALE:GREGORIAN
METHOD:PUBLISH
X-WR-CALNAME:American Lutheran Church
X-ORIGINAL-URL:https://americanlutheranchurch.com
X-WR-CALDESC:Events for American Lutheran Church
REFRESH-INTERVAL;VALUE=DURATION:PT1H
X-Robots-Tag:noindex
X-PUBLISHED-TTL:PT1H
BEGIN:VTIMEZONE
TZID:America/Chicago
BEGIN:DAYLIGHT
TZOFFSETFROM:-0600
TZOFFSETTO:-0500
TZNAME:CDT
DTSTART:20210314T080000
END:DAYLIGHT
BEGIN:STANDARD
TZOFFSETFROM:-0500
TZOFFSETTO:-0600
TZNAME:CST
DTSTART:20211107T070000
END:STANDARD
BEGIN:DAYLIGHT
TZOFFSETFROM:-0600
TZOFFSETTO:-0500
TZNAME:CDT
DTSTART:20220313T080000
END:DAYLIGHT
BEGIN:STANDARD
TZOFFSETFROM:-0500
TZOFFSETTO:-0600
TZNAME:CST
DTSTART:20221106T070000
END:STANDARD
BEGIN:DAYLIGHT
TZOFFSETFROM:-0600
TZOFFSETTO:-0500
TZNAME:CDT
DTSTART:20230312T080000
END:DAYLIGHT
BEGIN:STANDARD
TZOFFSETFROM:-0500
TZOFFSETTO:-0600
TZNAME:CST
DTSTART:20231105T070000
END:STANDARD
BEGIN:DAYLIGHT
TZOFFSETFROM:-0600
TZOFFSETTO:-0500
TZNAME:CDT
DTSTART:20240310T080000
END:DAYLIGHT
BEGIN:STANDARD
TZOFFSETFROM:-0500
TZOFFSETTO:-0600
TZNAME:CST
DTSTART:20241103T070000
END:STANDARD
END:VTIMEZONE
BEGIN:VEVENT
DTSTART;TZID=America/Chicago:20230104T171500
DTEND;TZID=America/Chicago:20230104T171500
DTSTAMP:20260423T004016
CREATED:20221220T205714Z
LAST-MODIFIED:20221220T205714Z
UID:2436-1672852500-1672852500@americanlutheranchurch.com
SUMMARY:5:15 Confirmation
DESCRIPTION:
URL:https://americanlutheranchurch.com/event/515-confirmation-5/
LOCATION:American Lutheran Church\, 311 S 4th Ave\, Castlewood\, SD\, 57223\, United States
END:VEVENT
BEGIN:VEVENT
DTSTART;TZID=America/Chicago:20221030T100000
DTEND;TZID=America/Chicago:20221030T110000
DTSTAMP:20260423T004016
CREATED:20221028T203930Z
LAST-MODIFIED:20230323T201545Z
UID:2333-1667124000-1667127600@americanlutheranchurch.com
SUMMARY:10:00 Fellowship
DESCRIPTION:
URL:https://americanlutheranchurch.com/event/1000-am-fellowship/
LOCATION:American Lutheran Church\, 311 S 4th Ave\, Castlewood\, SD\, 57223\, United States
END:VEVENT
BEGIN:VEVENT
DTSTART;TZID=America/Chicago:20221228T080000
DTEND;TZID=America/Chicago:20221228T170000
DTSTAMP:20260423T004016
CREATED:20221129T193618Z
LAST-MODIFIED:20221129T193618Z
UID:2395-1672214400-1672246800@americanlutheranchurch.com
SUMMARY:No Wed. Activities-Christmas Break
DESCRIPTION:
URL:https://americanlutheranchurch.com/event/no-wed-activities-christmas-break/
LOCATION:American Lutheran Church\, 311 S 4th Ave\, Castlewood\, SD\, 57223\, United States
END:VEVENT
BEGIN:VEVENT
DTSTART;TZID=America/Chicago:20221225T090000
DTEND;TZID=America/Chicago:20221225T100000
DTSTAMP:20260423T004016
CREATED:20221129T195325Z
LAST-MODIFIED:20221129T195325Z
UID:2414-1671958800-1671962400@americanlutheranchurch.com
SUMMARY:9:00 Christmas Worship
DESCRIPTION:
URL:https://americanlutheranchurch.com/event/900-christmas-worship/
LOCATION:American Lutheran Church\, 311 S 4th Ave\, Castlewood\, SD\, 57223\, United States
END:VEVENT
BEGIN:VEVENT
DTSTART;TZID=America/Chicago:20221224T080000
DTEND;TZID=America/Chicago:20221224T170000
DTSTAMP:20260423T004016
CREATED:20221129T192443Z
LAST-MODIFIED:20221129T192443Z
UID:2387-1671868800-1671901200@americanlutheranchurch.com
SUMMARY:5:30 Christmas Eve Worship
DESCRIPTION:
URL:https://americanlutheranchurch.com/event/530-christmas-eve-worship/
LOCATION:American Lutheran Church\, 311 S 4th Ave\, Castlewood\, SD\, 57223\, United States
END:VEVENT
BEGIN:VEVENT
DTSTART;TZID=America/Chicago:20221221T080000
DTEND;TZID=America/Chicago:20221221T170000
DTSTAMP:20260423T004016
CREATED:20221129T192242Z
LAST-MODIFIED:20221129T192242Z
UID:2383-1671609600-1671642000@americanlutheranchurch.com
SUMMARY:6:30 Youth Group
DESCRIPTION:
URL:https://americanlutheranchurch.com/event/630-youth-group-3/
LOCATION:American Lutheran Church\, 311 S 4th Ave\, Castlewood\, SD\, 57223\, United States
END:VEVENT
BEGIN:VEVENT
DTSTART;TZID=America/Chicago:20221221T080000
DTEND;TZID=America/Chicago:20221221T170000
DTSTAMP:20260423T004016
CREATED:20221129T192006Z
LAST-MODIFIED:20221129T192037Z
UID:2377-1671609600-1671642000@americanlutheranchurch.com
SUMMARY:5:15 Confirmation
DESCRIPTION:
URL:https://americanlutheranchurch.com/event/515-confirmation-3/
LOCATION:American Lutheran Church\, 311 S 4th Ave\, Castlewood\, SD\, 57223\, United States
END:VEVENT
BEGIN:VEVENT
DTSTART;TZID=America/Chicago:20221218T100000
DTEND;TZID=America/Chicago:20221218T110000
DTSTAMP:20260423T004016
CREATED:20221129T194956Z
LAST-MODIFIED:20221129T194956Z
UID:2406-1671357600-1671361200@americanlutheranchurch.com
SUMMARY:10:00 Christmas Program
DESCRIPTION:
URL:https://americanlutheranchurch.com/event/1000-christmas-program/
LOCATION:American Lutheran Church\, 311 S 4th Ave\, Castlewood\, SD\, 57223\, United States
END:VEVENT
BEGIN:VEVENT
DTSTART;TZID=America/Chicago:20221218T090000
DTEND;TZID=America/Chicago:20221218T090000
DTSTAMP:20260423T004016
CREATED:20221101T172217Z
LAST-MODIFIED:20221129T192849Z
UID:2357-1671354000-1671354000@americanlutheranchurch.com
SUMMARY:9:00 Sunday School (hour earlier)
DESCRIPTION:
URL:https://americanlutheranchurch.com/event/900-sunday-school-hour-earlier/
LOCATION:American Lutheran Church\, 311 S 4th Ave\, Castlewood\, SD\, 57223\, United States
END:VEVENT
BEGIN:VEVENT
DTSTART;TZID=America/Chicago:20221217T080000
DTEND;TZID=America/Chicago:20221217T170000
DTSTAMP:20260423T004016
CREATED:20221129T192323Z
LAST-MODIFIED:20221207T160628Z
UID:2385-1671264000-1671296400@americanlutheranchurch.com
SUMMARY:9:30 SS Program Practice
DESCRIPTION:
URL:https://americanlutheranchurch.com/event/ss-program-practice-tba/
LOCATION:American Lutheran Church\, 311 S 4th Ave\, Castlewood\, SD\, 57223\, United States
END:VEVENT
BEGIN:VEVENT
DTSTART;TZID=America/Chicago:20221214T190000
DTEND;TZID=America/Chicago:20221214T200000
DTSTAMP:20260423T004016
CREATED:20221129T192620Z
LAST-MODIFIED:20221129T195829Z
UID:2391-1671044400-1671048000@americanlutheranchurch.com
SUMMARY:7:00 Adult Study
DESCRIPTION:
URL:https://americanlutheranchurch.com/event/700-adult-study/
LOCATION:American Lutheran Church\, 311 S 4th Ave\, Castlewood\, SD\, 57223\, United States
END:VEVENT
BEGIN:VEVENT
DTSTART;TZID=America/Chicago:20221214T171500
DTEND;TZID=America/Chicago:20221214T180000
DTSTAMP:20260423T004016
CREATED:20221129T192129Z
LAST-MODIFIED:20221129T195722Z
UID:2379-1671038100-1671040800@americanlutheranchurch.com
SUMMARY:5:15 Confirmation
DESCRIPTION:
URL:https://americanlutheranchurch.com/event/515-confirmation-4/
LOCATION:American Lutheran Church\, 311 S 4th Ave\, Castlewood\, SD\, 57223\, United States
END:VEVENT
BEGIN:VEVENT
DTSTART;TZID=America/Chicago:20221214T080000
DTEND;TZID=America/Chicago:20221214T170000
DTSTAMP:20260423T004016
CREATED:20221129T192553Z
LAST-MODIFIED:20221129T192553Z
UID:2389-1671004800-1671037200@americanlutheranchurch.com
SUMMARY:2:00 Adult Study at Asst. Living
DESCRIPTION:
URL:https://americanlutheranchurch.com/event/200-adult-study-at-asst-living-3/
LOCATION:American Lutheran Church\, 311 S 4th Ave\, Castlewood\, SD\, 57223\, United States
END:VEVENT
BEGIN:VEVENT
DTSTART;TZID=America/Chicago:20221211T101500
DTEND;TZID=America/Chicago:20221211T113000
DTSTAMP:20260423T004016
CREATED:20221129T191901Z
LAST-MODIFIED:20221129T194321Z
UID:2373-1670753700-1670758200@americanlutheranchurch.com
SUMMARY:10:15 Church Council
DESCRIPTION:
URL:https://americanlutheranchurch.com/event/1015-church-council-4/
LOCATION:American Lutheran Church\, 311 S 4th Ave\, Castlewood\, SD\, 57223\, United States
END:VEVENT
BEGIN:VEVENT
DTSTART;TZID=America/Chicago:20221030T100000
DTEND;TZID=America/Chicago:20221030T110000
DTSTAMP:20260423T004016
CREATED:20221028T203930Z
LAST-MODIFIED:20230323T201545Z
UID:2333-1667124000-1667127600@americanlutheranchurch.com
SUMMARY:10:00 Fellowship
DESCRIPTION:
URL:https://americanlutheranchurch.com/event/1000-am-fellowship/
LOCATION:American Lutheran Church\, 311 S 4th Ave\, Castlewood\, SD\, 57223\, United States
END:VEVENT
BEGIN:VEVENT
DTSTART;TZID=America/Chicago:20221211T080000
DTEND;TZID=America/Chicago:20221211T170000
DTSTAMP:20260423T004016
CREATED:20221129T191810Z
LAST-MODIFIED:20221129T191810Z
UID:2371-1670745600-1670778000@americanlutheranchurch.com
SUMMARY:8:30 Choir Practice
DESCRIPTION:
URL:https://americanlutheranchurch.com/event/830-choir-practice/
LOCATION:American Lutheran Church\, 311 S 4th Ave\, Castlewood\, SD\, 57223\, United States
END:VEVENT
BEGIN:VEVENT
DTSTART;TZID=America/Chicago:20221207T080000
DTEND;TZID=America/Chicago:20221207T170000
DTSTAMP:20260423T004016
CREATED:20221129T192215Z
LAST-MODIFIED:20221129T192215Z
UID:2381-1670400000-1670432400@americanlutheranchurch.com
SUMMARY:6:30 Youth Group
DESCRIPTION:
URL:https://americanlutheranchurch.com/event/630-youth-group-2/
LOCATION:American Lutheran Church\, 311 S 4th Ave\, Castlewood\, SD\, 57223\, United States
END:VEVENT
BEGIN:VEVENT
DTSTART;TZID=America/Chicago:20221207T080000
DTEND;TZID=America/Chicago:20221207T170000
DTSTAMP:20260423T004016
CREATED:20221129T191938Z
LAST-MODIFIED:20221129T191938Z
UID:2375-1670400000-1670432400@americanlutheranchurch.com
SUMMARY:5:15 Confirmation
DESCRIPTION:
URL:https://americanlutheranchurch.com/event/515-confirmation-2/
LOCATION:American Lutheran Church\, 311 S 4th Ave\, Castlewood\, SD\, 57223\, United States
END:VEVENT
BEGIN:VEVENT
DTSTART;TZID=America/Chicago:20221030T100000
DTEND;TZID=America/Chicago:20221030T110000
DTSTAMP:20260423T004016
CREATED:20221028T203930Z
LAST-MODIFIED:20230323T201545Z
UID:2333-1667124000-1667127600@americanlutheranchurch.com
SUMMARY:10:00 Fellowship
DESCRIPTION:
URL:https://americanlutheranchurch.com/event/1000-am-fellowship/
LOCATION:American Lutheran Church\, 311 S 4th Ave\, Castlewood\, SD\, 57223\, United States
END:VEVENT
BEGIN:VEVENT
DTSTART;TZID=America/Chicago:20221204T080000
DTEND;TZID=America/Chicago:20221204T170000
DTSTAMP:20260423T004016
CREATED:20221129T191718Z
LAST-MODIFIED:20221129T191718Z
UID:2369-1670140800-1670173200@americanlutheranchurch.com
SUMMARY:8:30 am Choir Practice
DESCRIPTION:
URL:https://americanlutheranchurch.com/event/830-am-choir-practice/
LOCATION:American Lutheran Church\, 311 S 4th Ave\, Castlewood\, SD\, 57223\, United States
END:VEVENT
BEGIN:VEVENT
DTSTART;TZID=America/Chicago:20221130T190000
DTEND;TZID=America/Chicago:20221130T200000
DTSTAMP:20260423T004016
CREATED:20221026T155836Z
LAST-MODIFIED:20221026T155836Z
UID:2170-1669834800-1669838400@americanlutheranchurch.com
SUMMARY:7:00 pm Adult Study
DESCRIPTION:
URL:https://americanlutheranchurch.com/event/700-pm-adult-study-2/
LOCATION:American Lutheran Church\, 311 S 4th Ave\, Castlewood\, SD\, 57223\, United States
END:VEVENT
BEGIN:VEVENT
DTSTART;TZID=America/Chicago:20221130T140000
DTEND;TZID=America/Chicago:20221130T150000
DTSTAMP:20260423T004016
CREATED:20221026T155713Z
LAST-MODIFIED:20221026T155713Z
UID:2166-1669816800-1669820400@americanlutheranchurch.com
SUMMARY:2:00 pm Adult Study at Asst. Living
DESCRIPTION:
URL:https://americanlutheranchurch.com/event/200-pm-adult-study-at-asst-living-2/
LOCATION:American Lutheran Church\, 311 S 4th Ave\, Castlewood\, SD\, 57223\, United States
END:VEVENT
BEGIN:VEVENT
DTSTART;TZID=America/Chicago:20221130T080000
DTEND;TZID=America/Chicago:20221130T170000
DTSTAMP:20260423T004016
CREATED:20221026T155046Z
LAST-MODIFIED:20221026T155106Z
UID:2160-1669795200-1669827600@americanlutheranchurch.com
SUMMARY:5:15 pm Confirmation
DESCRIPTION:
URL:https://americanlutheranchurch.com/event/515-pm-confirmation-4/
LOCATION:American Lutheran Church\, 311 S 4th Ave\, Castlewood\, SD\, 57223\, United States
END:VEVENT
BEGIN:VEVENT
DTSTART;TZID=America/Chicago:20221030T100000
DTEND;TZID=America/Chicago:20221030T110000
DTSTAMP:20260423T004016
CREATED:20221028T203930Z
LAST-MODIFIED:20230323T201545Z
UID:2333-1667124000-1667127600@americanlutheranchurch.com
SUMMARY:10:00 Fellowship
DESCRIPTION:
URL:https://americanlutheranchurch.com/event/1000-am-fellowship/
LOCATION:American Lutheran Church\, 311 S 4th Ave\, Castlewood\, SD\, 57223\, United States
END:VEVENT
BEGIN:VEVENT
DTSTART;TZID=America/Chicago:20221125T150000
DTEND;TZID=America/Chicago:20221125T160000
DTSTAMP:20260423T004016
CREATED:20221026T161005Z
LAST-MODIFIED:20221026T161005Z
UID:2177-1669388400-1669392000@americanlutheranchurch.com
SUMMARY:3:00 pm Jankord/Wilke Wedding
DESCRIPTION:
URL:https://americanlutheranchurch.com/event/300-pm-jankord-wilke-wedding/
LOCATION:American Lutheran Church\, 311 S 4th Ave\, Castlewood\, SD\, 57223\, United States
END:VEVENT
BEGIN:VEVENT
DTSTART;TZID=America/Chicago:20221123T190000
DTEND;TZID=America/Chicago:20221123T200000
DTSTAMP:20260423T004016
CREATED:20221026T160400Z
LAST-MODIFIED:20221026T160400Z
UID:2175-1669230000-1669233600@americanlutheranchurch.com
SUMMARY:7:00 pm Ministerial Thanksgiving Eve Worship at ALC
DESCRIPTION:
URL:https://americanlutheranchurch.com/event/700-pm-ministerial-thanksgiving-eve-worship-at-alc/
LOCATION:American Lutheran Church\, 311 S 4th Ave\, Castlewood\, SD\, 57223\, United States
END:VEVENT
BEGIN:VEVENT
DTSTART;TZID=America/Chicago:20221120T110000
DTEND;TZID=America/Chicago:20221120T130000
DTSTAMP:20260423T004016
CREATED:20221026T162252Z
LAST-MODIFIED:20221028T203342Z
UID:2180-1668942000-1668949200@americanlutheranchurch.com
SUMMARY:11:00 am Thanksgiving Meal
DESCRIPTION:
URL:https://americanlutheranchurch.com/event/1100-100-alc-thanksgiving-meal/
LOCATION:American Lutheran Church\, 311 S 4th Ave\, Castlewood\, SD\, 57223\, United States
END:VEVENT
BEGIN:VEVENT
DTSTART;TZID=America/Chicago:20221120T100000
DTEND;TZID=America/Chicago:20221120T110000
DTSTAMP:20260423T004016
CREATED:20221028T204839Z
LAST-MODIFIED:20221028T205142Z
UID:2336-1668938400-1668942000@americanlutheranchurch.com
SUMMARY:10:00 Worship (hour later)
DESCRIPTION:
URL:https://americanlutheranchurch.com/event/1000-worship/
LOCATION:American Lutheran Church\, 311 S 4th Ave\, Castlewood\, SD\, 57223\, United States
END:VEVENT
BEGIN:VEVENT
DTSTART;TZID=America/Chicago:20221116T171500
DTEND;TZID=America/Chicago:20221116T181500
DTSTAMP:20260423T004016
CREATED:20221026T160301Z
LAST-MODIFIED:20221026T160301Z
UID:2173-1668618900-1668622500@americanlutheranchurch.com
SUMMARY:5:15 pm Confirmation
DESCRIPTION:
URL:https://americanlutheranchurch.com/event/515-pm-confirmation-5/
LOCATION:American Lutheran Church\, 311 S 4th Ave\, Castlewood\, SD\, 57223\, United States
END:VEVENT
BEGIN:VEVENT
DTSTART;TZID=America/Chicago:20221116T080000
DTEND;TZID=America/Chicago:20221116T170000
DTSTAMP:20260423T004016
CREATED:20221026T154727Z
LAST-MODIFIED:20221026T154727Z
UID:2155-1668585600-1668618000@americanlutheranchurch.com
SUMMARY:6:30 pm Youth Group
DESCRIPTION:
URL:https://americanlutheranchurch.com/event/630-pm-youth-group-2/
LOCATION:American Lutheran Church\, 311 S 4th Ave\, Castlewood\, SD\, 57223\, United States
END:VEVENT
END:VCALENDAR