BEGIN:VCALENDAR
VERSION:2.0
PRODID:-//American Lutheran Church - ECPv6.15.14//NONSGML v1.0//EN
CALSCALE:GREGORIAN
METHOD:PUBLISH
X-WR-CALNAME:American Lutheran Church
X-ORIGINAL-URL:https://americanlutheranchurch.com
X-WR-CALDESC:Events for American Lutheran Church
REFRESH-INTERVAL;VALUE=DURATION:PT1H
X-Robots-Tag:noindex
X-PUBLISHED-TTL:PT1H
BEGIN:VTIMEZONE
TZID:America/Chicago
BEGIN:DAYLIGHT
TZOFFSETFROM:-0600
TZOFFSETTO:-0500
TZNAME:CDT
DTSTART:20210314T080000
END:DAYLIGHT
BEGIN:STANDARD
TZOFFSETFROM:-0500
TZOFFSETTO:-0600
TZNAME:CST
DTSTART:20211107T070000
END:STANDARD
BEGIN:DAYLIGHT
TZOFFSETFROM:-0600
TZOFFSETTO:-0500
TZNAME:CDT
DTSTART:20220313T080000
END:DAYLIGHT
BEGIN:STANDARD
TZOFFSETFROM:-0500
TZOFFSETTO:-0600
TZNAME:CST
DTSTART:20221106T070000
END:STANDARD
BEGIN:DAYLIGHT
TZOFFSETFROM:-0600
TZOFFSETTO:-0500
TZNAME:CDT
DTSTART:20230312T080000
END:DAYLIGHT
BEGIN:STANDARD
TZOFFSETFROM:-0500
TZOFFSETTO:-0600
TZNAME:CST
DTSTART:20231105T070000
END:STANDARD
BEGIN:DAYLIGHT
TZOFFSETFROM:-0600
TZOFFSETTO:-0500
TZNAME:CDT
DTSTART:20240310T080000
END:DAYLIGHT
BEGIN:STANDARD
TZOFFSETFROM:-0500
TZOFFSETTO:-0600
TZNAME:CST
DTSTART:20241103T070000
END:STANDARD
END:VTIMEZONE
BEGIN:VEVENT
DTSTART;TZID=America/Chicago:20221030T100000
DTEND;TZID=America/Chicago:20221030T110000
DTSTAMP:20260422T184429
CREATED:20221028T203930Z
LAST-MODIFIED:20230323T201545Z
UID:2333-1667124000-1667127600@americanlutheranchurch.com
SUMMARY:10:00 Fellowship
DESCRIPTION:
URL:https://americanlutheranchurch.com/event/1000-am-fellowship/
LOCATION:American Lutheran Church\, 311 S 4th Ave\, Castlewood\, SD\, 57223\, United States
END:VEVENT
BEGIN:VEVENT
DTSTART;TZID=America/Chicago:20230316T090000
DTEND;TZID=America/Chicago:20230316T170000
DTSTAMP:20260422T184429
CREATED:20230223T221007Z
LAST-MODIFIED:20230223T221008Z
UID:2577-1678957200-1678986000@americanlutheranchurch.com
SUMMARY:ESD Pastors at Roslyn
DESCRIPTION:
URL:https://americanlutheranchurch.com/event/esd-pastors-at-roslyn/
END:VEVENT
BEGIN:VEVENT
DTSTART;TZID=America/Chicago:20230315T190000
DTEND;TZID=America/Chicago:20230315T193000
DTSTAMP:20260422T184429
CREATED:20230223T220918Z
LAST-MODIFIED:20230223T220919Z
UID:2575-1678906800-1678908600@americanlutheranchurch.com
SUMMARY:7:00 Mid-week Worship
DESCRIPTION:
URL:https://americanlutheranchurch.com/event/700-mid-week-worship-3/
END:VEVENT
BEGIN:VEVENT
DTSTART;TZID=America/Chicago:20230315T181500
DTEND;TZID=America/Chicago:20230315T183000
DTSTAMP:20260422T184429
CREATED:20230223T220843Z
LAST-MODIFIED:20230223T220844Z
UID:2573-1678904100-1678905000@americanlutheranchurch.com
SUMMARY:6:15 Fellowship Meal
DESCRIPTION:
URL:https://americanlutheranchurch.com/event/615-fellowship-meal-3/
END:VEVENT
BEGIN:VEVENT
DTSTART;TZID=America/Chicago:20230312T101500
DTEND;TZID=America/Chicago:20230312T170000
DTSTAMP:20260422T184429
CREATED:20230223T220539Z
LAST-MODIFIED:20230223T220540Z
UID:2570-1678616100-1678640400@americanlutheranchurch.com
SUMMARY:10:15 First Communion Inst.  (grades 4-5)
DESCRIPTION:
URL:https://americanlutheranchurch.com/event/1015-first-communion-inst-grades-4-5/
END:VEVENT
BEGIN:VEVENT
DTSTART;TZID=America/Chicago:20230312T100000
DTEND;TZID=America/Chicago:20230312T170000
DTSTAMP:20260422T184429
CREATED:20230223T220400Z
LAST-MODIFIED:20230223T220400Z
UID:2566-1678615200-1678640400@americanlutheranchurch.com
SUMMARY:10:00 Fellowship
DESCRIPTION:
URL:https://americanlutheranchurch.com/event/1000-fellowship-2/
END:VEVENT
BEGIN:VEVENT
DTSTART;TZID=America/Chicago:20221030T100000
DTEND;TZID=America/Chicago:20221030T110000
DTSTAMP:20260422T184429
CREATED:20221028T203930Z
LAST-MODIFIED:20230323T201545Z
UID:2333-1667124000-1667127600@americanlutheranchurch.com
SUMMARY:10:00 Fellowship
DESCRIPTION:
URL:https://americanlutheranchurch.com/event/1000-am-fellowship/
LOCATION:American Lutheran Church\, 311 S 4th Ave\, Castlewood\, SD\, 57223\, United States
END:VEVENT
BEGIN:VEVENT
DTSTART;TZID=America/Chicago:20230308T194500
DTEND;TZID=America/Chicago:20230308T201500
DTSTAMP:20260422T184429
CREATED:20230223T220236Z
LAST-MODIFIED:20230223T220237Z
UID:2562-1678304700-1678306500@americanlutheranchurch.com
SUMMARY:7:45 Youth Group
DESCRIPTION:
URL:https://americanlutheranchurch.com/event/745-youth-group/
END:VEVENT
BEGIN:VEVENT
DTSTART;TZID=America/Chicago:20230308T190000
DTEND;TZID=America/Chicago:20230308T193000
DTSTAMP:20260422T184429
CREATED:20230223T220159Z
LAST-MODIFIED:20230223T220159Z
UID:2560-1678302000-1678303800@americanlutheranchurch.com
SUMMARY:7:00 Mid-week Worship
DESCRIPTION:
URL:https://americanlutheranchurch.com/event/700-mid-week-worship-2/
END:VEVENT
BEGIN:VEVENT
DTSTART;TZID=America/Chicago:20230308T181500
DTEND;TZID=America/Chicago:20230308T183000
DTSTAMP:20260422T184429
CREATED:20230223T220114Z
LAST-MODIFIED:20230223T220115Z
UID:2558-1678299300-1678300200@americanlutheranchurch.com
SUMMARY:6:15 Fellowship Meal
DESCRIPTION:
URL:https://americanlutheranchurch.com/event/615-fellowship-meal-2/
END:VEVENT
BEGIN:VEVENT
DTSTART;TZID=America/Chicago:20230305T100000
DTEND;TZID=America/Chicago:20230305T170000
DTSTAMP:20260422T184429
CREATED:20230223T215549Z
LAST-MODIFIED:20230223T215550Z
UID:2548-1678010400-1678035600@americanlutheranchurch.com
SUMMARY:10:00 Fellowship
DESCRIPTION:
URL:https://americanlutheranchurch.com/event/1000-fellowship/
END:VEVENT
BEGIN:VEVENT
DTSTART;TZID=America/Chicago:20221030T100000
DTEND;TZID=America/Chicago:20221030T110000
DTSTAMP:20260422T184429
CREATED:20221028T203930Z
LAST-MODIFIED:20230323T201545Z
UID:2333-1667124000-1667127600@americanlutheranchurch.com
SUMMARY:10:00 Fellowship
DESCRIPTION:
URL:https://americanlutheranchurch.com/event/1000-am-fellowship/
LOCATION:American Lutheran Church\, 311 S 4th Ave\, Castlewood\, SD\, 57223\, United States
END:VEVENT
BEGIN:VEVENT
DTSTART;TZID=America/Chicago:20230305T090000
DTEND;TZID=America/Chicago:20230305T100000
DTSTAMP:20260422T184429
CREATED:20230223T215428Z
LAST-MODIFIED:20230223T215429Z
UID:2546-1678006800-1678010400@americanlutheranchurch.com
SUMMARY:9:00 Worship with Holy Communion & Installation of Church Council
DESCRIPTION:
URL:https://americanlutheranchurch.com/event/900-worship-with-holy-communion-installation-of-church-council/
END:VEVENT
BEGIN:VEVENT
DTSTART;TZID=America/Chicago:20230301T194500
DTEND;TZID=America/Chicago:20230301T201500
DTSTAMP:20260422T184429
CREATED:20230223T220016Z
LAST-MODIFIED:20230223T220017Z
UID:2556-1677699900-1677701700@americanlutheranchurch.com
SUMMARY:7:45 Confirmation Test Make-up
DESCRIPTION:
URL:https://americanlutheranchurch.com/event/745-confirmation-test-make-up/
END:VEVENT
BEGIN:VEVENT
DTSTART;TZID=America/Chicago:20230301T190000
DTEND;TZID=America/Chicago:20230301T193000
DTSTAMP:20260422T184429
CREATED:20230223T215928Z
LAST-MODIFIED:20230223T215929Z
UID:2554-1677697200-1677699000@americanlutheranchurch.com
SUMMARY:7:00 Mid-week Worship
DESCRIPTION:
URL:https://americanlutheranchurch.com/event/700-mid-week-worship/
END:VEVENT
BEGIN:VEVENT
DTSTART;TZID=America/Chicago:20230301T181500
DTEND;TZID=America/Chicago:20230301T183000
DTSTAMP:20260422T184429
CREATED:20230223T215831Z
LAST-MODIFIED:20230223T215832Z
UID:2552-1677694500-1677695400@americanlutheranchurch.com
SUMMARY:6:15 Fellowship Meal
DESCRIPTION:
URL:https://americanlutheranchurch.com/event/615-fellowship-meal/
END:VEVENT
BEGIN:VEVENT
DTSTART;TZID=America/Chicago:20221030T100000
DTEND;TZID=America/Chicago:20221030T110000
DTSTAMP:20260422T184429
CREATED:20221028T203930Z
LAST-MODIFIED:20230323T201545Z
UID:2333-1667124000-1667127600@americanlutheranchurch.com
SUMMARY:10:00 Fellowship
DESCRIPTION:
URL:https://americanlutheranchurch.com/event/1000-am-fellowship/
LOCATION:American Lutheran Church\, 311 S 4th Ave\, Castlewood\, SD\, 57223\, United States
END:VEVENT
BEGIN:VEVENT
DTSTART;TZID=America/Chicago:20230222T190000
DTEND;TZID=America/Chicago:20230222T200000
DTSTAMP:20260422T184429
CREATED:20230126T222658Z
LAST-MODIFIED:20230126T222658Z
UID:2512-1677092400-1677096000@americanlutheranchurch.com
SUMMARY:7:00 Ash Wednesday Worship
DESCRIPTION:
URL:https://americanlutheranchurch.com/event/700-ash-wednesday-worship/
LOCATION:American Lutheran Church\, 311 S 4th Ave\, Castlewood\, SD\, 57223\, United States
END:VEVENT
BEGIN:VEVENT
DTSTART;TZID=America/Chicago:20230222T181500
DTEND;TZID=America/Chicago:20230222T184500
DTSTAMP:20260422T184429
CREATED:20230126T222608Z
LAST-MODIFIED:20230126T222609Z
UID:2510-1677089700-1677091500@americanlutheranchurch.com
SUMMARY:6:15-6:45 Lenten Supper
DESCRIPTION:
URL:https://americanlutheranchurch.com/event/615-645-lenten-supper/
LOCATION:American Lutheran Church\, 311 S 4th Ave\, Castlewood\, SD\, 57223\, United States
END:VEVENT
BEGIN:VEVENT
DTSTART;TZID=America/Chicago:20230219T101500
DTEND;TZID=America/Chicago:20230219T110000
DTSTAMP:20260422T184429
CREATED:20230126T222438Z
LAST-MODIFIED:20230126T222439Z
UID:2508-1676801700-1676804400@americanlutheranchurch.com
SUMMARY:10:15 Church Council
DESCRIPTION:
URL:https://americanlutheranchurch.com/event/1015-church-council-6/
LOCATION:American Lutheran Church\, 311 S 4th Ave\, Castlewood\, SD\, 57223\, United States
END:VEVENT
BEGIN:VEVENT
DTSTART;TZID=America/Chicago:20221030T100000
DTEND;TZID=America/Chicago:20221030T110000
DTSTAMP:20260422T184429
CREATED:20221028T203930Z
LAST-MODIFIED:20230323T201545Z
UID:2333-1667124000-1667127600@americanlutheranchurch.com
SUMMARY:10:00 Fellowship
DESCRIPTION:
URL:https://americanlutheranchurch.com/event/1000-am-fellowship/
LOCATION:American Lutheran Church\, 311 S 4th Ave\, Castlewood\, SD\, 57223\, United States
END:VEVENT
BEGIN:VEVENT
DTSTART;TZID=America/Chicago:20230216T090000
DTEND;TZID=America/Chicago:20230216T140000
DTSTAMP:20260422T184429
CREATED:20230126T221958Z
LAST-MODIFIED:20230126T221959Z
UID:2501-1676538000-1676556000@americanlutheranchurch.com
SUMMARY:ESD Pastors at ALC
DESCRIPTION:
URL:https://americanlutheranchurch.com/event/esd-pastors-at-alc/
LOCATION:American Lutheran Church\, 311 S 4th Ave\, Castlewood\, SD\, 57223\, United States
END:VEVENT
BEGIN:VEVENT
DTSTART;TZID=America/Chicago:20230215T183000
DTEND;TZID=America/Chicago:20230215T200000
DTSTAMP:20260422T184429
CREATED:20230126T221844Z
LAST-MODIFIED:20230126T222111Z
UID:2499-1676485800-1676491200@americanlutheranchurch.com
SUMMARY:6:30 Youth Group Meal/Bible Trivia
DESCRIPTION:
URL:https://americanlutheranchurch.com/event/youth-group-meal-bible-trivia/
LOCATION:American Lutheran Church\, 311 S 4th Ave\, Castlewood\, SD\, 57223\, United States
END:VEVENT
BEGIN:VEVENT
DTSTART;TZID=America/Chicago:20230104T171500
DTEND;TZID=America/Chicago:20230104T171500
DTSTAMP:20260422T184429
CREATED:20221220T205714Z
LAST-MODIFIED:20221220T205714Z
UID:2436-1672852500-1672852500@americanlutheranchurch.com
SUMMARY:5:15 Confirmation
DESCRIPTION:
URL:https://americanlutheranchurch.com/event/515-confirmation-5/
LOCATION:American Lutheran Church\, 311 S 4th Ave\, Castlewood\, SD\, 57223\, United States
END:VEVENT
BEGIN:VEVENT
DTSTART;TZID=America/Chicago:20221030T100000
DTEND;TZID=America/Chicago:20221030T110000
DTSTAMP:20260422T184429
CREATED:20221028T203930Z
LAST-MODIFIED:20230323T201545Z
UID:2333-1667124000-1667127600@americanlutheranchurch.com
SUMMARY:10:00 Fellowship
DESCRIPTION:
URL:https://americanlutheranchurch.com/event/1000-am-fellowship/
LOCATION:American Lutheran Church\, 311 S 4th Ave\, Castlewood\, SD\, 57223\, United States
END:VEVENT
BEGIN:VEVENT
DTSTART;TZID=America/Chicago:20230208T190000
DTEND;TZID=America/Chicago:20230208T200000
DTSTAMP:20260422T184429
CREATED:20230126T222349Z
LAST-MODIFIED:20230126T222349Z
UID:2506-1675882800-1675886400@americanlutheranchurch.com
SUMMARY:7:00 Adult Study
DESCRIPTION:
URL:https://americanlutheranchurch.com/event/700-adult-study-2/
LOCATION:American Lutheran Church\, 311 S 4th Ave\, Castlewood\, SD\, 57223\, United States
END:VEVENT
BEGIN:VEVENT
DTSTART;TZID=America/Chicago:20230104T171500
DTEND;TZID=America/Chicago:20230104T171500
DTSTAMP:20260422T184429
CREATED:20221220T205714Z
LAST-MODIFIED:20221220T205714Z
UID:2436-1672852500-1672852500@americanlutheranchurch.com
SUMMARY:5:15 Confirmation
DESCRIPTION:
URL:https://americanlutheranchurch.com/event/515-confirmation-5/
LOCATION:American Lutheran Church\, 311 S 4th Ave\, Castlewood\, SD\, 57223\, United States
END:VEVENT
BEGIN:VEVENT
DTSTART;TZID=America/Chicago:20230208T140000
DTEND;TZID=America/Chicago:20230208T150000
DTSTAMP:20260422T184429
CREATED:20230126T222243Z
LAST-MODIFIED:20230126T222244Z
UID:2504-1675864800-1675868400@americanlutheranchurch.com
SUMMARY:2:00 Adult Study - Asst. Living
DESCRIPTION:
URL:https://americanlutheranchurch.com/event/200-adult-study-asst-living/
LOCATION:American Lutheran Church\, 311 S 4th Ave\, Castlewood\, SD\, 57223\, United States
END:VEVENT
BEGIN:VEVENT
DTSTART;TZID=America/Chicago:20221030T100000
DTEND;TZID=America/Chicago:20221030T110000
DTSTAMP:20260422T184429
CREATED:20221028T203930Z
LAST-MODIFIED:20230323T201545Z
UID:2333-1667124000-1667127600@americanlutheranchurch.com
SUMMARY:10:00 Fellowship
DESCRIPTION:
URL:https://americanlutheranchurch.com/event/1000-am-fellowship/
LOCATION:American Lutheran Church\, 311 S 4th Ave\, Castlewood\, SD\, 57223\, United States
END:VEVENT
BEGIN:VEVENT
DTSTART;TZID=America/Chicago:20230201T183000
DTEND;TZID=America/Chicago:20230201T193000
DTSTAMP:20260422T184429
CREATED:20230126T221710Z
LAST-MODIFIED:20230126T221711Z
UID:2497-1675276200-1675279800@americanlutheranchurch.com
SUMMARY:6:30 Youth Group
DESCRIPTION:
URL:https://americanlutheranchurch.com/event/630-youth-group-5/
LOCATION:American Lutheran Church\, 311 S 4th Ave\, Castlewood\, SD\, 57223\, United States
END:VEVENT
END:VCALENDAR