BEGIN:VCALENDAR
VERSION:2.0
PRODID:-//American Lutheran Church - ECPv6.15.14//NONSGML v1.0//EN
CALSCALE:GREGORIAN
METHOD:PUBLISH
X-WR-CALNAME:American Lutheran Church
X-ORIGINAL-URL:https://americanlutheranchurch.com
X-WR-CALDESC:Events for American Lutheran Church
REFRESH-INTERVAL;VALUE=DURATION:PT1H
X-Robots-Tag:noindex
X-PUBLISHED-TTL:PT1H
BEGIN:VTIMEZONE
TZID:America/Chicago
BEGIN:DAYLIGHT
TZOFFSETFROM:-0600
TZOFFSETTO:-0500
TZNAME:CDT
DTSTART:20210314T080000
END:DAYLIGHT
BEGIN:STANDARD
TZOFFSETFROM:-0500
TZOFFSETTO:-0600
TZNAME:CST
DTSTART:20211107T070000
END:STANDARD
BEGIN:DAYLIGHT
TZOFFSETFROM:-0600
TZOFFSETTO:-0500
TZNAME:CDT
DTSTART:20220313T080000
END:DAYLIGHT
BEGIN:STANDARD
TZOFFSETFROM:-0500
TZOFFSETTO:-0600
TZNAME:CST
DTSTART:20221106T070000
END:STANDARD
BEGIN:DAYLIGHT
TZOFFSETFROM:-0600
TZOFFSETTO:-0500
TZNAME:CDT
DTSTART:20230312T080000
END:DAYLIGHT
BEGIN:STANDARD
TZOFFSETFROM:-0500
TZOFFSETTO:-0600
TZNAME:CST
DTSTART:20231105T070000
END:STANDARD
BEGIN:DAYLIGHT
TZOFFSETFROM:-0600
TZOFFSETTO:-0500
TZNAME:CDT
DTSTART:20240310T080000
END:DAYLIGHT
BEGIN:STANDARD
TZOFFSETFROM:-0500
TZOFFSETTO:-0600
TZNAME:CST
DTSTART:20241103T070000
END:STANDARD
END:VTIMEZONE
BEGIN:VEVENT
DTSTART;TZID=America/Chicago:20230430T090000
DTEND;TZID=America/Chicago:20230430T170000
DTSTAMP:20260422T140554
CREATED:20230323T195758Z
LAST-MODIFIED:20230323T195759Z
UID:2664-1682845200-1682874000@americanlutheranchurch.com
SUMMARY:9:00 Worship
DESCRIPTION:
URL:https://americanlutheranchurch.com/event/900-worship/
LOCATION:American Lutheran Church\, 311 S 4th Ave\, Castlewood\, SD\, 57223\, United States
END:VEVENT
BEGIN:VEVENT
DTSTART;TZID=America/Chicago:20230514T083000
DTEND;TZID=America/Chicago:20230514T170000
DTSTAMP:20260422T140554
CREATED:20230420T175605Z
LAST-MODIFIED:20230420T175606Z
UID:2729-1684053000-1684083600@americanlutheranchurch.com
SUMMARY:8:30 Choir Practice
DESCRIPTION:
URL:https://americanlutheranchurch.com/event/830-choir-practice-3/
LOCATION:American Lutheran Church\, 311 S 4th Ave\, Castlewood\, SD\, 57223\, United States
END:VEVENT
BEGIN:VEVENT
DTSTART;TZID=America/Chicago:20230510T190000
DTEND;TZID=America/Chicago:20230510T193000
DTSTAMP:20260422T140554
CREATED:20230420T163634Z
LAST-MODIFIED:20230420T163635Z
UID:2713-1683745200-1683747000@americanlutheranchurch.com
SUMMARY:7:00 Baccalaureate at H.S.
DESCRIPTION:
URL:https://americanlutheranchurch.com/event/700-baccalaureate-at-h-s/
LOCATION:American Lutheran Church\, 311 S 4th Ave\, Castlewood\, SD\, 57223\, United States
END:VEVENT
BEGIN:VEVENT
DTSTART;TZID=America/Chicago:20230423T101500
DTEND;TZID=America/Chicago:20230423T170000
DTSTAMP:20260422T140554
CREATED:20230420T170211Z
LAST-MODIFIED:20230421T171109Z
UID:2722-1682244900-1682269200@americanlutheranchurch.com
SUMMARY:10:15 Sunday School
DESCRIPTION:
URL:https://americanlutheranchurch.com/event/1015-sunday-school/
LOCATION:American Lutheran Church\, 311 S 4th Ave\, Castlewood\, SD\, 57223\, United States
END:VEVENT
BEGIN:VEVENT
DTSTART;TZID=America/Chicago:20221030T100000
DTEND;TZID=America/Chicago:20221030T110000
DTSTAMP:20260422T140554
CREATED:20221028T203930Z
LAST-MODIFIED:20230323T201545Z
UID:2333-1667124000-1667127600@americanlutheranchurch.com
SUMMARY:10:00 Fellowship
DESCRIPTION:
URL:https://americanlutheranchurch.com/event/1000-am-fellowship/
LOCATION:American Lutheran Church\, 311 S 4th Ave\, Castlewood\, SD\, 57223\, United States
END:VEVENT
BEGIN:VEVENT
DTSTART;TZID=America/Chicago:20230507T090000
DTEND;TZID=America/Chicago:20230507T170000
DTSTAMP:20260422T140554
CREATED:20230420T163503Z
LAST-MODIFIED:20230420T163504Z
UID:2711-1683450000-1683478800@americanlutheranchurch.com
SUMMARY:9:00 Worship/Sr. Recognition
DESCRIPTION:
URL:https://americanlutheranchurch.com/event/900-worship-2/
LOCATION:American Lutheran Church\, 311 S 4th Ave\, Castlewood\, SD\, 57223\, United States
END:VEVENT
BEGIN:VEVENT
DTSTART;TZID=America/Chicago:20230430T090000
DTEND;TZID=America/Chicago:20230430T170000
DTSTAMP:20260422T140554
CREATED:20230323T195758Z
LAST-MODIFIED:20230323T195759Z
UID:2664-1682845200-1682874000@americanlutheranchurch.com
SUMMARY:9:00 Worship
DESCRIPTION:
URL:https://americanlutheranchurch.com/event/900-worship/
LOCATION:American Lutheran Church\, 311 S 4th Ave\, Castlewood\, SD\, 57223\, United States
END:VEVENT
BEGIN:VEVENT
DTSTART;TZID=America/Chicago:20230507T083000
DTEND;TZID=America/Chicago:20230507T170000
DTSTAMP:20260422T140554
CREATED:20230420T175528Z
LAST-MODIFIED:20230420T175528Z
UID:2727-1683448200-1683478800@americanlutheranchurch.com
SUMMARY:8:30 Choir Practice
DESCRIPTION:
URL:https://americanlutheranchurch.com/event/830-choir-practice-2/
LOCATION:American Lutheran Church\, 311 S 4th Ave\, Castlewood\, SD\, 57223\, United States
END:VEVENT
BEGIN:VEVENT
DTSTART;TZID=America/Chicago:20230423T101500
DTEND;TZID=America/Chicago:20230423T170000
DTSTAMP:20260422T140554
CREATED:20230420T170211Z
LAST-MODIFIED:20230421T171109Z
UID:2722-1682244900-1682269200@americanlutheranchurch.com
SUMMARY:10:15 Sunday School
DESCRIPTION:
URL:https://americanlutheranchurch.com/event/1015-sunday-school/
LOCATION:American Lutheran Church\, 311 S 4th Ave\, Castlewood\, SD\, 57223\, United States
END:VEVENT
BEGIN:VEVENT
DTSTART;TZID=America/Chicago:20230430T101500
DTEND;TZID=America/Chicago:20230430T170000
DTSTAMP:20260422T140554
CREATED:20230420T164742Z
LAST-MODIFIED:20230420T164936Z
UID:2717-1682849700-1682874000@americanlutheranchurch.com
SUMMARY:10:15 Church Council
DESCRIPTION:
URL:https://americanlutheranchurch.com/event/church-council-3/
LOCATION:American Lutheran Church\, 311 S 4th Ave\, Castlewood\, SD\, 57223\, United States
END:VEVENT
BEGIN:VEVENT
DTSTART;TZID=America/Chicago:20221030T100000
DTEND;TZID=America/Chicago:20221030T110000
DTSTAMP:20260422T140554
CREATED:20221028T203930Z
LAST-MODIFIED:20230323T201545Z
UID:2333-1667124000-1667127600@americanlutheranchurch.com
SUMMARY:10:00 Fellowship
DESCRIPTION:
URL:https://americanlutheranchurch.com/event/1000-am-fellowship/
LOCATION:American Lutheran Church\, 311 S 4th Ave\, Castlewood\, SD\, 57223\, United States
END:VEVENT
BEGIN:VEVENT
DTSTART;TZID=America/Chicago:20230430T090000
DTEND;TZID=America/Chicago:20230430T170000
DTSTAMP:20260422T140554
CREATED:20230323T195758Z
LAST-MODIFIED:20230323T195759Z
UID:2664-1682845200-1682874000@americanlutheranchurch.com
SUMMARY:9:00 Worship
DESCRIPTION:
URL:https://americanlutheranchurch.com/event/900-worship/
LOCATION:American Lutheran Church\, 311 S 4th Ave\, Castlewood\, SD\, 57223\, United States
END:VEVENT
BEGIN:VEVENT
DTSTART;TZID=America/Chicago:20230423T101500
DTEND;TZID=America/Chicago:20230423T170000
DTSTAMP:20260422T140554
CREATED:20230420T170211Z
LAST-MODIFIED:20230421T171109Z
UID:2722-1682244900-1682269200@americanlutheranchurch.com
SUMMARY:10:15 Sunday School
DESCRIPTION:
URL:https://americanlutheranchurch.com/event/1015-sunday-school/
LOCATION:American Lutheran Church\, 311 S 4th Ave\, Castlewood\, SD\, 57223\, United States
END:VEVENT
BEGIN:VEVENT
DTSTART;TZID=America/Chicago:20221030T100000
DTEND;TZID=America/Chicago:20221030T110000
DTSTAMP:20260422T140554
CREATED:20221028T203930Z
LAST-MODIFIED:20230323T201545Z
UID:2333-1667124000-1667127600@americanlutheranchurch.com
SUMMARY:10:00 Fellowship
DESCRIPTION:
URL:https://americanlutheranchurch.com/event/1000-am-fellowship/
LOCATION:American Lutheran Church\, 311 S 4th Ave\, Castlewood\, SD\, 57223\, United States
END:VEVENT
BEGIN:VEVENT
DTSTART;TZID=America/Chicago:20230423T090000
DTEND;TZID=America/Chicago:20230423T170000
DTSTAMP:20260422T140554
CREATED:20230420T170311Z
LAST-MODIFIED:20230420T170312Z
UID:2725-1682240400-1682269200@americanlutheranchurch.com
SUMMARY:9:00 Worship
DESCRIPTION:
URL:https://americanlutheranchurch.com/event/900-worship-3/
LOCATION:American Lutheran Church\, 311 S 4th Ave\, Castlewood\, SD\, 57223\, United States
END:VEVENT
BEGIN:VEVENT
DTSTART;TZID=America/Chicago:20230419T080000
DTEND;TZID=America/Chicago:20230419T170000
DTSTAMP:20260422T140554
CREATED:20230412T200916Z
LAST-MODIFIED:20230412T200917Z
UID:2701-1681891200-1681923600@americanlutheranchurch.com
SUMMARY:6:30 Youth Group-Hosting Hayti!
DESCRIPTION:
URL:https://americanlutheranchurch.com/event/630-youth-group-hosting-hayti/
LOCATION:American Lutheran Church\, 311 S 4th Ave\, Castlewood\, SD\, 57223\, United States
END:VEVENT
BEGIN:VEVENT
DTSTART;TZID=America/Chicago:20221030T100000
DTEND;TZID=America/Chicago:20221030T110000
DTSTAMP:20260422T140554
CREATED:20221028T203930Z
LAST-MODIFIED:20230323T201545Z
UID:2333-1667124000-1667127600@americanlutheranchurch.com
SUMMARY:10:00 Fellowship
DESCRIPTION:
URL:https://americanlutheranchurch.com/event/1000-am-fellowship/
LOCATION:American Lutheran Church\, 311 S 4th Ave\, Castlewood\, SD\, 57223\, United States
END:VEVENT
BEGIN:VEVENT
DTSTART;TZID=America/Chicago:20230416T090000
DTEND;TZID=America/Chicago:20230416T170000
DTSTAMP:20260422T140554
CREATED:20230323T195632Z
LAST-MODIFIED:20230323T195633Z
UID:2662-1681635600-1681664400@americanlutheranchurch.com
SUMMARY:9:00 Rite of Confirmation Worship
DESCRIPTION:
URL:https://americanlutheranchurch.com/event/900-rite-of-confirmation-worship/
LOCATION:American Lutheran Church\, 311 S 4th Ave\, Castlewood\, SD\, 57223\, United States
END:VEVENT
BEGIN:VEVENT
DTSTART;TZID=America/Chicago:20230415T160000
DTEND;TZID=America/Chicago:20230415T170000
DTSTAMP:20260422T140554
CREATED:20230323T191742Z
LAST-MODIFIED:20230323T191744Z
UID:2649-1681574400-1681578000@americanlutheranchurch.com
SUMMARY:4:00 Wedding
DESCRIPTION:
URL:https://americanlutheranchurch.com/event/400-wedding/
LOCATION:American Lutheran Church\, 311 S 4th Ave\, Castlewood\, SD\, 57223\, United States
END:VEVENT
BEGIN:VEVENT
DTSTART;TZID=America/Chicago:20230415T083000
DTEND;TZID=America/Chicago:20230415T120000
DTSTAMP:20260422T140554
CREATED:20230323T191612Z
LAST-MODIFIED:20230323T191613Z
UID:2647-1681547400-1681560000@americanlutheranchurch.com
SUMMARY:8:30-12:00 Mission District Convo
DESCRIPTION:
URL:https://americanlutheranchurch.com/event/830-1200-mission-district-convo/
LOCATION:American Lutheran Church\, 311 S 4th Ave\, Castlewood\, SD\, 57223\, United States
END:VEVENT
BEGIN:VEVENT
DTSTART;TZID=America/Chicago:20230414T170000
DTEND;TZID=America/Chicago:20230414T210000
DTSTAMP:20260422T140554
CREATED:20230323T191402Z
LAST-MODIFIED:20230323T191403Z
UID:2645-1681491600-1681506000@americanlutheranchurch.com
SUMMARY:5:00-9:00 Mission District Convo
DESCRIPTION:
URL:https://americanlutheranchurch.com/event/500-900-mission-district-convo/
LOCATION:American Lutheran Church\, 311 S 4th Ave\, Castlewood\, SD\, 57223\, United States
END:VEVENT
BEGIN:VEVENT
DTSTART;TZID=America/Chicago:20230409T090000
DTEND;TZID=America/Chicago:20230409T170000
DTSTAMP:20260422T140554
CREATED:20230323T195924Z
LAST-MODIFIED:20230323T195925Z
UID:2667-1681030800-1681059600@americanlutheranchurch.com
SUMMARY:9:00 Easter Worship
DESCRIPTION:
URL:https://americanlutheranchurch.com/event/900-easter-worship/
LOCATION:American Lutheran Church\, 311 S 4th Ave\, Castlewood\, SD\, 57223\, United States
END:VEVENT
BEGIN:VEVENT
DTSTART;TZID=America/Chicago:20230409T080000
DTEND;TZID=America/Chicago:20230409T170000
DTSTAMP:20260422T140554
CREATED:20230323T192048Z
LAST-MODIFIED:20230323T192049Z
UID:2653-1681027200-1681059600@americanlutheranchurch.com
SUMMARY:8:00 Easter Breakfast
DESCRIPTION:
URL:https://americanlutheranchurch.com/event/800-easter-breakfast/
LOCATION:American Lutheran Church\, 311 S 4th Ave\, Castlewood\, SD\, 57223\, United States
END:VEVENT
BEGIN:VEVENT
DTSTART;TZID=America/Chicago:20230409T070000
DTEND;TZID=America/Chicago:20230409T170000
DTSTAMP:20260422T140554
CREATED:20230323T191925Z
LAST-MODIFIED:20230323T191926Z
UID:2651-1681023600-1681059600@americanlutheranchurch.com
SUMMARY:7:00 Youth Sunrise Worship
DESCRIPTION:
URL:https://americanlutheranchurch.com/event/700-youth-sunrise-worship/
LOCATION:American Lutheran Church\, 311 S 4th Ave\, Castlewood\, SD\, 57223\, United States
END:VEVENT
BEGIN:VEVENT
DTSTART;TZID=America/Chicago:20230407T190000
DTEND;TZID=America/Chicago:20230407T193000
DTSTAMP:20260422T140554
CREATED:20230323T190104Z
LAST-MODIFIED:20230323T190105Z
UID:2639-1680894000-1680895800@americanlutheranchurch.com
SUMMARY:7:00 Good Friday Tenebrae Worship
DESCRIPTION:
URL:https://americanlutheranchurch.com/event/700-good-friday-tenebrae-worship/
LOCATION:American Lutheran Church\, 311 S 4th Ave\, Castlewood\, SD\, 57223\, United States
END:VEVENT
BEGIN:VEVENT
DTSTART;TZID=America/Chicago:20230406T190000
DTEND;TZID=America/Chicago:20230406T193000
DTSTAMP:20260422T140554
CREATED:20230323T185935Z
LAST-MODIFIED:20230323T185936Z
UID:2637-1680807600-1680809400@americanlutheranchurch.com
SUMMARY:7:00 Maundy Thursday Worship
DESCRIPTION:
URL:https://americanlutheranchurch.com/event/700-maundy-thursday-worship/
LOCATION:American Lutheran Church\, 311 S 4th Ave\, Castlewood\, SD\, 57223\, United States
END:VEVENT
BEGIN:VEVENT
DTSTART;TZID=America/Chicago:20230405T183000
DTEND;TZID=America/Chicago:20230405T190000
DTSTAMP:20260422T140554
CREATED:20230323T185821Z
LAST-MODIFIED:20230323T185823Z
UID:2635-1680719400-1680721200@americanlutheranchurch.com
SUMMARY:6:30 pm Youth Group
DESCRIPTION:
URL:https://americanlutheranchurch.com/event/630-pm-youth-group-3/
LOCATION:American Lutheran Church\, 311 S 4th Ave\, Castlewood\, SD\, 57223\, United States
END:VEVENT
BEGIN:VEVENT
DTSTART;TZID=America/Chicago:20221030T100000
DTEND;TZID=America/Chicago:20221030T110000
DTSTAMP:20260422T140554
CREATED:20221028T203930Z
LAST-MODIFIED:20230323T201545Z
UID:2333-1667124000-1667127600@americanlutheranchurch.com
SUMMARY:10:00 Fellowship
DESCRIPTION:
URL:https://americanlutheranchurch.com/event/1000-am-fellowship/
LOCATION:American Lutheran Church\, 311 S 4th Ave\, Castlewood\, SD\, 57223\, United States
END:VEVENT
BEGIN:VEVENT
DTSTART;TZID=America/Chicago:20230402T090000
DTEND;TZID=America/Chicago:20230402T170000
DTSTAMP:20260422T140554
CREATED:20230323T193036Z
LAST-MODIFIED:20230323T193038Z
UID:2658-1680426000-1680454800@americanlutheranchurch.com
SUMMARY:9:00 Palm Sunday Worship
DESCRIPTION:
URL:https://americanlutheranchurch.com/event/900-palm-sunday-worship/
LOCATION:American Lutheran Church\, 311 S 4th Ave\, Castlewood\, SD\, 57223\, United States
END:VEVENT
BEGIN:VEVENT
DTSTART;TZID=America/Chicago:20230329T190000
DTEND;TZID=America/Chicago:20230329T193000
DTSTAMP:20260422T140554
CREATED:20230223T221935Z
LAST-MODIFIED:20230223T221936Z
UID:2601-1680116400-1680118200@americanlutheranchurch.com
SUMMARY:7:00 Mid-week Worship
DESCRIPTION:
URL:https://americanlutheranchurch.com/event/700-mid-week-worship-5/
END:VEVENT
END:VCALENDAR