BEGIN:VCALENDAR
VERSION:2.0
PRODID:-//American Lutheran Church - ECPv6.15.14//NONSGML v1.0//EN
CALSCALE:GREGORIAN
METHOD:PUBLISH
X-WR-CALNAME:American Lutheran Church
X-ORIGINAL-URL:https://americanlutheranchurch.com
X-WR-CALDESC:Events for American Lutheran Church
REFRESH-INTERVAL;VALUE=DURATION:PT1H
X-Robots-Tag:noindex
X-PUBLISHED-TTL:PT1H
BEGIN:VTIMEZONE
TZID:America/Chicago
BEGIN:DAYLIGHT
TZOFFSETFROM:-0600
TZOFFSETTO:-0500
TZNAME:CDT
DTSTART:20210314T080000
END:DAYLIGHT
BEGIN:STANDARD
TZOFFSETFROM:-0500
TZOFFSETTO:-0600
TZNAME:CST
DTSTART:20211107T070000
END:STANDARD
BEGIN:DAYLIGHT
TZOFFSETFROM:-0600
TZOFFSETTO:-0500
TZNAME:CDT
DTSTART:20220313T080000
END:DAYLIGHT
BEGIN:STANDARD
TZOFFSETFROM:-0500
TZOFFSETTO:-0600
TZNAME:CST
DTSTART:20221106T070000
END:STANDARD
BEGIN:DAYLIGHT
TZOFFSETFROM:-0600
TZOFFSETTO:-0500
TZNAME:CDT
DTSTART:20230312T080000
END:DAYLIGHT
BEGIN:STANDARD
TZOFFSETFROM:-0500
TZOFFSETTO:-0600
TZNAME:CST
DTSTART:20231105T070000
END:STANDARD
BEGIN:DAYLIGHT
TZOFFSETFROM:-0600
TZOFFSETTO:-0500
TZNAME:CDT
DTSTART:20240310T080000
END:DAYLIGHT
BEGIN:STANDARD
TZOFFSETFROM:-0500
TZOFFSETTO:-0600
TZNAME:CST
DTSTART:20241103T070000
END:STANDARD
END:VTIMEZONE
BEGIN:VEVENT
DTSTART;TZID=America/Chicago:20230920T183000
DTEND;TZID=America/Chicago:20230920T193000
DTSTAMP:20260422T060836
CREATED:20230823T154809Z
LAST-MODIFIED:20230823T154810Z
UID:2814-1695234600-1695238200@americanlutheranchurch.com
SUMMARY:6:30 Youth Group
DESCRIPTION:
URL:https://americanlutheranchurch.com/event/630-youth-group-6/
END:VEVENT
BEGIN:VEVENT
DTSTART;TZID=America/Chicago:20230920T171500
DTEND;TZID=America/Chicago:20230920T181500
DTSTAMP:20260422T060836
CREATED:20230823T154731Z
LAST-MODIFIED:20230823T154732Z
UID:2812-1695230100-1695233700@americanlutheranchurch.com
SUMMARY:5:15 Confirmation
DESCRIPTION:
URL:https://americanlutheranchurch.com/event/515-confirmation-7/
END:VEVENT
BEGIN:VEVENT
DTSTART;TZID=America/Chicago:20230917T101500
DTEND;TZID=America/Chicago:20230917T170000
DTSTAMP:20260422T060836
CREATED:20230823T154058Z
LAST-MODIFIED:20230823T154059Z
UID:2800-1694945700-1694970000@americanlutheranchurch.com
SUMMARY:10:15 Church Council
DESCRIPTION:
URL:https://americanlutheranchurch.com/event/1015-church-council-10/
END:VEVENT
BEGIN:VEVENT
DTSTART;TZID=America/Chicago:20221030T100000
DTEND;TZID=America/Chicago:20221030T110000
DTSTAMP:20260422T060836
CREATED:20221028T203930Z
LAST-MODIFIED:20230323T201545Z
UID:2333-1667124000-1667127600@americanlutheranchurch.com
SUMMARY:10:00 Fellowship
DESCRIPTION:
URL:https://americanlutheranchurch.com/event/1000-am-fellowship/
LOCATION:American Lutheran Church\, 311 S 4th Ave\, Castlewood\, SD\, 57223\, United States
END:VEVENT
BEGIN:VEVENT
DTSTART;TZID=America/Chicago:20230913T190000
DTEND;TZID=America/Chicago:20230913T200000
DTSTAMP:20260422T060836
CREATED:20230823T154607Z
LAST-MODIFIED:20230823T154608Z
UID:2810-1694631600-1694635200@americanlutheranchurch.com
SUMMARY:7:00 Bible Study
DESCRIPTION:
URL:https://americanlutheranchurch.com/event/700-bible-study/
END:VEVENT
BEGIN:VEVENT
DTSTART;TZID=America/Chicago:20230913T171500
DTEND;TZID=America/Chicago:20230913T181500
DTSTAMP:20260422T060836
CREATED:20230823T154525Z
LAST-MODIFIED:20230823T154526Z
UID:2808-1694625300-1694628900@americanlutheranchurch.com
SUMMARY:5:15 Confirmation
DESCRIPTION:
URL:https://americanlutheranchurch.com/event/515-confirmation-6/
END:VEVENT
BEGIN:VEVENT
DTSTART;TZID=America/Chicago:20230913T153000
DTEND;TZID=America/Chicago:20230913T170000
DTSTAMP:20260422T060836
CREATED:20230823T154426Z
LAST-MODIFIED:20230823T154427Z
UID:2806-1694619000-1694624400@americanlutheranchurch.com
SUMMARY:3:30 Bible Study at Liv. Ctr.
DESCRIPTION:
URL:https://americanlutheranchurch.com/event/330-bible-study-at-liv-ctr/
END:VEVENT
BEGIN:VEVENT
DTSTART;TZID=America/Chicago:20230913T093000
DTEND;TZID=America/Chicago:20230913T103000
DTSTAMP:20260422T060836
CREATED:20230823T154329Z
LAST-MODIFIED:20230912T224829Z
UID:2804-1694597400-1694601000@americanlutheranchurch.com
SUMMARY:9:30 Bible Study
DESCRIPTION:
URL:https://americanlutheranchurch.com/event/930-bible-study/
END:VEVENT
BEGIN:VEVENT
DTSTART;TZID=America/Chicago:20230910T101500
DTEND;TZID=America/Chicago:20230910T170000
DTSTAMP:20260422T060836
CREATED:20230821T184655Z
LAST-MODIFIED:20230821T184656Z
UID:2793-1694340900-1694365200@americanlutheranchurch.com
SUMMARY:10:15 Sunday School
DESCRIPTION:
URL:https://americanlutheranchurch.com/event/1015-sunday-school-2/
END:VEVENT
BEGIN:VEVENT
DTSTART;TZID=America/Chicago:20221030T100000
DTEND;TZID=America/Chicago:20221030T110000
DTSTAMP:20260422T060836
CREATED:20221028T203930Z
LAST-MODIFIED:20230323T201545Z
UID:2333-1667124000-1667127600@americanlutheranchurch.com
SUMMARY:10:00 Fellowship
DESCRIPTION:
URL:https://americanlutheranchurch.com/event/1000-am-fellowship/
LOCATION:American Lutheran Church\, 311 S 4th Ave\, Castlewood\, SD\, 57223\, United States
END:VEVENT
BEGIN:VEVENT
DTSTART;TZID=America/Chicago:20230430T090000
DTEND;TZID=America/Chicago:20230430T170000
DTSTAMP:20260422T060836
CREATED:20230323T195758Z
LAST-MODIFIED:20230323T195759Z
UID:2664-1682845200-1682874000@americanlutheranchurch.com
SUMMARY:9:00 Worship
DESCRIPTION:
URL:https://americanlutheranchurch.com/event/900-worship/
LOCATION:American Lutheran Church\, 311 S 4th Ave\, Castlewood\, SD\, 57223\, United States
END:VEVENT
BEGIN:VEVENT
DTSTART;TZID=America/Chicago:20230910T080000
DTEND;TZID=America/Chicago:20230910T170000
DTSTAMP:20260422T060836
CREATED:20230823T155211Z
LAST-MODIFIED:20230823T155212Z
UID:2824-1694332800-1694365200@americanlutheranchurch.com
SUMMARY:Rally Sunday
DESCRIPTION:
URL:https://americanlutheranchurch.com/event/rally-sunday/
END:VEVENT
BEGIN:VEVENT
DTSTART;TZID=America/Chicago:20230906T080000
DTEND;TZID=America/Chicago:20230906T170000
DTSTAMP:20260422T060836
CREATED:20230823T153929Z
LAST-MODIFIED:20230823T153930Z
UID:2798-1693987200-1694019600@americanlutheranchurch.com
SUMMARY:6:00 Youth Group to Thunder Road
DESCRIPTION:
URL:https://americanlutheranchurch.com/event/600-youth-group-to-thunder-road/
END:VEVENT
BEGIN:VEVENT
DTSTART;TZID=America/Chicago:20221030T100000
DTEND;TZID=America/Chicago:20221030T110000
DTSTAMP:20260422T060836
CREATED:20221028T203930Z
LAST-MODIFIED:20230323T201545Z
UID:2333-1667124000-1667127600@americanlutheranchurch.com
SUMMARY:10:00 Fellowship
DESCRIPTION:
URL:https://americanlutheranchurch.com/event/1000-am-fellowship/
LOCATION:American Lutheran Church\, 311 S 4th Ave\, Castlewood\, SD\, 57223\, United States
END:VEVENT
BEGIN:VEVENT
DTSTART;TZID=America/Chicago:20230430T090000
DTEND;TZID=America/Chicago:20230430T170000
DTSTAMP:20260422T060836
CREATED:20230323T195758Z
LAST-MODIFIED:20230323T195759Z
UID:2664-1682845200-1682874000@americanlutheranchurch.com
SUMMARY:9:00 Worship
DESCRIPTION:
URL:https://americanlutheranchurch.com/event/900-worship/
LOCATION:American Lutheran Church\, 311 S 4th Ave\, Castlewood\, SD\, 57223\, United States
END:VEVENT
BEGIN:VEVENT
DTSTART;TZID=America/Chicago:20230829T080000
DTEND;TZID=America/Chicago:20230829T170000
DTSTAMP:20260422T060836
CREATED:20230828T184305Z
LAST-MODIFIED:20230828T184306Z
UID:2832-1693296000-1693328400@americanlutheranchurch.com
SUMMARY:Pastor's Text Study in Watertown
DESCRIPTION:
URL:https://americanlutheranchurch.com/event/pastors-text-study-in-watertown/
END:VEVENT
BEGIN:VEVENT
DTSTART;TZID=America/Chicago:20221030T100000
DTEND;TZID=America/Chicago:20221030T110000
DTSTAMP:20260422T060836
CREATED:20221028T203930Z
LAST-MODIFIED:20230323T201545Z
UID:2333-1667124000-1667127600@americanlutheranchurch.com
SUMMARY:10:00 Fellowship
DESCRIPTION:
URL:https://americanlutheranchurch.com/event/1000-am-fellowship/
LOCATION:American Lutheran Church\, 311 S 4th Ave\, Castlewood\, SD\, 57223\, United States
END:VEVENT
BEGIN:VEVENT
DTSTART;TZID=America/Chicago:20230430T090000
DTEND;TZID=America/Chicago:20230430T170000
DTSTAMP:20260422T060836
CREATED:20230323T195758Z
LAST-MODIFIED:20230323T195759Z
UID:2664-1682845200-1682874000@americanlutheranchurch.com
SUMMARY:9:00 Worship
DESCRIPTION:
URL:https://americanlutheranchurch.com/event/900-worship/
LOCATION:American Lutheran Church\, 311 S 4th Ave\, Castlewood\, SD\, 57223\, United States
END:VEVENT
BEGIN:VEVENT
DTSTART;TZID=America/Chicago:20221030T100000
DTEND;TZID=America/Chicago:20221030T110000
DTSTAMP:20260422T060836
CREATED:20221028T203930Z
LAST-MODIFIED:20230323T201545Z
UID:2333-1667124000-1667127600@americanlutheranchurch.com
SUMMARY:10:00 Fellowship
DESCRIPTION:
URL:https://americanlutheranchurch.com/event/1000-am-fellowship/
LOCATION:American Lutheran Church\, 311 S 4th Ave\, Castlewood\, SD\, 57223\, United States
END:VEVENT
BEGIN:VEVENT
DTSTART;TZID=America/Chicago:20230430T090000
DTEND;TZID=America/Chicago:20230430T170000
DTSTAMP:20260422T060836
CREATED:20230323T195758Z
LAST-MODIFIED:20230323T195759Z
UID:2664-1682845200-1682874000@americanlutheranchurch.com
SUMMARY:9:00 Worship
DESCRIPTION:
URL:https://americanlutheranchurch.com/event/900-worship/
LOCATION:American Lutheran Church\, 311 S 4th Ave\, Castlewood\, SD\, 57223\, United States
END:VEVENT
BEGIN:VEVENT
DTSTART;TZID=America/Chicago:20230813T114500
DTEND;TZID=America/Chicago:20230813T170000
DTSTAMP:20260422T060836
CREATED:20230727T212655Z
LAST-MODIFIED:20230727T212657Z
UID:2768-1691927100-1691946000@americanlutheranchurch.com
SUMMARY:11:45 Community Potluck Meal at Ballfield
DESCRIPTION:
URL:https://americanlutheranchurch.com/event/1145-community-potluck-meal-at-ballfield/
LOCATION:American Lutheran Church\, 311 S 4th Ave\, Castlewood\, SD\, 57223\, United States
END:VEVENT
BEGIN:VEVENT
DTSTART;TZID=America/Chicago:20230813T110000
DTEND;TZID=America/Chicago:20230813T110000
DTSTAMP:20260422T060836
CREATED:20230727T212601Z
LAST-MODIFIED:20230727T212602Z
UID:2766-1691924400-1691924400@americanlutheranchurch.com
SUMMARY:11:00 am Community Worship at Ballfield
DESCRIPTION:
URL:https://americanlutheranchurch.com/event/1100-am-community-worship-at-ballfield/
LOCATION:American Lutheran Church\, 311 S 4th Ave\, Castlewood\, SD\, 57223\, United States
END:VEVENT
BEGIN:VEVENT
DTSTART;TZID=America/Chicago:20221030T100000
DTEND;TZID=America/Chicago:20221030T110000
DTSTAMP:20260422T060836
CREATED:20221028T203930Z
LAST-MODIFIED:20230323T201545Z
UID:2333-1667124000-1667127600@americanlutheranchurch.com
SUMMARY:10:00 Fellowship
DESCRIPTION:
URL:https://americanlutheranchurch.com/event/1000-am-fellowship/
LOCATION:American Lutheran Church\, 311 S 4th Ave\, Castlewood\, SD\, 57223\, United States
END:VEVENT
BEGIN:VEVENT
DTSTART;TZID=America/Chicago:20230430T090000
DTEND;TZID=America/Chicago:20230430T170000
DTSTAMP:20260422T060836
CREATED:20230323T195758Z
LAST-MODIFIED:20230323T195759Z
UID:2664-1682845200-1682874000@americanlutheranchurch.com
SUMMARY:9:00 Worship
DESCRIPTION:
URL:https://americanlutheranchurch.com/event/900-worship/
LOCATION:American Lutheran Church\, 311 S 4th Ave\, Castlewood\, SD\, 57223\, United States
END:VEVENT
BEGIN:VEVENT
DTSTART;TZID=America/Chicago:20230812T080000
DTEND;TZID=America/Chicago:20230812T170000
DTSTAMP:20260422T060836
CREATED:20230727T212504Z
LAST-MODIFIED:20230727T212505Z
UID:2764-1691827200-1691859600@americanlutheranchurch.com
SUMMARY:7:30-10:30 Pancake Breakfast at Comm. Ctr.
DESCRIPTION:
URL:https://americanlutheranchurch.com/event/730-1030-pancake-breakfast-at-comm-ctr/
LOCATION:American Lutheran Church\, 311 S 4th Ave\, Castlewood\, SD\, 57223\, United States
END:VEVENT
BEGIN:VEVENT
DTSTART;TZID=America/Chicago:20230811T080000
DTEND;TZID=America/Chicago:20230811T170000
DTSTAMP:20260422T060836
CREATED:20230731T150603Z
LAST-MODIFIED:20230731T150604Z
UID:2776-1691740800-1691773200@americanlutheranchurch.com
SUMMARY:NALC Convocation - Oklahoma City
DESCRIPTION:
URL:https://americanlutheranchurch.com/event/nalc-convocation-oklahoma-city-4/
LOCATION:American Lutheran Church\, 311 S 4th Ave\, Castlewood\, SD\, 57223\, United States
END:VEVENT
BEGIN:VEVENT
DTSTART;TZID=America/Chicago:20230810T080000
DTEND;TZID=America/Chicago:20230810T170000
DTSTAMP:20260422T060836
CREATED:20230731T150540Z
LAST-MODIFIED:20230731T150541Z
UID:2774-1691654400-1691686800@americanlutheranchurch.com
SUMMARY:NALC Convocation - Oklahoma City
DESCRIPTION:
URL:https://americanlutheranchurch.com/event/nalc-convocation-oklahoma-city-3/
LOCATION:American Lutheran Church\, 311 S 4th Ave\, Castlewood\, SD\, 57223\, United States
END:VEVENT
BEGIN:VEVENT
DTSTART;TZID=America/Chicago:20230809T080000
DTEND;TZID=America/Chicago:20230809T170000
DTSTAMP:20260422T060836
CREATED:20230731T150405Z
LAST-MODIFIED:20230731T150425Z
UID:2770-1691568000-1691600400@americanlutheranchurch.com
SUMMARY:NALC Convocation - Oklahoma City
DESCRIPTION:
URL:https://americanlutheranchurch.com/event/nalc-convocation-oklahoma-city/
LOCATION:American Lutheran Church\, 311 S 4th Ave\, Castlewood\, SD\, 57223\, United States
END:VEVENT
BEGIN:VEVENT
DTSTART;TZID=America/Chicago:20230808T080000
DTEND;TZID=America/Chicago:20230808T170000
DTSTAMP:20260422T060836
CREATED:20230731T150515Z
LAST-MODIFIED:20230731T150516Z
UID:2772-1691481600-1691514000@americanlutheranchurch.com
SUMMARY:NALC Convocation - Oklahoma City
DESCRIPTION:
URL:https://americanlutheranchurch.com/event/nalc-convocation-oklahoma-city-2/
LOCATION:American Lutheran Church\, 311 S 4th Ave\, Castlewood\, SD\, 57223\, United States
END:VEVENT
BEGIN:VEVENT
DTSTART;TZID=America/Chicago:20230806T101500
DTEND;TZID=America/Chicago:20230806T170000
DTSTAMP:20260422T060836
CREATED:20230614T143222Z
LAST-MODIFIED:20230614T143222Z
UID:2758-1691316900-1691341200@americanlutheranchurch.com
SUMMARY:10:15 Church Council
DESCRIPTION:
URL:https://americanlutheranchurch.com/event/1015-church-council-9/
LOCATION:American Lutheran Church\, 311 S 4th Ave\, Castlewood\, SD\, 57223\, United States
END:VEVENT
END:VCALENDAR