BEGIN:VCALENDAR
VERSION:2.0
PRODID:-//American Lutheran Church - ECPv6.15.14//NONSGML v1.0//EN
CALSCALE:GREGORIAN
METHOD:PUBLISH
X-WR-CALNAME:American Lutheran Church
X-ORIGINAL-URL:https://americanlutheranchurch.com
X-WR-CALDESC:Events for American Lutheran Church
REFRESH-INTERVAL;VALUE=DURATION:PT1H
X-Robots-Tag:noindex
X-PUBLISHED-TTL:PT1H
BEGIN:VTIMEZONE
TZID:America/Chicago
BEGIN:DAYLIGHT
TZOFFSETFROM:-0600
TZOFFSETTO:-0500
TZNAME:CDT
DTSTART:20210314T080000
END:DAYLIGHT
BEGIN:STANDARD
TZOFFSETFROM:-0500
TZOFFSETTO:-0600
TZNAME:CST
DTSTART:20211107T070000
END:STANDARD
BEGIN:DAYLIGHT
TZOFFSETFROM:-0600
TZOFFSETTO:-0500
TZNAME:CDT
DTSTART:20220313T080000
END:DAYLIGHT
BEGIN:STANDARD
TZOFFSETFROM:-0500
TZOFFSETTO:-0600
TZNAME:CST
DTSTART:20221106T070000
END:STANDARD
BEGIN:DAYLIGHT
TZOFFSETFROM:-0600
TZOFFSETTO:-0500
TZNAME:CDT
DTSTART:20230312T080000
END:DAYLIGHT
BEGIN:STANDARD
TZOFFSETFROM:-0500
TZOFFSETTO:-0600
TZNAME:CST
DTSTART:20231105T070000
END:STANDARD
BEGIN:DAYLIGHT
TZOFFSETFROM:-0600
TZOFFSETTO:-0500
TZNAME:CDT
DTSTART:20240310T080000
END:DAYLIGHT
BEGIN:STANDARD
TZOFFSETFROM:-0500
TZOFFSETTO:-0600
TZNAME:CST
DTSTART:20241103T070000
END:STANDARD
END:VTIMEZONE
BEGIN:VEVENT
DTSTART;TZID=America/Chicago:20231018T171500
DTEND;TZID=America/Chicago:20231018T181500
DTSTAMP:20260422T031836
CREATED:20230927T190739Z
LAST-MODIFIED:20230927T190740Z
UID:2874-1697649300-1697652900@americanlutheranchurch.com
SUMMARY:5:15 Confirmation
DESCRIPTION:
URL:https://americanlutheranchurch.com/event/515-confirmation-11/
END:VEVENT
BEGIN:VEVENT
DTSTART;TZID=America/Chicago:20231015T101500
DTEND;TZID=America/Chicago:20231015T111500
DTSTAMP:20260422T031836
CREATED:20230917T163213Z
LAST-MODIFIED:20230917T163214Z
UID:2840-1697364900-1697368500@americanlutheranchurch.com
SUMMARY:10:15 Church Council
DESCRIPTION:
URL:https://americanlutheranchurch.com/event/1015-church-council-11/
END:VEVENT
BEGIN:VEVENT
DTSTART;TZID=America/Chicago:20221030T100000
DTEND;TZID=America/Chicago:20221030T110000
DTSTAMP:20260422T031836
CREATED:20221028T203930Z
LAST-MODIFIED:20230323T201545Z
UID:2333-1667124000-1667127600@americanlutheranchurch.com
SUMMARY:10:00 Fellowship
DESCRIPTION:
URL:https://americanlutheranchurch.com/event/1000-am-fellowship/
LOCATION:American Lutheran Church\, 311 S 4th Ave\, Castlewood\, SD\, 57223\, United States
END:VEVENT
BEGIN:VEVENT
DTSTART;TZID=America/Chicago:20230430T090000
DTEND;TZID=America/Chicago:20230430T170000
DTSTAMP:20260422T031836
CREATED:20230323T195758Z
LAST-MODIFIED:20230323T195759Z
UID:2664-1682845200-1682874000@americanlutheranchurch.com
SUMMARY:9:00 Worship
DESCRIPTION:
URL:https://americanlutheranchurch.com/event/900-worship/
LOCATION:American Lutheran Church\, 311 S 4th Ave\, Castlewood\, SD\, 57223\, United States
END:VEVENT
BEGIN:VEVENT
DTSTART;TZID=America/Chicago:20231015T083000
DTEND;TZID=America/Chicago:20231015T090000
DTSTAMP:20260422T031836
CREATED:20230920T162528Z
LAST-MODIFIED:20230920T162529Z
UID:2863-1697358600-1697360400@americanlutheranchurch.com
SUMMARY:8:30 Choir Practice
DESCRIPTION:
URL:https://americanlutheranchurch.com/event/830-choir-practice-7/
END:VEVENT
BEGIN:VEVENT
DTSTART;TZID=America/Chicago:20231011T190000
DTEND;TZID=America/Chicago:20231011T200000
DTSTAMP:20260422T031836
CREATED:20230927T191406Z
LAST-MODIFIED:20230927T191407Z
UID:2890-1697050800-1697054400@americanlutheranchurch.com
SUMMARY:7:00 Bible Study
DESCRIPTION:
URL:https://americanlutheranchurch.com/event/700-bible-study-3/
END:VEVENT
BEGIN:VEVENT
DTSTART;TZID=America/Chicago:20231011T171500
DTEND;TZID=America/Chicago:20231011T181500
DTSTAMP:20260422T031836
CREATED:20230927T190702Z
LAST-MODIFIED:20230927T190703Z
UID:2872-1697044500-1697048100@americanlutheranchurch.com
SUMMARY:5:15 Confirmation
DESCRIPTION:
URL:https://americanlutheranchurch.com/event/515-confirmation-10/
END:VEVENT
BEGIN:VEVENT
DTSTART;TZID=America/Chicago:20231011T153000
DTEND;TZID=America/Chicago:20231011T170000
DTSTAMP:20260422T031836
CREATED:20230927T191233Z
LAST-MODIFIED:20230927T191234Z
UID:2886-1697038200-1697043600@americanlutheranchurch.com
SUMMARY:3:30 Bible Study at Asst. Living
DESCRIPTION:
URL:https://americanlutheranchurch.com/event/330-bible-study-at-asst-living/
END:VEVENT
BEGIN:VEVENT
DTSTART;TZID=America/Chicago:20231011T093000
DTEND;TZID=America/Chicago:20231011T170000
DTSTAMP:20260422T031836
CREATED:20230927T191056Z
LAST-MODIFIED:20230927T191057Z
UID:2882-1697016600-1697043600@americanlutheranchurch.com
SUMMARY:9:30 Bible Study
DESCRIPTION:
URL:https://americanlutheranchurch.com/event/930-bible-study-3/
END:VEVENT
BEGIN:VEVENT
DTSTART;TZID=America/Chicago:20221030T100000
DTEND;TZID=America/Chicago:20221030T110000
DTSTAMP:20260422T031836
CREATED:20221028T203930Z
LAST-MODIFIED:20230323T201545Z
UID:2333-1667124000-1667127600@americanlutheranchurch.com
SUMMARY:10:00 Fellowship
DESCRIPTION:
URL:https://americanlutheranchurch.com/event/1000-am-fellowship/
LOCATION:American Lutheran Church\, 311 S 4th Ave\, Castlewood\, SD\, 57223\, United States
END:VEVENT
BEGIN:VEVENT
DTSTART;TZID=America/Chicago:20230430T090000
DTEND;TZID=America/Chicago:20230430T170000
DTSTAMP:20260422T031836
CREATED:20230323T195758Z
LAST-MODIFIED:20230323T195759Z
UID:2664-1682845200-1682874000@americanlutheranchurch.com
SUMMARY:9:00 Worship
DESCRIPTION:
URL:https://americanlutheranchurch.com/event/900-worship/
LOCATION:American Lutheran Church\, 311 S 4th Ave\, Castlewood\, SD\, 57223\, United States
END:VEVENT
BEGIN:VEVENT
DTSTART;TZID=America/Chicago:20231008T083000
DTEND;TZID=America/Chicago:20231008T090000
DTSTAMP:20260422T031836
CREATED:20230920T162446Z
LAST-MODIFIED:20230920T162447Z
UID:2861-1696753800-1696755600@americanlutheranchurch.com
SUMMARY:8:30 Choir Practice
DESCRIPTION:
URL:https://americanlutheranchurch.com/event/830-choir-practice-6/
END:VEVENT
BEGIN:VEVENT
DTSTART;TZID=America/Chicago:20231004T183000
DTEND;TZID=America/Chicago:20231004T193000
DTSTAMP:20260422T031836
CREATED:20230927T190926Z
LAST-MODIFIED:20230927T190927Z
UID:2878-1696444200-1696447800@americanlutheranchurch.com
SUMMARY:6:30 Youth Group
DESCRIPTION:
URL:https://americanlutheranchurch.com/event/630-youth-group-7/
END:VEVENT
BEGIN:VEVENT
DTSTART;TZID=America/Chicago:20231004T171500
DTEND;TZID=America/Chicago:20231004T181500
DTSTAMP:20260422T031836
CREATED:20230927T190622Z
LAST-MODIFIED:20230927T190624Z
UID:2869-1696439700-1696443300@americanlutheranchurch.com
SUMMARY:5:15 Confirmation
DESCRIPTION:
URL:https://americanlutheranchurch.com/event/515-confirmation-9/
END:VEVENT
BEGIN:VEVENT
DTSTART;TZID=America/Chicago:20221030T100000
DTEND;TZID=America/Chicago:20221030T110000
DTSTAMP:20260422T031836
CREATED:20221028T203930Z
LAST-MODIFIED:20230323T201545Z
UID:2333-1667124000-1667127600@americanlutheranchurch.com
SUMMARY:10:00 Fellowship
DESCRIPTION:
URL:https://americanlutheranchurch.com/event/1000-am-fellowship/
LOCATION:American Lutheran Church\, 311 S 4th Ave\, Castlewood\, SD\, 57223\, United States
END:VEVENT
BEGIN:VEVENT
DTSTART;TZID=America/Chicago:20230430T090000
DTEND;TZID=America/Chicago:20230430T170000
DTSTAMP:20260422T031836
CREATED:20230323T195758Z
LAST-MODIFIED:20230323T195759Z
UID:2664-1682845200-1682874000@americanlutheranchurch.com
SUMMARY:9:00 Worship
DESCRIPTION:
URL:https://americanlutheranchurch.com/event/900-worship/
LOCATION:American Lutheran Church\, 311 S 4th Ave\, Castlewood\, SD\, 57223\, United States
END:VEVENT
BEGIN:VEVENT
DTSTART;TZID=America/Chicago:20231001T083000
DTEND;TZID=America/Chicago:20231001T090000
DTSTAMP:20260422T031836
CREATED:20230920T162408Z
LAST-MODIFIED:20230920T162409Z
UID:2859-1696149000-1696150800@americanlutheranchurch.com
SUMMARY:8:30 Choir Practice
DESCRIPTION:
URL:https://americanlutheranchurch.com/event/830-choir-practice-5/
END:VEVENT
BEGIN:VEVENT
DTSTART;TZID=America/Chicago:20230927T190000
DTEND;TZID=America/Chicago:20230927T200000
DTSTAMP:20260422T031836
CREATED:20230823T155119Z
LAST-MODIFIED:20230823T155120Z
UID:2822-1695841200-1695844800@americanlutheranchurch.com
SUMMARY:7:00 Bible Study
DESCRIPTION:
URL:https://americanlutheranchurch.com/event/700-bible-study-2/
END:VEVENT
BEGIN:VEVENT
DTSTART;TZID=America/Chicago:20230927T171500
DTEND;TZID=America/Chicago:20230927T181500
DTSTAMP:20260422T031836
CREATED:20230823T155446Z
LAST-MODIFIED:20230823T155447Z
UID:2826-1695834900-1695838500@americanlutheranchurch.com
SUMMARY:5:15 Confirmation
DESCRIPTION:
URL:https://americanlutheranchurch.com/event/515-confirmation-8/
END:VEVENT
BEGIN:VEVENT
DTSTART;TZID=America/Chicago:20230927T153000
DTEND;TZID=America/Chicago:20230927T170000
DTSTAMP:20260422T031836
CREATED:20230823T154955Z
LAST-MODIFIED:20230823T154956Z
UID:2818-1695828600-1695834000@americanlutheranchurch.com
SUMMARY:3:30 Bible Study at Liv. Ctr.
DESCRIPTION:
URL:https://americanlutheranchurch.com/event/330-bible-study-at-liv-ctr-2/
END:VEVENT
BEGIN:VEVENT
DTSTART;TZID=America/Chicago:20230927T093000
DTEND;TZID=America/Chicago:20230927T103000
DTSTAMP:20260422T031836
CREATED:20230823T154906Z
LAST-MODIFIED:20230912T224644Z
UID:2816-1695807000-1695810600@americanlutheranchurch.com
SUMMARY:9:30 Bible Study
DESCRIPTION:
URL:https://americanlutheranchurch.com/event/930-bible-study-2/
END:VEVENT
BEGIN:VEVENT
DTSTART;TZID=America/Chicago:20221030T100000
DTEND;TZID=America/Chicago:20221030T110000
DTSTAMP:20260422T031836
CREATED:20221028T203930Z
LAST-MODIFIED:20230323T201545Z
UID:2333-1667124000-1667127600@americanlutheranchurch.com
SUMMARY:10:00 Fellowship
DESCRIPTION:
URL:https://americanlutheranchurch.com/event/1000-am-fellowship/
LOCATION:American Lutheran Church\, 311 S 4th Ave\, Castlewood\, SD\, 57223\, United States
END:VEVENT
BEGIN:VEVENT
DTSTART;TZID=America/Chicago:20230924T080000
DTEND;TZID=America/Chicago:20230924T170000
DTSTAMP:20260422T031836
CREATED:20230823T154145Z
LAST-MODIFIED:20230823T154146Z
UID:2802-1695542400-1695574800@americanlutheranchurch.com
SUMMARY:New Member Reception
DESCRIPTION:
URL:https://americanlutheranchurch.com/event/new-member-reception/
END:VEVENT
BEGIN:VEVENT
DTSTART;TZID=America/Chicago:20230921T080000
DTEND;TZID=America/Chicago:20230921T170000
DTSTAMP:20260422T031836
CREATED:20230828T153756Z
LAST-MODIFIED:20230828T153757Z
UID:2828-1695283200-1695315600@americanlutheranchurch.com
SUMMARY:ESD Pastors meet at Badger
DESCRIPTION:
URL:https://americanlutheranchurch.com/event/esd-pastors-meet-at-badger/
END:VEVENT
BEGIN:VEVENT
DTSTART;TZID=America/Chicago:20230920T183000
DTEND;TZID=America/Chicago:20230920T193000
DTSTAMP:20260422T031836
CREATED:20230823T154809Z
LAST-MODIFIED:20230823T154810Z
UID:2814-1695234600-1695238200@americanlutheranchurch.com
SUMMARY:6:30 Youth Group
DESCRIPTION:
URL:https://americanlutheranchurch.com/event/630-youth-group-6/
END:VEVENT
BEGIN:VEVENT
DTSTART;TZID=America/Chicago:20230920T171500
DTEND;TZID=America/Chicago:20230920T181500
DTSTAMP:20260422T031836
CREATED:20230823T154731Z
LAST-MODIFIED:20230823T154732Z
UID:2812-1695230100-1695233700@americanlutheranchurch.com
SUMMARY:5:15 Confirmation
DESCRIPTION:
URL:https://americanlutheranchurch.com/event/515-confirmation-7/
END:VEVENT
BEGIN:VEVENT
DTSTART;TZID=America/Chicago:20230917T101500
DTEND;TZID=America/Chicago:20230917T170000
DTSTAMP:20260422T031836
CREATED:20230823T154058Z
LAST-MODIFIED:20230823T154059Z
UID:2800-1694945700-1694970000@americanlutheranchurch.com
SUMMARY:10:15 Church Council
DESCRIPTION:
URL:https://americanlutheranchurch.com/event/1015-church-council-10/
END:VEVENT
BEGIN:VEVENT
DTSTART;TZID=America/Chicago:20221030T100000
DTEND;TZID=America/Chicago:20221030T110000
DTSTAMP:20260422T031836
CREATED:20221028T203930Z
LAST-MODIFIED:20230323T201545Z
UID:2333-1667124000-1667127600@americanlutheranchurch.com
SUMMARY:10:00 Fellowship
DESCRIPTION:
URL:https://americanlutheranchurch.com/event/1000-am-fellowship/
LOCATION:American Lutheran Church\, 311 S 4th Ave\, Castlewood\, SD\, 57223\, United States
END:VEVENT
BEGIN:VEVENT
DTSTART;TZID=America/Chicago:20230913T190000
DTEND;TZID=America/Chicago:20230913T200000
DTSTAMP:20260422T031836
CREATED:20230823T154607Z
LAST-MODIFIED:20230823T154608Z
UID:2810-1694631600-1694635200@americanlutheranchurch.com
SUMMARY:7:00 Bible Study
DESCRIPTION:
URL:https://americanlutheranchurch.com/event/700-bible-study/
END:VEVENT
BEGIN:VEVENT
DTSTART;TZID=America/Chicago:20230913T171500
DTEND;TZID=America/Chicago:20230913T181500
DTSTAMP:20260422T031836
CREATED:20230823T154525Z
LAST-MODIFIED:20230823T154526Z
UID:2808-1694625300-1694628900@americanlutheranchurch.com
SUMMARY:5:15 Confirmation
DESCRIPTION:
URL:https://americanlutheranchurch.com/event/515-confirmation-6/
END:VEVENT
END:VCALENDAR