BEGIN:VCALENDAR
VERSION:2.0
PRODID:-//American Lutheran Church - ECPv6.15.14//NONSGML v1.0//EN
CALSCALE:GREGORIAN
METHOD:PUBLISH
X-WR-CALNAME:American Lutheran Church
X-ORIGINAL-URL:https://americanlutheranchurch.com
X-WR-CALDESC:Events for American Lutheran Church
REFRESH-INTERVAL;VALUE=DURATION:PT1H
X-Robots-Tag:noindex
X-PUBLISHED-TTL:PT1H
BEGIN:VTIMEZONE
TZID:America/Chicago
BEGIN:DAYLIGHT
TZOFFSETFROM:-0600
TZOFFSETTO:-0500
TZNAME:CDT
DTSTART:20210314T080000
END:DAYLIGHT
BEGIN:STANDARD
TZOFFSETFROM:-0500
TZOFFSETTO:-0600
TZNAME:CST
DTSTART:20211107T070000
END:STANDARD
BEGIN:DAYLIGHT
TZOFFSETFROM:-0600
TZOFFSETTO:-0500
TZNAME:CDT
DTSTART:20220313T080000
END:DAYLIGHT
BEGIN:STANDARD
TZOFFSETFROM:-0500
TZOFFSETTO:-0600
TZNAME:CST
DTSTART:20221106T070000
END:STANDARD
BEGIN:DAYLIGHT
TZOFFSETFROM:-0600
TZOFFSETTO:-0500
TZNAME:CDT
DTSTART:20230312T080000
END:DAYLIGHT
BEGIN:STANDARD
TZOFFSETFROM:-0500
TZOFFSETTO:-0600
TZNAME:CST
DTSTART:20231105T070000
END:STANDARD
BEGIN:DAYLIGHT
TZOFFSETFROM:-0600
TZOFFSETTO:-0500
TZNAME:CDT
DTSTART:20240310T080000
END:DAYLIGHT
BEGIN:STANDARD
TZOFFSETFROM:-0500
TZOFFSETTO:-0600
TZNAME:CST
DTSTART:20241103T070000
END:STANDARD
END:VTIMEZONE
BEGIN:VEVENT
DTSTART;TZID=America/Chicago:20231122T190000
DTEND;TZID=America/Chicago:20231122T193000
DTSTAMP:20260421T221113
CREATED:20231024T195216Z
LAST-MODIFIED:20231024T195217Z
UID:2984-1700679600-1700681400@americanlutheranchurch.com
SUMMARY:7:00 Community Thanksgiving Eve Worship at 1st Pres.
DESCRIPTION:
URL:https://americanlutheranchurch.com/event/700-community-thanksgiving-eve-worship-at-1st-pres/
END:VEVENT
BEGIN:VEVENT
DTSTART;TZID=America/Chicago:20231119T110000
DTEND;TZID=America/Chicago:20231119T130000
DTSTAMP:20260421T221113
CREATED:20230917T163304Z
LAST-MODIFIED:20230917T163305Z
UID:2842-1700391600-1700398800@americanlutheranchurch.com
SUMMARY:11:00 - 1:00 Thanksgiving Meal
DESCRIPTION:
URL:https://americanlutheranchurch.com/event/1100-100-thanksgiving-meal/
END:VEVENT
BEGIN:VEVENT
DTSTART;TZID=America/Chicago:20231119T103000
DTEND;TZID=America/Chicago:20231119T170000
DTSTAMP:20260421T221113
CREATED:20231105T170144Z
LAST-MODIFIED:20231105T170145Z
UID:3012-1700389800-1700413200@americanlutheranchurch.com
SUMMARY:9:30 Choir Practice
DESCRIPTION:
URL:https://americanlutheranchurch.com/event/930-choir-practice/
END:VEVENT
BEGIN:VEVENT
DTSTART;TZID=America/Chicago:20231119T100000
DTEND;TZID=America/Chicago:20231119T170000
DTSTAMP:20260421T221113
CREATED:20230917T163659Z
LAST-MODIFIED:20230917T163701Z
UID:2846-1700388000-1700413200@americanlutheranchurch.com
SUMMARY:10:00 Worship
DESCRIPTION:
URL:https://americanlutheranchurch.com/event/900-worship-4/
LOCATION:American Lutheran Church\, 311 S 4th Ave\, Castlewood\, SD\, 57223\, United States
END:VEVENT
BEGIN:VEVENT
DTSTART;TZID=America/Chicago:20231119T090000
DTEND;TZID=America/Chicago:20231119T170000
DTSTAMP:20260421T221113
CREATED:20230917T163519Z
LAST-MODIFIED:20230917T163520Z
UID:2844-1700384400-1700413200@americanlutheranchurch.com
SUMMARY:9:00 Sunday School
DESCRIPTION:
URL:https://americanlutheranchurch.com/event/1015-sunday-school-4/
END:VEVENT
BEGIN:VEVENT
DTSTART;TZID=America/Chicago:20231115T190000
DTEND;TZID=America/Chicago:20231115T193000
DTSTAMP:20260421T221113
CREATED:20231024T195121Z
LAST-MODIFIED:20231024T195122Z
UID:2982-1700074800-1700076600@americanlutheranchurch.com
SUMMARY:7:00 Bible Study
DESCRIPTION:
URL:https://americanlutheranchurch.com/event/700-bible-study-5/
END:VEVENT
BEGIN:VEVENT
DTSTART;TZID=America/Chicago:20231115T171500
DTEND;TZID=America/Chicago:20231115T174500
DTSTAMP:20260421T221113
CREATED:20231024T195041Z
LAST-MODIFIED:20231024T195042Z
UID:2980-1700068500-1700070300@americanlutheranchurch.com
SUMMARY:5:15 Confirmation
DESCRIPTION:
URL:https://americanlutheranchurch.com/event/515-confirmation-15/
END:VEVENT
BEGIN:VEVENT
DTSTART;TZID=America/Chicago:20231115T153000
DTEND;TZID=America/Chicago:20231115T170000
DTSTAMP:20260421T221113
CREATED:20231024T195012Z
LAST-MODIFIED:20231024T195013Z
UID:2978-1700062200-1700067600@americanlutheranchurch.com
SUMMARY:3:30 Bible Study at Asst. Living
DESCRIPTION:
URL:https://americanlutheranchurch.com/event/330-bible-study-at-asst-living-3/
END:VEVENT
BEGIN:VEVENT
DTSTART;TZID=America/Chicago:20231115T093000
DTEND;TZID=America/Chicago:20231115T170000
DTSTAMP:20260421T221113
CREATED:20231024T194929Z
LAST-MODIFIED:20231024T194930Z
UID:2976-1700040600-1700067600@americanlutheranchurch.com
SUMMARY:9:30 Bible Study
DESCRIPTION:
URL:https://americanlutheranchurch.com/event/930-bible-study-5/
END:VEVENT
BEGIN:VEVENT
DTSTART;TZID=America/Chicago:20231114T090000
DTEND;TZID=America/Chicago:20231114T140000
DTSTAMP:20260421T221113
CREATED:20231101T190023Z
LAST-MODIFIED:20231101T190024Z
UID:3005-1699952400-1699970400@americanlutheranchurch.com
SUMMARY:ESD Pastors at ALC
DESCRIPTION:
URL:https://americanlutheranchurch.com/event/esd-pastors-at-alc-2/
END:VEVENT
BEGIN:VEVENT
DTSTART;TZID=America/Chicago:20231112T101500
DTEND;TZID=America/Chicago:20231112T170000
DTSTAMP:20260421T221113
CREATED:20231024T194530Z
LAST-MODIFIED:20231024T194532Z
UID:2968-1699784100-1699808400@americanlutheranchurch.com
SUMMARY:10:15 Church Council
DESCRIPTION:
URL:https://americanlutheranchurch.com/event/1015-church-council-12/
END:VEVENT
BEGIN:VEVENT
DTSTART;TZID=America/Chicago:20221030T100000
DTEND;TZID=America/Chicago:20221030T110000
DTSTAMP:20260421T221113
CREATED:20221028T203930Z
LAST-MODIFIED:20230323T201545Z
UID:2333-1667124000-1667127600@americanlutheranchurch.com
SUMMARY:10:00 Fellowship
DESCRIPTION:
URL:https://americanlutheranchurch.com/event/1000-am-fellowship/
LOCATION:American Lutheran Church\, 311 S 4th Ave\, Castlewood\, SD\, 57223\, United States
END:VEVENT
BEGIN:VEVENT
DTSTART;TZID=America/Chicago:20231112T093000
DTEND;TZID=America/Chicago:20231112T170000
DTSTAMP:20260421T221113
CREATED:20231105T170103Z
LAST-MODIFIED:20231105T170104Z
UID:3010-1699781400-1699808400@americanlutheranchurch.com
SUMMARY:8:30 Choir Practice
DESCRIPTION:
URL:https://americanlutheranchurch.com/event/830-choir-practice-9/
END:VEVENT
BEGIN:VEVENT
DTSTART;TZID=America/Chicago:20230430T090000
DTEND;TZID=America/Chicago:20230430T170000
DTSTAMP:20260421T221113
CREATED:20230323T195758Z
LAST-MODIFIED:20230323T195759Z
UID:2664-1682845200-1682874000@americanlutheranchurch.com
SUMMARY:9:00 Worship
DESCRIPTION:
URL:https://americanlutheranchurch.com/event/900-worship/
LOCATION:American Lutheran Church\, 311 S 4th Ave\, Castlewood\, SD\, 57223\, United States
END:VEVENT
BEGIN:VEVENT
DTSTART;TZID=America/Chicago:20231109T080000
DTEND;TZID=America/Chicago:20231109T170000
DTSTAMP:20260421T221113
CREATED:20231024T200634Z
LAST-MODIFIED:20231024T200635Z
UID:3000-1699516800-1699549200@americanlutheranchurch.com
SUMMARY:Pastor at NALC Mtg.
DESCRIPTION:
URL:https://americanlutheranchurch.com/event/pastor-at-nalc-mtg-3/
END:VEVENT
BEGIN:VEVENT
DTSTART;TZID=America/Chicago:20231108T171500
DTEND;TZID=America/Chicago:20231108T174500
DTSTAMP:20260421T221113
CREATED:20231024T194851Z
LAST-MODIFIED:20231024T194852Z
UID:2974-1699463700-1699465500@americanlutheranchurch.com
SUMMARY:5:15 Confirmation
DESCRIPTION:
URL:https://americanlutheranchurch.com/event/515-confirmation-14/
END:VEVENT
BEGIN:VEVENT
DTSTART;TZID=America/Chicago:20231108T080000
DTEND;TZID=America/Chicago:20231108T170000
DTSTAMP:20260421T221113
CREATED:20231024T200401Z
LAST-MODIFIED:20231024T200402Z
UID:2996-1699430400-1699462800@americanlutheranchurch.com
SUMMARY:Pastor at NALC Mtg.
DESCRIPTION:
URL:https://americanlutheranchurch.com/event/pastor-at-nalc-mtg-2/
END:VEVENT
BEGIN:VEVENT
DTSTART;TZID=America/Chicago:20231107T080000
DTEND;TZID=America/Chicago:20231107T170000
DTSTAMP:20260421T221113
CREATED:20231024T200332Z
LAST-MODIFIED:20231024T200334Z
UID:2994-1699344000-1699376400@americanlutheranchurch.com
SUMMARY:Pastor at NALC Mtg
DESCRIPTION:
URL:https://americanlutheranchurch.com/event/pastor-at-nalc-mtg/
END:VEVENT
BEGIN:VEVENT
DTSTART;TZID=America/Chicago:20221030T100000
DTEND;TZID=America/Chicago:20221030T110000
DTSTAMP:20260421T221113
CREATED:20221028T203930Z
LAST-MODIFIED:20230323T201545Z
UID:2333-1667124000-1667127600@americanlutheranchurch.com
SUMMARY:10:00 Fellowship
DESCRIPTION:
URL:https://americanlutheranchurch.com/event/1000-am-fellowship/
LOCATION:American Lutheran Church\, 311 S 4th Ave\, Castlewood\, SD\, 57223\, United States
END:VEVENT
BEGIN:VEVENT
DTSTART;TZID=America/Chicago:20231105T093000
DTEND;TZID=America/Chicago:20231105T170000
DTSTAMP:20260421T221113
CREATED:20231105T170023Z
LAST-MODIFIED:20231105T170025Z
UID:3008-1699176600-1699203600@americanlutheranchurch.com
SUMMARY:8:30 Choir Practice
DESCRIPTION:
URL:https://americanlutheranchurch.com/event/830-choir-practice-8/
END:VEVENT
BEGIN:VEVENT
DTSTART;TZID=America/Chicago:20230430T090000
DTEND;TZID=America/Chicago:20230430T170000
DTSTAMP:20260421T221113
CREATED:20230323T195758Z
LAST-MODIFIED:20230323T195759Z
UID:2664-1682845200-1682874000@americanlutheranchurch.com
SUMMARY:9:00 Worship
DESCRIPTION:
URL:https://americanlutheranchurch.com/event/900-worship/
LOCATION:American Lutheran Church\, 311 S 4th Ave\, Castlewood\, SD\, 57223\, United States
END:VEVENT
BEGIN:VEVENT
DTSTART;TZID=America/Chicago:20231101T183000
DTEND;TZID=America/Chicago:20231101T190000
DTSTAMP:20260421T221113
CREATED:20231024T194725Z
LAST-MODIFIED:20231024T194727Z
UID:2972-1698863400-1698865200@americanlutheranchurch.com
SUMMARY:6:30 Youth Group
DESCRIPTION:
URL:https://americanlutheranchurch.com/event/630-youth-group-9/
END:VEVENT
BEGIN:VEVENT
DTSTART;TZID=America/Chicago:20231101T171500
DTEND;TZID=America/Chicago:20231101T174500
DTSTAMP:20260421T221113
CREATED:20231024T194648Z
LAST-MODIFIED:20231024T194649Z
UID:2970-1698858900-1698860700@americanlutheranchurch.com
SUMMARY:5:15 Confirmation
DESCRIPTION:
URL:https://americanlutheranchurch.com/event/515-confirmation-13/
END:VEVENT
BEGIN:VEVENT
DTSTART;TZID=America/Chicago:20231029T101500
DTEND;TZID=America/Chicago:20231029T170000
DTSTAMP:20260421T221113
CREATED:20231018T155028Z
LAST-MODIFIED:20231018T155029Z
UID:2920-1698574500-1698598800@americanlutheranchurch.com
SUMMARY:10:15 ALCW Meeting
DESCRIPTION:
URL:https://americanlutheranchurch.com/event/1015-alcw-meeting/
END:VEVENT
BEGIN:VEVENT
DTSTART;TZID=America/Chicago:20221030T100000
DTEND;TZID=America/Chicago:20221030T110000
DTSTAMP:20260421T221113
CREATED:20221028T203930Z
LAST-MODIFIED:20230323T201545Z
UID:2333-1667124000-1667127600@americanlutheranchurch.com
SUMMARY:10:00 Fellowship
DESCRIPTION:
URL:https://americanlutheranchurch.com/event/1000-am-fellowship/
LOCATION:American Lutheran Church\, 311 S 4th Ave\, Castlewood\, SD\, 57223\, United States
END:VEVENT
BEGIN:VEVENT
DTSTART;TZID=America/Chicago:20230430T090000
DTEND;TZID=America/Chicago:20230430T170000
DTSTAMP:20260421T221113
CREATED:20230323T195758Z
LAST-MODIFIED:20230323T195759Z
UID:2664-1682845200-1682874000@americanlutheranchurch.com
SUMMARY:9:00 Worship
DESCRIPTION:
URL:https://americanlutheranchurch.com/event/900-worship/
LOCATION:American Lutheran Church\, 311 S 4th Ave\, Castlewood\, SD\, 57223\, United States
END:VEVENT
BEGIN:VEVENT
DTSTART;TZID=America/Chicago:20231029T080000
DTEND;TZID=America/Chicago:20231029T170000
DTSTAMP:20260421T221113
CREATED:20230927T193934Z
LAST-MODIFIED:20230927T193935Z
UID:2894-1698566400-1698598800@americanlutheranchurch.com
SUMMARY:Reformation Sunday
DESCRIPTION:
URL:https://americanlutheranchurch.com/event/reformation-sunday/
END:VEVENT
BEGIN:VEVENT
DTSTART;TZID=America/Chicago:20231025T190000
DTEND;TZID=America/Chicago:20231025T200000
DTSTAMP:20260421T221113
CREATED:20230927T191452Z
LAST-MODIFIED:20230927T191453Z
UID:2892-1698260400-1698264000@americanlutheranchurch.com
SUMMARY:7:00 Bible Study
DESCRIPTION:
URL:https://americanlutheranchurch.com/event/700-bible-study-4/
END:VEVENT
BEGIN:VEVENT
DTSTART;TZID=America/Chicago:20231025T171500
DTEND;TZID=America/Chicago:20231025T181500
DTSTAMP:20260421T221113
CREATED:20230927T190814Z
LAST-MODIFIED:20230927T190815Z
UID:2876-1698254100-1698257700@americanlutheranchurch.com
SUMMARY:5:15 Confirmation
DESCRIPTION:
URL:https://americanlutheranchurch.com/event/515-confirmation-12/
END:VEVENT
BEGIN:VEVENT
DTSTART;TZID=America/Chicago:20231025T153000
DTEND;TZID=America/Chicago:20231025T170000
DTSTAMP:20260421T221113
CREATED:20230927T191321Z
LAST-MODIFIED:20230927T191322Z
UID:2888-1698247800-1698253200@americanlutheranchurch.com
SUMMARY:3:30 Bible Study at Asst. Living
DESCRIPTION:
URL:https://americanlutheranchurch.com/event/330-bible-study-at-asst-living-2/
END:VEVENT
END:VCALENDAR