BEGIN:VCALENDAR
VERSION:2.0
PRODID:-//American Lutheran Church - ECPv6.15.14//NONSGML v1.0//EN
CALSCALE:GREGORIAN
METHOD:PUBLISH
X-WR-CALNAME:American Lutheran Church
X-ORIGINAL-URL:https://americanlutheranchurch.com
X-WR-CALDESC:Events for American Lutheran Church
REFRESH-INTERVAL;VALUE=DURATION:PT1H
X-Robots-Tag:noindex
X-PUBLISHED-TTL:PT1H
BEGIN:VTIMEZONE
TZID:America/Chicago
BEGIN:DAYLIGHT
TZOFFSETFROM:-0600
TZOFFSETTO:-0500
TZNAME:CDT
DTSTART:20210314T080000
END:DAYLIGHT
BEGIN:STANDARD
TZOFFSETFROM:-0500
TZOFFSETTO:-0600
TZNAME:CST
DTSTART:20211107T070000
END:STANDARD
BEGIN:DAYLIGHT
TZOFFSETFROM:-0600
TZOFFSETTO:-0500
TZNAME:CDT
DTSTART:20220313T080000
END:DAYLIGHT
BEGIN:STANDARD
TZOFFSETFROM:-0500
TZOFFSETTO:-0600
TZNAME:CST
DTSTART:20221106T070000
END:STANDARD
BEGIN:DAYLIGHT
TZOFFSETFROM:-0600
TZOFFSETTO:-0500
TZNAME:CDT
DTSTART:20230312T080000
END:DAYLIGHT
BEGIN:STANDARD
TZOFFSETFROM:-0500
TZOFFSETTO:-0600
TZNAME:CST
DTSTART:20231105T070000
END:STANDARD
BEGIN:DAYLIGHT
TZOFFSETFROM:-0600
TZOFFSETTO:-0500
TZNAME:CDT
DTSTART:20240310T080000
END:DAYLIGHT
BEGIN:STANDARD
TZOFFSETFROM:-0500
TZOFFSETTO:-0600
TZNAME:CST
DTSTART:20241103T070000
END:STANDARD
BEGIN:DAYLIGHT
TZOFFSETFROM:-0600
TZOFFSETTO:-0500
TZNAME:CDT
DTSTART:20250309T080000
END:DAYLIGHT
BEGIN:STANDARD
TZOFFSETFROM:-0500
TZOFFSETTO:-0600
TZNAME:CST
DTSTART:20251102T070000
END:STANDARD
BEGIN:DAYLIGHT
TZOFFSETFROM:-0600
TZOFFSETTO:-0500
TZNAME:CDT
DTSTART:20260308T080000
END:DAYLIGHT
BEGIN:STANDARD
TZOFFSETFROM:-0500
TZOFFSETTO:-0600
TZNAME:CST
DTSTART:20261101T070000
END:STANDARD
BEGIN:DAYLIGHT
TZOFFSETFROM:-0600
TZOFFSETTO:-0500
TZNAME:CDT
DTSTART:20270314T080000
END:DAYLIGHT
BEGIN:STANDARD
TZOFFSETFROM:-0500
TZOFFSETTO:-0600
TZNAME:CST
DTSTART:20271107T070000
END:STANDARD
END:VTIMEZONE
BEGIN:VEVENT
DTSTART;TZID=America/Chicago:20221030T100000
DTEND;TZID=America/Chicago:20221030T110000
DTSTAMP:20260421T203408
CREATED:20221028T203930Z
LAST-MODIFIED:20230323T201545Z
UID:2333-1667124000-1667127600@americanlutheranchurch.com
SUMMARY:10:00 Fellowship
DESCRIPTION:
URL:https://americanlutheranchurch.com/event/1000-am-fellowship/
LOCATION:American Lutheran Church\, 311 S 4th Ave\, Castlewood\, SD\, 57223\, United States
END:VEVENT
BEGIN:VEVENT
DTSTART;TZID=America/Chicago:20260329T100000
DTEND;TZID=America/Chicago:20260329T170000
DTSTAMP:20260421T203408
CREATED:20260218T185352Z
LAST-MODIFIED:20260218T185353Z
UID:4769-1774778400-1774803600@americanlutheranchurch.com
SUMMARY:10:00 Fellowship
DESCRIPTION:
URL:https://americanlutheranchurch.com/event/1000-fellowship-106/
END:VEVENT
BEGIN:VEVENT
DTSTART;TZID=America/Chicago:20260329T101500
DTEND;TZID=America/Chicago:20260329T170000
DTSTAMP:20260421T203408
CREATED:20260218T185432Z
LAST-MODIFIED:20260218T185432Z
UID:4771-1774779300-1774803600@americanlutheranchurch.com
SUMMARY:10:15 Sunday School
DESCRIPTION:
URL:https://americanlutheranchurch.com/event/1015-sunday-school-56/
END:VEVENT
BEGIN:VEVENT
DTSTART;TZID=America/Chicago:20260401T080000
DTEND;TZID=America/Chicago:20260401T170000
DTSTAMP:20260421T203408
CREATED:20260325T190439Z
LAST-MODIFIED:20260325T190440Z
UID:4853-1775030400-1775062800@americanlutheranchurch.com
SUMMARY:7:00 Wednesday in the Word Youth Prayer Breakfast
DESCRIPTION:
URL:https://americanlutheranchurch.com/event/700-wednesday-in-the-word-youth-prayer-breakfast/
END:VEVENT
BEGIN:VEVENT
DTSTART;TZID=America/Chicago:20260402T080000
DTEND;TZID=America/Chicago:20260402T170000
DTSTAMP:20260421T203408
CREATED:20260325T185909Z
LAST-MODIFIED:20260325T185911Z
UID:4847-1775116800-1775149200@americanlutheranchurch.com
SUMMARY:7:00 pm Maundy Thursday Worship with Holy Communion
DESCRIPTION:
URL:https://americanlutheranchurch.com/event/700-pm-maundy-thursday-worship-with-holy-communion/
END:VEVENT
BEGIN:VEVENT
DTSTART;TZID=America/Chicago:20260403T080000
DTEND;TZID=America/Chicago:20260403T170000
DTSTAMP:20260421T203408
CREATED:20260325T190324Z
LAST-MODIFIED:20260325T190325Z
UID:4851-1775203200-1775235600@americanlutheranchurch.com
SUMMARY:7:00 pm Good Friday Worship at ALC\, with Hamlin Reformed
DESCRIPTION:
URL:https://americanlutheranchurch.com/event/700-pm-good-friday-worship-at-alc-with-hamlin-reformed/
END:VEVENT
BEGIN:VEVENT
DTSTART;TZID=America/Chicago:20260405T070000
DTEND;TZID=America/Chicago:20260405T170000
DTSTAMP:20260421T203408
CREATED:20260325T183732Z
LAST-MODIFIED:20260325T183733Z
UID:4802-1775372400-1775408400@americanlutheranchurch.com
SUMMARY:7:00 Youth-led Sonrise Worship
DESCRIPTION:
URL:https://americanlutheranchurch.com/event/700-youth-led-sonrise-worship/
END:VEVENT
BEGIN:VEVENT
DTSTART;TZID=America/Chicago:20260405T073000
DTEND;TZID=America/Chicago:20260405T170000
DTSTAMP:20260421T203408
CREATED:20260325T191853Z
LAST-MODIFIED:20260325T191854Z
UID:4856-1775374200-1775408400@americanlutheranchurch.com
SUMMARY:7:45 Easter Breakfast
DESCRIPTION:
URL:https://americanlutheranchurch.com/event/745-easter-breakfast/
END:VEVENT
BEGIN:VEVENT
DTSTART;TZID=America/Chicago:20260405T083000
DTEND;TZID=America/Chicago:20260405T170000
DTSTAMP:20260421T203408
CREATED:20260325T184305Z
LAST-MODIFIED:20260325T184306Z
UID:4816-1775377800-1775408400@americanlutheranchurch.com
SUMMARY:8:30 Choir Practice
DESCRIPTION:
URL:https://americanlutheranchurch.com/event/830-choir-practice-57/
END:VEVENT
BEGIN:VEVENT
DTSTART;TZID=America/Chicago:20230430T090000
DTEND;TZID=America/Chicago:20230430T170000
DTSTAMP:20260421T203408
CREATED:20230323T195758Z
LAST-MODIFIED:20230323T195759Z
UID:2664-1682845200-1682874000@americanlutheranchurch.com
SUMMARY:9:00 Worship
DESCRIPTION:
URL:https://americanlutheranchurch.com/event/900-worship/
LOCATION:American Lutheran Church\, 311 S 4th Ave\, Castlewood\, SD\, 57223\, United States
END:VEVENT
BEGIN:VEVENT
DTSTART;TZID=America/Chicago:20260405T090000
DTEND;TZID=America/Chicago:20260405T170000
DTSTAMP:20260421T203408
CREATED:20260325T183930Z
LAST-MODIFIED:20260325T183931Z
UID:4806-1775379600-1775408400@americanlutheranchurch.com
SUMMARY:9:00 Easter Worship with Holy Communion
DESCRIPTION:
URL:https://americanlutheranchurch.com/event/900-easter-worship-with-holy-communion/
END:VEVENT
BEGIN:VEVENT
DTSTART;TZID=America/Chicago:20221030T100000
DTEND;TZID=America/Chicago:20221030T110000
DTSTAMP:20260421T203408
CREATED:20221028T203930Z
LAST-MODIFIED:20230323T201545Z
UID:2333-1667124000-1667127600@americanlutheranchurch.com
SUMMARY:10:00 Fellowship
DESCRIPTION:
URL:https://americanlutheranchurch.com/event/1000-am-fellowship/
LOCATION:American Lutheran Church\, 311 S 4th Ave\, Castlewood\, SD\, 57223\, United States
END:VEVENT
BEGIN:VEVENT
DTSTART;TZID=America/Chicago:20230430T090000
DTEND;TZID=America/Chicago:20230430T170000
DTSTAMP:20260421T203408
CREATED:20230323T195758Z
LAST-MODIFIED:20230323T195759Z
UID:2664-1682845200-1682874000@americanlutheranchurch.com
SUMMARY:9:00 Worship
DESCRIPTION:
URL:https://americanlutheranchurch.com/event/900-worship/
LOCATION:American Lutheran Church\, 311 S 4th Ave\, Castlewood\, SD\, 57223\, United States
END:VEVENT
BEGIN:VEVENT
DTSTART;TZID=America/Chicago:20260412T090000
DTEND;TZID=America/Chicago:20260412T170000
DTSTAMP:20260421T203408
CREATED:20260325T184107Z
LAST-MODIFIED:20260325T184108Z
UID:4810-1775984400-1776013200@americanlutheranchurch.com
SUMMARY:9:00 Rite of Confirmation Worship
DESCRIPTION:
URL:https://americanlutheranchurch.com/event/900-rite-of-confirmation-worship-3/
END:VEVENT
BEGIN:VEVENT
DTSTART;TZID=America/Chicago:20221030T100000
DTEND;TZID=America/Chicago:20221030T110000
DTSTAMP:20260421T203408
CREATED:20221028T203930Z
LAST-MODIFIED:20230323T201545Z
UID:2333-1667124000-1667127600@americanlutheranchurch.com
SUMMARY:10:00 Fellowship
DESCRIPTION:
URL:https://americanlutheranchurch.com/event/1000-am-fellowship/
LOCATION:American Lutheran Church\, 311 S 4th Ave\, Castlewood\, SD\, 57223\, United States
END:VEVENT
BEGIN:VEVENT
DTSTART;TZID=America/Chicago:20260412T100000
DTEND;TZID=America/Chicago:20260412T170000
DTSTAMP:20260421T203408
CREATED:20260325T184140Z
LAST-MODIFIED:20260325T184141Z
UID:4812-1775988000-1776013200@americanlutheranchurch.com
SUMMARY:10:00 Fellowship
DESCRIPTION:
URL:https://americanlutheranchurch.com/event/1000-fellowship-107/
END:VEVENT
BEGIN:VEVENT
DTSTART;TZID=America/Chicago:20260412T101500
DTEND;TZID=America/Chicago:20260412T170000
DTSTAMP:20260421T203408
CREATED:20260325T184222Z
LAST-MODIFIED:20260325T184223Z
UID:4814-1775988900-1776013200@americanlutheranchurch.com
SUMMARY:10:15 Sunday School
DESCRIPTION:
URL:https://americanlutheranchurch.com/event/1015-sunday-school-57/
END:VEVENT
BEGIN:VEVENT
DTSTART;TZID=America/Chicago:20260417T080000
DTEND;TZID=America/Chicago:20260417T170000
DTSTAMP:20260421T203408
CREATED:20260325T184516Z
LAST-MODIFIED:20260325T184517Z
UID:4819-1776412800-1776445200@americanlutheranchurch.com
SUMMARY:Mission District Convocation in Fargo
DESCRIPTION:
URL:https://americanlutheranchurch.com/event/mission-district-convocation-in-fargo/
END:VEVENT
BEGIN:VEVENT
DTSTART;TZID=America/Chicago:20260418T080000
DTEND;TZID=America/Chicago:20260418T170000
DTSTAMP:20260421T203408
CREATED:20260325T184557Z
LAST-MODIFIED:20260325T184558Z
UID:4821-1776499200-1776531600@americanlutheranchurch.com
SUMMARY:Mission District Convocation in Fargo
DESCRIPTION:
URL:https://americanlutheranchurch.com/event/mission-district-convocation-in-fargo-2/
END:VEVENT
BEGIN:VEVENT
DTSTART;TZID=America/Chicago:20230430T090000
DTEND;TZID=America/Chicago:20230430T170000
DTSTAMP:20260421T203408
CREATED:20230323T195758Z
LAST-MODIFIED:20230323T195759Z
UID:2664-1682845200-1682874000@americanlutheranchurch.com
SUMMARY:9:00 Worship
DESCRIPTION:
URL:https://americanlutheranchurch.com/event/900-worship/
LOCATION:American Lutheran Church\, 311 S 4th Ave\, Castlewood\, SD\, 57223\, United States
END:VEVENT
BEGIN:VEVENT
DTSTART;TZID=America/Chicago:20260419T090000
DTEND;TZID=America/Chicago:20260419T170000
DTSTAMP:20260421T203408
CREATED:20260325T185217Z
LAST-MODIFIED:20260325T185219Z
UID:4833-1776589200-1776618000@americanlutheranchurch.com
SUMMARY:9:00 Worship
DESCRIPTION:
URL:https://americanlutheranchurch.com/event/900-worship-104/
END:VEVENT
BEGIN:VEVENT
DTSTART;TZID=America/Chicago:20221030T100000
DTEND;TZID=America/Chicago:20221030T110000
DTSTAMP:20260421T203408
CREATED:20221028T203930Z
LAST-MODIFIED:20230323T201545Z
UID:2333-1667124000-1667127600@americanlutheranchurch.com
SUMMARY:10:00 Fellowship
DESCRIPTION:
URL:https://americanlutheranchurch.com/event/1000-am-fellowship/
LOCATION:American Lutheran Church\, 311 S 4th Ave\, Castlewood\, SD\, 57223\, United States
END:VEVENT
BEGIN:VEVENT
DTSTART;TZID=America/Chicago:20260419T100000
DTEND;TZID=America/Chicago:20260419T170000
DTSTAMP:20260421T203408
CREATED:20260325T185245Z
LAST-MODIFIED:20260325T185246Z
UID:4835-1776592800-1776618000@americanlutheranchurch.com
SUMMARY:10:00 Fellowship
DESCRIPTION:
URL:https://americanlutheranchurch.com/event/1000-fellowship-108/
END:VEVENT
BEGIN:VEVENT
DTSTART;TZID=America/Chicago:20260419T101500
DTEND;TZID=America/Chicago:20260419T170000
DTSTAMP:20260421T203408
CREATED:20260325T185323Z
LAST-MODIFIED:20260325T185324Z
UID:4837-1776593700-1776618000@americanlutheranchurch.com
SUMMARY:10:15 Sunday School
DESCRIPTION:
URL:https://americanlutheranchurch.com/event/1015-sunday-school-58/
END:VEVENT
BEGIN:VEVENT
DTSTART;TZID=America/Chicago:20260419T103000
DTEND;TZID=America/Chicago:20260419T170000
DTSTAMP:20260421T203408
CREATED:20260325T185353Z
LAST-MODIFIED:20260325T185354Z
UID:4839-1776594600-1776618000@americanlutheranchurch.com
SUMMARY:10:15 Church Council
DESCRIPTION:
URL:https://americanlutheranchurch.com/event/1015-church-council-36/
END:VEVENT
BEGIN:VEVENT
DTSTART;TZID=America/Chicago:20260420T100000
DTEND;TZID=America/Chicago:20260420T170000
DTSTAMP:20260421T203408
CREATED:20260420T165809Z
LAST-MODIFIED:20260420T165811Z
UID:4894-1776679200-1776704400@americanlutheranchurch.com
SUMMARY:10:00 Fellowship
DESCRIPTION:
URL:https://americanlutheranchurch.com/event/1000-fellowship-113/
END:VEVENT
BEGIN:VEVENT
DTSTART;TZID=America/Chicago:20230430T090000
DTEND;TZID=America/Chicago:20230430T170000
DTSTAMP:20260421T203408
CREATED:20230323T195758Z
LAST-MODIFIED:20230323T195759Z
UID:2664-1682845200-1682874000@americanlutheranchurch.com
SUMMARY:9:00 Worship
DESCRIPTION:
URL:https://americanlutheranchurch.com/event/900-worship/
LOCATION:American Lutheran Church\, 311 S 4th Ave\, Castlewood\, SD\, 57223\, United States
END:VEVENT
BEGIN:VEVENT
DTSTART;TZID=America/Chicago:20260426T090000
DTEND;TZID=America/Chicago:20260426T170000
DTSTAMP:20260421T203408
CREATED:20260325T185425Z
LAST-MODIFIED:20260325T185427Z
UID:4841-1777194000-1777222800@americanlutheranchurch.com
SUMMARY:9:00 Worship
DESCRIPTION:
URL:https://americanlutheranchurch.com/event/900-worship-105/
END:VEVENT
BEGIN:VEVENT
DTSTART;TZID=America/Chicago:20221030T100000
DTEND;TZID=America/Chicago:20221030T110000
DTSTAMP:20260421T203408
CREATED:20221028T203930Z
LAST-MODIFIED:20230323T201545Z
UID:2333-1667124000-1667127600@americanlutheranchurch.com
SUMMARY:10:00 Fellowship
DESCRIPTION:
URL:https://americanlutheranchurch.com/event/1000-am-fellowship/
LOCATION:American Lutheran Church\, 311 S 4th Ave\, Castlewood\, SD\, 57223\, United States
END:VEVENT
BEGIN:VEVENT
DTSTART;TZID=America/Chicago:20260426T100000
DTEND;TZID=America/Chicago:20260426T170000
DTSTAMP:20260421T203408
CREATED:20260325T185457Z
LAST-MODIFIED:20260325T185459Z
UID:4843-1777197600-1777222800@americanlutheranchurch.com
SUMMARY:10:00 Fellowship
DESCRIPTION:
URL:https://americanlutheranchurch.com/event/1000-fellowship-109/
END:VEVENT
END:VCALENDAR