BEGIN:VCALENDAR
VERSION:2.0
PRODID:-//American Lutheran Church - ECPv6.15.14//NONSGML v1.0//EN
CALSCALE:GREGORIAN
METHOD:PUBLISH
X-ORIGINAL-URL:https://americanlutheranchurch.com
X-WR-CALDESC:Events for American Lutheran Church
REFRESH-INTERVAL;VALUE=DURATION:PT1H
X-Robots-Tag:noindex
X-PUBLISHED-TTL:PT1H
BEGIN:VTIMEZONE
TZID:America/Chicago
BEGIN:DAYLIGHT
TZOFFSETFROM:-0600
TZOFFSETTO:-0500
TZNAME:CDT
DTSTART:20210314T080000
END:DAYLIGHT
BEGIN:STANDARD
TZOFFSETFROM:-0500
TZOFFSETTO:-0600
TZNAME:CST
DTSTART:20211107T070000
END:STANDARD
BEGIN:DAYLIGHT
TZOFFSETFROM:-0600
TZOFFSETTO:-0500
TZNAME:CDT
DTSTART:20220313T080000
END:DAYLIGHT
BEGIN:STANDARD
TZOFFSETFROM:-0500
TZOFFSETTO:-0600
TZNAME:CST
DTSTART:20221106T070000
END:STANDARD
BEGIN:DAYLIGHT
TZOFFSETFROM:-0600
TZOFFSETTO:-0500
TZNAME:CDT
DTSTART:20230312T080000
END:DAYLIGHT
BEGIN:STANDARD
TZOFFSETFROM:-0500
TZOFFSETTO:-0600
TZNAME:CST
DTSTART:20231105T070000
END:STANDARD
BEGIN:DAYLIGHT
TZOFFSETFROM:-0600
TZOFFSETTO:-0500
TZNAME:CDT
DTSTART:20240310T080000
END:DAYLIGHT
BEGIN:STANDARD
TZOFFSETFROM:-0500
TZOFFSETTO:-0600
TZNAME:CST
DTSTART:20241103T070000
END:STANDARD
BEGIN:DAYLIGHT
TZOFFSETFROM:-0600
TZOFFSETTO:-0500
TZNAME:CDT
DTSTART:20250309T080000
END:DAYLIGHT
BEGIN:STANDARD
TZOFFSETFROM:-0500
TZOFFSETTO:-0600
TZNAME:CST
DTSTART:20251102T070000
END:STANDARD
BEGIN:DAYLIGHT
TZOFFSETFROM:-0600
TZOFFSETTO:-0500
TZNAME:CDT
DTSTART:20260308T080000
END:DAYLIGHT
BEGIN:STANDARD
TZOFFSETFROM:-0500
TZOFFSETTO:-0600
TZNAME:CST
DTSTART:20261101T070000
END:STANDARD
BEGIN:DAYLIGHT
TZOFFSETFROM:-0600
TZOFFSETTO:-0500
TZNAME:CDT
DTSTART:20270314T080000
END:DAYLIGHT
BEGIN:STANDARD
TZOFFSETFROM:-0500
TZOFFSETTO:-0600
TZNAME:CST
DTSTART:20271107T070000
END:STANDARD
END:VTIMEZONE
BEGIN:VEVENT
DTSTART;TZID=America/Chicago:20221030T100000
DTEND;TZID=America/Chicago:20221030T110000
DTSTAMP:20260421T152947
CREATED:20221028T203930Z
LAST-MODIFIED:20230323T201545Z
UID:2333-1667124000-1667127600@americanlutheranchurch.com
SUMMARY:10:00 Fellowship
DESCRIPTION:
URL:https://americanlutheranchurch.com/event/1000-am-fellowship/
LOCATION:American Lutheran Church\, 311 S 4th Ave\, Castlewood\, SD\, 57223\, United States
END:VEVENT
BEGIN:VEVENT
DTSTART;TZID=America/Chicago:20260308T100000
DTEND;TZID=America/Chicago:20260308T170000
DTSTAMP:20260421T152947
CREATED:20260218T184110Z
LAST-MODIFIED:20260218T184112Z
UID:4749-1772964000-1772989200@americanlutheranchurch.com
SUMMARY:10:00 Fellowship
DESCRIPTION:
URL:https://americanlutheranchurch.com/event/1000-fellowship-103/
END:VEVENT
BEGIN:VEVENT
DTSTART;TZID=America/Chicago:20260308T101500
DTEND;TZID=America/Chicago:20260308T170000
DTSTAMP:20260421T152947
CREATED:20260218T184202Z
LAST-MODIFIED:20260218T184203Z
UID:4751-1772964900-1772989200@americanlutheranchurch.com
SUMMARY:10:15 Sunday School
DESCRIPTION:
URL:https://americanlutheranchurch.com/event/1015-sunday-school-54/
END:VEVENT
BEGIN:VEVENT
DTSTART;TZID=America/Chicago:20260311T180000
DTEND;TZID=America/Chicago:20260311T183000
DTSTAMP:20260421T152947
CREATED:20260218T185729Z
LAST-MODIFIED:20260218T185732Z
UID:4779-1773252000-1773253800@americanlutheranchurch.com
SUMMARY:6:15 Lenten Supper
DESCRIPTION:
URL:https://americanlutheranchurch.com/event/615-lenten-supper-13/
END:VEVENT
BEGIN:VEVENT
DTSTART;TZID=America/Chicago:20260311T190000
DTEND;TZID=America/Chicago:20260311T193000
DTSTAMP:20260421T152947
CREATED:20260218T185803Z
LAST-MODIFIED:20260218T185804Z
UID:4781-1773255600-1773257400@americanlutheranchurch.com
SUMMARY:7:00 Lenten Worship
DESCRIPTION:
URL:https://americanlutheranchurch.com/event/700-lenten-worship-7/
END:VEVENT
BEGIN:VEVENT
DTSTART;TZID=America/Chicago:20260315T083000
DTEND;TZID=America/Chicago:20260315T170000
DTSTAMP:20260421T152947
CREATED:20260218T184849Z
LAST-MODIFIED:20260218T184852Z
UID:4753-1773563400-1773594000@americanlutheranchurch.com
SUMMARY:8:30 Choir Practice
DESCRIPTION:
URL:https://americanlutheranchurch.com/event/830-choir-practice-55/
END:VEVENT
BEGIN:VEVENT
DTSTART;TZID=America/Chicago:20230430T090000
DTEND;TZID=America/Chicago:20230430T170000
DTSTAMP:20260421T152947
CREATED:20230323T195758Z
LAST-MODIFIED:20230323T195759Z
UID:2664-1682845200-1682874000@americanlutheranchurch.com
SUMMARY:9:00 Worship
DESCRIPTION:
URL:https://americanlutheranchurch.com/event/900-worship/
LOCATION:American Lutheran Church\, 311 S 4th Ave\, Castlewood\, SD\, 57223\, United States
END:VEVENT
BEGIN:VEVENT
DTSTART;TZID=America/Chicago:20260315T090000
DTEND;TZID=America/Chicago:20260315T170000
DTSTAMP:20260421T152947
CREATED:20260218T184924Z
LAST-MODIFIED:20260218T184924Z
UID:4755-1773565200-1773594000@americanlutheranchurch.com
SUMMARY:9:00 Worship
DESCRIPTION:
URL:https://americanlutheranchurch.com/event/900-worship-102/
END:VEVENT
BEGIN:VEVENT
DTSTART;TZID=America/Chicago:20221030T100000
DTEND;TZID=America/Chicago:20221030T110000
DTSTAMP:20260421T152947
CREATED:20221028T203930Z
LAST-MODIFIED:20230323T201545Z
UID:2333-1667124000-1667127600@americanlutheranchurch.com
SUMMARY:10:00 Fellowship
DESCRIPTION:
URL:https://americanlutheranchurch.com/event/1000-am-fellowship/
LOCATION:American Lutheran Church\, 311 S 4th Ave\, Castlewood\, SD\, 57223\, United States
END:VEVENT
BEGIN:VEVENT
DTSTART;TZID=America/Chicago:20260315T100000
DTEND;TZID=America/Chicago:20260315T170000
DTSTAMP:20260421T152947
CREATED:20260218T185002Z
LAST-MODIFIED:20260218T185003Z
UID:4757-1773568800-1773594000@americanlutheranchurch.com
SUMMARY:10:00 Fellowship
DESCRIPTION:
URL:https://americanlutheranchurch.com/event/1000-fellowship-104/
END:VEVENT
BEGIN:VEVENT
DTSTART;TZID=America/Chicago:20260315T101500
DTEND;TZID=America/Chicago:20260315T170000
DTSTAMP:20260421T152947
CREATED:20260218T185040Z
LAST-MODIFIED:20260218T185044Z
UID:4759-1773569700-1773594000@americanlutheranchurch.com
SUMMARY:10:15 Sunday School
DESCRIPTION:
URL:https://americanlutheranchurch.com/event/1015-sunday-school-55/
END:VEVENT
BEGIN:VEVENT
DTSTART;TZID=America/Chicago:20260315T102000
DTEND;TZID=America/Chicago:20260315T170000
DTSTAMP:20260421T152947
CREATED:20260218T185122Z
LAST-MODIFIED:20260218T185124Z
UID:4761-1773570000-1773594000@americanlutheranchurch.com
SUMMARY:10:15 Church Council
DESCRIPTION:
URL:https://americanlutheranchurch.com/event/1015-church-council-35/
END:VEVENT
BEGIN:VEVENT
DTSTART;TZID=America/Chicago:20260317T080000
DTEND;TZID=America/Chicago:20260317T170000
DTSTAMP:20260421T152947
CREATED:20260218T190210Z
LAST-MODIFIED:20260218T190212Z
UID:4791-1773734400-1773766800@americanlutheranchurch.com
SUMMARY:ESD Pastor's Mtg. in Hudson
DESCRIPTION:
URL:https://americanlutheranchurch.com/event/esd-pastors-mtg-in-hudson/
END:VEVENT
BEGIN:VEVENT
DTSTART;TZID=America/Chicago:20260318T180000
DTEND;TZID=America/Chicago:20260318T183000
DTSTAMP:20260421T152947
CREATED:20260218T185838Z
LAST-MODIFIED:20260218T185839Z
UID:4783-1773856800-1773858600@americanlutheranchurch.com
SUMMARY:6:15 Lenten Supper
DESCRIPTION:
URL:https://americanlutheranchurch.com/event/615-lenten-supper-14/
END:VEVENT
BEGIN:VEVENT
DTSTART;TZID=America/Chicago:20260318T190000
DTEND;TZID=America/Chicago:20260318T193000
DTSTAMP:20260421T152947
CREATED:20260218T185914Z
LAST-MODIFIED:20260218T185917Z
UID:4785-1773860400-1773862200@americanlutheranchurch.com
SUMMARY:7:00 Lenten Worship
DESCRIPTION:
URL:https://americanlutheranchurch.com/event/700-lenten-worship-8/
END:VEVENT
BEGIN:VEVENT
DTSTART;TZID=America/Chicago:20230430T090000
DTEND;TZID=America/Chicago:20230430T170000
DTSTAMP:20260421T152947
CREATED:20230323T195758Z
LAST-MODIFIED:20230323T195759Z
UID:2664-1682845200-1682874000@americanlutheranchurch.com
SUMMARY:9:00 Worship
DESCRIPTION:
URL:https://americanlutheranchurch.com/event/900-worship/
LOCATION:American Lutheran Church\, 311 S 4th Ave\, Castlewood\, SD\, 57223\, United States
END:VEVENT
BEGIN:VEVENT
DTSTART;TZID=America/Chicago:20260322T090000
DTEND;TZID=America/Chicago:20260322T170000
DTSTAMP:20260421T152947
CREATED:20260218T185156Z
LAST-MODIFIED:20260218T185157Z
UID:4763-1774170000-1774198800@americanlutheranchurch.com
SUMMARY:9:00 Worship
DESCRIPTION:
URL:https://americanlutheranchurch.com/event/900-worship-103/
END:VEVENT
BEGIN:VEVENT
DTSTART;TZID=America/Chicago:20221030T100000
DTEND;TZID=America/Chicago:20221030T110000
DTSTAMP:20260421T152947
CREATED:20221028T203930Z
LAST-MODIFIED:20230323T201545Z
UID:2333-1667124000-1667127600@americanlutheranchurch.com
SUMMARY:10:00 Fellowship
DESCRIPTION:
URL:https://americanlutheranchurch.com/event/1000-am-fellowship/
LOCATION:American Lutheran Church\, 311 S 4th Ave\, Castlewood\, SD\, 57223\, United States
END:VEVENT
BEGIN:VEVENT
DTSTART;TZID=America/Chicago:20260322T100000
DTEND;TZID=America/Chicago:20260322T170000
DTSTAMP:20260421T152947
CREATED:20260218T185232Z
LAST-MODIFIED:20260218T185233Z
UID:4765-1774173600-1774198800@americanlutheranchurch.com
SUMMARY:10:00 Fellowship
DESCRIPTION:
URL:https://americanlutheranchurch.com/event/1000-fellowship-105/
END:VEVENT
BEGIN:VEVENT
DTSTART;TZID=America/Chicago:20260325T180000
DTEND;TZID=America/Chicago:20260325T183000
DTSTAMP:20260421T152947
CREATED:20260218T190002Z
LAST-MODIFIED:20260218T190002Z
UID:4787-1774461600-1774463400@americanlutheranchurch.com
SUMMARY:6:15 Lenten Supper
DESCRIPTION:
URL:https://americanlutheranchurch.com/event/615-lenten-supper-15/
END:VEVENT
BEGIN:VEVENT
DTSTART;TZID=America/Chicago:20260325T190000
DTEND;TZID=America/Chicago:20260325T193000
DTSTAMP:20260421T152947
CREATED:20260218T190036Z
LAST-MODIFIED:20260218T190039Z
UID:4789-1774465200-1774467000@americanlutheranchurch.com
SUMMARY:7:00 Lenten Worship
DESCRIPTION:
URL:https://americanlutheranchurch.com/event/700-lenten-worship-9/
END:VEVENT
BEGIN:VEVENT
DTSTART;TZID=America/Chicago:20260329T083000
DTEND;TZID=America/Chicago:20260329T170000
DTSTAMP:20260421T152947
CREATED:20260325T183644Z
LAST-MODIFIED:20260325T183645Z
UID:4800-1774773000-1774803600@americanlutheranchurch.com
SUMMARY:8:30 Choir Practice
DESCRIPTION:
URL:https://americanlutheranchurch.com/event/830-choir-practice-56/
END:VEVENT
BEGIN:VEVENT
DTSTART;TZID=America/Chicago:20230430T090000
DTEND;TZID=America/Chicago:20230430T170000
DTSTAMP:20260421T152947
CREATED:20230323T195758Z
LAST-MODIFIED:20230323T195759Z
UID:2664-1682845200-1682874000@americanlutheranchurch.com
SUMMARY:9:00 Worship
DESCRIPTION:
URL:https://americanlutheranchurch.com/event/900-worship/
LOCATION:American Lutheran Church\, 311 S 4th Ave\, Castlewood\, SD\, 57223\, United States
END:VEVENT
BEGIN:VEVENT
DTSTART;TZID=America/Chicago:20260329T090000
DTEND;TZID=America/Chicago:20260329T170000
DTSTAMP:20260421T152947
CREATED:20260218T185314Z
LAST-MODIFIED:20260218T185315Z
UID:4767-1774774800-1774803600@americanlutheranchurch.com
SUMMARY:9:00 Palm Sunday Worship
DESCRIPTION:
URL:https://americanlutheranchurch.com/event/900-palm-sunday-worship-4/
END:VEVENT
BEGIN:VEVENT
DTSTART;TZID=America/Chicago:20221030T100000
DTEND;TZID=America/Chicago:20221030T110000
DTSTAMP:20260421T152947
CREATED:20221028T203930Z
LAST-MODIFIED:20230323T201545Z
UID:2333-1667124000-1667127600@americanlutheranchurch.com
SUMMARY:10:00 Fellowship
DESCRIPTION:
URL:https://americanlutheranchurch.com/event/1000-am-fellowship/
LOCATION:American Lutheran Church\, 311 S 4th Ave\, Castlewood\, SD\, 57223\, United States
END:VEVENT
BEGIN:VEVENT
DTSTART;TZID=America/Chicago:20260329T100000
DTEND;TZID=America/Chicago:20260329T170000
DTSTAMP:20260421T152947
CREATED:20260218T185352Z
LAST-MODIFIED:20260218T185353Z
UID:4769-1774778400-1774803600@americanlutheranchurch.com
SUMMARY:10:00 Fellowship
DESCRIPTION:
URL:https://americanlutheranchurch.com/event/1000-fellowship-106/
END:VEVENT
BEGIN:VEVENT
DTSTART;TZID=America/Chicago:20260329T101500
DTEND;TZID=America/Chicago:20260329T170000
DTSTAMP:20260421T152947
CREATED:20260218T185432Z
LAST-MODIFIED:20260218T185432Z
UID:4771-1774779300-1774803600@americanlutheranchurch.com
SUMMARY:10:15 Sunday School
DESCRIPTION:
URL:https://americanlutheranchurch.com/event/1015-sunday-school-56/
END:VEVENT
BEGIN:VEVENT
DTSTART;TZID=America/Chicago:20260401T080000
DTEND;TZID=America/Chicago:20260401T170000
DTSTAMP:20260421T152947
CREATED:20260325T190439Z
LAST-MODIFIED:20260325T190440Z
UID:4853-1775030400-1775062800@americanlutheranchurch.com
SUMMARY:7:00 Wednesday in the Word Youth Prayer Breakfast
DESCRIPTION:
URL:https://americanlutheranchurch.com/event/700-wednesday-in-the-word-youth-prayer-breakfast/
END:VEVENT
BEGIN:VEVENT
DTSTART;TZID=America/Chicago:20260402T080000
DTEND;TZID=America/Chicago:20260402T170000
DTSTAMP:20260421T152947
CREATED:20260325T185909Z
LAST-MODIFIED:20260325T185911Z
UID:4847-1775116800-1775149200@americanlutheranchurch.com
SUMMARY:7:00 pm Maundy Thursday Worship with Holy Communion
DESCRIPTION:
URL:https://americanlutheranchurch.com/event/700-pm-maundy-thursday-worship-with-holy-communion/
END:VEVENT
BEGIN:VEVENT
DTSTART;TZID=America/Chicago:20260403T080000
DTEND;TZID=America/Chicago:20260403T170000
DTSTAMP:20260421T152947
CREATED:20260325T190324Z
LAST-MODIFIED:20260325T190325Z
UID:4851-1775203200-1775235600@americanlutheranchurch.com
SUMMARY:7:00 pm Good Friday Worship at ALC\, with Hamlin Reformed
DESCRIPTION:
URL:https://americanlutheranchurch.com/event/700-pm-good-friday-worship-at-alc-with-hamlin-reformed/
END:VEVENT
END:VCALENDAR