BEGIN:VCALENDAR
VERSION:2.0
PRODID:-//American Lutheran Church - ECPv6.15.14//NONSGML v1.0//EN
CALSCALE:GREGORIAN
METHOD:PUBLISH
X-WR-CALNAME:American Lutheran Church
X-ORIGINAL-URL:https://americanlutheranchurch.com
X-WR-CALDESC:Events for American Lutheran Church
REFRESH-INTERVAL;VALUE=DURATION:PT1H
X-Robots-Tag:noindex
X-PUBLISHED-TTL:PT1H
BEGIN:VTIMEZONE
TZID:America/Chicago
BEGIN:DAYLIGHT
TZOFFSETFROM:-0600
TZOFFSETTO:-0500
TZNAME:CDT
DTSTART:20210314T080000
END:DAYLIGHT
BEGIN:STANDARD
TZOFFSETFROM:-0500
TZOFFSETTO:-0600
TZNAME:CST
DTSTART:20211107T070000
END:STANDARD
BEGIN:DAYLIGHT
TZOFFSETFROM:-0600
TZOFFSETTO:-0500
TZNAME:CDT
DTSTART:20220313T080000
END:DAYLIGHT
BEGIN:STANDARD
TZOFFSETFROM:-0500
TZOFFSETTO:-0600
TZNAME:CST
DTSTART:20221106T070000
END:STANDARD
BEGIN:DAYLIGHT
TZOFFSETFROM:-0600
TZOFFSETTO:-0500
TZNAME:CDT
DTSTART:20230312T080000
END:DAYLIGHT
BEGIN:STANDARD
TZOFFSETFROM:-0500
TZOFFSETTO:-0600
TZNAME:CST
DTSTART:20231105T070000
END:STANDARD
BEGIN:DAYLIGHT
TZOFFSETFROM:-0600
TZOFFSETTO:-0500
TZNAME:CDT
DTSTART:20240310T080000
END:DAYLIGHT
BEGIN:STANDARD
TZOFFSETFROM:-0500
TZOFFSETTO:-0600
TZNAME:CST
DTSTART:20241103T070000
END:STANDARD
BEGIN:DAYLIGHT
TZOFFSETFROM:-0600
TZOFFSETTO:-0500
TZNAME:CDT
DTSTART:20250309T080000
END:DAYLIGHT
BEGIN:STANDARD
TZOFFSETFROM:-0500
TZOFFSETTO:-0600
TZNAME:CST
DTSTART:20251102T070000
END:STANDARD
END:VTIMEZONE
BEGIN:VEVENT
DTSTART;TZID=America/Chicago:20230430T090000
DTEND;TZID=America/Chicago:20230430T170000
DTSTAMP:20260421T134538
CREATED:20230323T195758Z
LAST-MODIFIED:20230323T195759Z
UID:2664-1682845200-1682874000@americanlutheranchurch.com
SUMMARY:9:00 Worship
DESCRIPTION:
URL:https://americanlutheranchurch.com/event/900-worship/
LOCATION:American Lutheran Church\, 311 S 4th Ave\, Castlewood\, SD\, 57223\, United States
END:VEVENT
BEGIN:VEVENT
DTSTART;TZID=America/Chicago:20240124T190000
DTEND;TZID=America/Chicago:20240124T193000
DTSTAMP:20260421T134538
CREATED:20231219T202301Z
LAST-MODIFIED:20231219T202302Z
UID:3118-1706122800-1706124600@americanlutheranchurch.com
SUMMARY:7:00 Bible Study
DESCRIPTION:
URL:https://americanlutheranchurch.com/event/700-bible-study-9/
END:VEVENT
BEGIN:VEVENT
DTSTART;TZID=America/Chicago:20240124T171500
DTEND;TZID=America/Chicago:20240124T174500
DTSTAMP:20260421T134538
CREATED:20231219T202223Z
LAST-MODIFIED:20231219T202224Z
UID:3116-1706116500-1706118300@americanlutheranchurch.com
SUMMARY:5:15 Confirmation
DESCRIPTION:
URL:https://americanlutheranchurch.com/event/515-confirmation-23/
END:VEVENT
BEGIN:VEVENT
DTSTART;TZID=America/Chicago:20240124T153000
DTEND;TZID=America/Chicago:20240124T170000
DTSTAMP:20260421T134538
CREATED:20231219T202153Z
LAST-MODIFIED:20231219T202154Z
UID:3114-1706110200-1706115600@americanlutheranchurch.com
SUMMARY:3:30 Bible Study at Asst. Living
DESCRIPTION:
URL:https://americanlutheranchurch.com/event/330-bible-study-at-asst-living-7/
END:VEVENT
BEGIN:VEVENT
DTSTART;TZID=America/Chicago:20240124T093000
DTEND;TZID=America/Chicago:20240124T170000
DTSTAMP:20260421T134538
CREATED:20231219T202109Z
LAST-MODIFIED:20231219T202110Z
UID:3112-1706088600-1706115600@americanlutheranchurch.com
SUMMARY:9:30 Bible Study
DESCRIPTION:
URL:https://americanlutheranchurch.com/event/930-bible-study-9/
END:VEVENT
BEGIN:VEVENT
DTSTART;TZID=America/Chicago:20240121T101500
DTEND;TZID=America/Chicago:20240121T170000
DTSTAMP:20260421T134538
CREATED:20231219T201347Z
LAST-MODIFIED:20231219T201348Z
UID:3094-1705832100-1705856400@americanlutheranchurch.com
SUMMARY:10:15 Annual Meeting
DESCRIPTION:
URL:https://americanlutheranchurch.com/event/1015-annual-meeting-2/
END:VEVENT
BEGIN:VEVENT
DTSTART;TZID=America/Chicago:20221030T100000
DTEND;TZID=America/Chicago:20221030T110000
DTSTAMP:20260421T134538
CREATED:20221028T203930Z
LAST-MODIFIED:20230323T201545Z
UID:2333-1667124000-1667127600@americanlutheranchurch.com
SUMMARY:10:00 Fellowship
DESCRIPTION:
URL:https://americanlutheranchurch.com/event/1000-am-fellowship/
LOCATION:American Lutheran Church\, 311 S 4th Ave\, Castlewood\, SD\, 57223\, United States
END:VEVENT
BEGIN:VEVENT
DTSTART;TZID=America/Chicago:20230430T090000
DTEND;TZID=America/Chicago:20230430T170000
DTSTAMP:20260421T134538
CREATED:20230323T195758Z
LAST-MODIFIED:20230323T195759Z
UID:2664-1682845200-1682874000@americanlutheranchurch.com
SUMMARY:9:00 Worship
DESCRIPTION:
URL:https://americanlutheranchurch.com/event/900-worship/
LOCATION:American Lutheran Church\, 311 S 4th Ave\, Castlewood\, SD\, 57223\, United States
END:VEVENT
BEGIN:VEVENT
DTSTART;TZID=America/Chicago:20240121T083000
DTEND;TZID=America/Chicago:20240121T170000
DTSTAMP:20260421T134538
CREATED:20240114T165406Z
LAST-MODIFIED:20240114T165408Z
UID:3154-1705825800-1705856400@americanlutheranchurch.com
SUMMARY:8:30 Choir Practice
DESCRIPTION:
URL:https://americanlutheranchurch.com/event/830-choir-practice-12/
END:VEVENT
BEGIN:VEVENT
DTSTART;TZID=America/Chicago:20240117T183000
DTEND;TZID=America/Chicago:20240117T190000
DTSTAMP:20260421T134538
CREATED:20231219T201951Z
LAST-MODIFIED:20231219T201952Z
UID:3110-1705516200-1705518000@americanlutheranchurch.com
SUMMARY:6:30 Youth Group
DESCRIPTION:
URL:https://americanlutheranchurch.com/event/630-youth-group-13/
END:VEVENT
BEGIN:VEVENT
DTSTART;TZID=America/Chicago:20240117T171500
DTEND;TZID=America/Chicago:20240117T174500
DTSTAMP:20260421T134538
CREATED:20231219T201919Z
LAST-MODIFIED:20231219T201921Z
UID:3108-1705511700-1705513500@americanlutheranchurch.com
SUMMARY:5:15 Confirmation
DESCRIPTION:
URL:https://americanlutheranchurch.com/event/515-confirmation-22/
END:VEVENT
BEGIN:VEVENT
DTSTART;TZID=America/Chicago:20240114T101500
DTEND;TZID=America/Chicago:20240114T170000
DTSTAMP:20260421T134538
CREATED:20240113T000535Z
LAST-MODIFIED:20240113T000536Z
UID:3148-1705227300-1705251600@americanlutheranchurch.com
SUMMARY:No Sunday School (weather)
DESCRIPTION:
URL:https://americanlutheranchurch.com/event/no-sunday-school-weather/
END:VEVENT
BEGIN:VEVENT
DTSTART;TZID=America/Chicago:20240114T101500
DTEND;TZID=America/Chicago:20240114T170000
DTSTAMP:20260421T134538
CREATED:20231219T201312Z
LAST-MODIFIED:20231219T201313Z
UID:3092-1705227300-1705251600@americanlutheranchurch.com
SUMMARY:10:15 Church Council
DESCRIPTION:
URL:https://americanlutheranchurch.com/event/1015-church-council-13/
END:VEVENT
BEGIN:VEVENT
DTSTART;TZID=America/Chicago:20221030T100000
DTEND;TZID=America/Chicago:20221030T110000
DTSTAMP:20260421T134538
CREATED:20221028T203930Z
LAST-MODIFIED:20230323T201545Z
UID:2333-1667124000-1667127600@americanlutheranchurch.com
SUMMARY:10:00 Fellowship
DESCRIPTION:
URL:https://americanlutheranchurch.com/event/1000-am-fellowship/
LOCATION:American Lutheran Church\, 311 S 4th Ave\, Castlewood\, SD\, 57223\, United States
END:VEVENT
BEGIN:VEVENT
DTSTART;TZID=America/Chicago:20230430T090000
DTEND;TZID=America/Chicago:20230430T170000
DTSTAMP:20260421T134538
CREATED:20230323T195758Z
LAST-MODIFIED:20230323T195759Z
UID:2664-1682845200-1682874000@americanlutheranchurch.com
SUMMARY:9:00 Worship
DESCRIPTION:
URL:https://americanlutheranchurch.com/event/900-worship/
LOCATION:American Lutheran Church\, 311 S 4th Ave\, Castlewood\, SD\, 57223\, United States
END:VEVENT
BEGIN:VEVENT
DTSTART;TZID=America/Chicago:20240111T080000
DTEND;TZID=America/Chicago:20240111T170000
DTSTAMP:20260421T134538
CREATED:20231205T215835Z
LAST-MODIFIED:20231205T215836Z
UID:3084-1704960000-1704992400@americanlutheranchurch.com
SUMMARY:ESD Pastor's in Brandon
DESCRIPTION:
URL:https://americanlutheranchurch.com/event/esd-pastors-in-brandon/
END:VEVENT
BEGIN:VEVENT
DTSTART;TZID=America/Chicago:20240110T190000
DTEND;TZID=America/Chicago:20240110T193000
DTSTAMP:20260421T134538
CREATED:20231219T201843Z
LAST-MODIFIED:20231219T201844Z
UID:3106-1704913200-1704915000@americanlutheranchurch.com
SUMMARY:7:00 Bible Study
DESCRIPTION:
URL:https://americanlutheranchurch.com/event/700-bible-study-8/
END:VEVENT
BEGIN:VEVENT
DTSTART;TZID=America/Chicago:20240110T171500
DTEND;TZID=America/Chicago:20240110T174500
DTSTAMP:20260421T134538
CREATED:20231219T201806Z
LAST-MODIFIED:20231219T201807Z
UID:3104-1704906900-1704908700@americanlutheranchurch.com
SUMMARY:5:15 Confirmation
DESCRIPTION:
URL:https://americanlutheranchurch.com/event/515-confirmation-21/
END:VEVENT
BEGIN:VEVENT
DTSTART;TZID=America/Chicago:20240110T153000
DTEND;TZID=America/Chicago:20240110T170000
DTSTAMP:20260421T134538
CREATED:20231219T201726Z
LAST-MODIFIED:20231219T201727Z
UID:3102-1704900600-1704906000@americanlutheranchurch.com
SUMMARY:3:30 Bible Study at Asst. Living
DESCRIPTION:
URL:https://americanlutheranchurch.com/event/330-bible-study-at-asst-living-6/
END:VEVENT
BEGIN:VEVENT
DTSTART;TZID=America/Chicago:20240110T093000
DTEND;TZID=America/Chicago:20240110T170000
DTSTAMP:20260421T134538
CREATED:20231219T201638Z
LAST-MODIFIED:20231219T201639Z
UID:3100-1704879000-1704906000@americanlutheranchurch.com
SUMMARY:9:30 Bible Study
DESCRIPTION:
URL:https://americanlutheranchurch.com/event/930-bible-study-8/
END:VEVENT
BEGIN:VEVENT
DTSTART;TZID=America/Chicago:20240108T080000
DTEND;TZID=America/Chicago:20240108T170000
DTSTAMP:20260421T134538
CREATED:20240103T161825Z
LAST-MODIFIED:20240103T161826Z
UID:3131-1704700800-1704733200@americanlutheranchurch.com
SUMMARY:1:00 "Un-decorate" Party
DESCRIPTION:
URL:https://americanlutheranchurch.com/event/100-un-decorate-party/
END:VEVENT
BEGIN:VEVENT
DTSTART;TZID=America/Chicago:20221030T100000
DTEND;TZID=America/Chicago:20221030T110000
DTSTAMP:20260421T134538
CREATED:20221028T203930Z
LAST-MODIFIED:20230323T201545Z
UID:2333-1667124000-1667127600@americanlutheranchurch.com
SUMMARY:10:00 Fellowship
DESCRIPTION:
URL:https://americanlutheranchurch.com/event/1000-am-fellowship/
LOCATION:American Lutheran Church\, 311 S 4th Ave\, Castlewood\, SD\, 57223\, United States
END:VEVENT
BEGIN:VEVENT
DTSTART;TZID=America/Chicago:20230430T090000
DTEND;TZID=America/Chicago:20230430T170000
DTSTAMP:20260421T134538
CREATED:20230323T195758Z
LAST-MODIFIED:20230323T195759Z
UID:2664-1682845200-1682874000@americanlutheranchurch.com
SUMMARY:9:00 Worship
DESCRIPTION:
URL:https://americanlutheranchurch.com/event/900-worship/
LOCATION:American Lutheran Church\, 311 S 4th Ave\, Castlewood\, SD\, 57223\, United States
END:VEVENT
BEGIN:VEVENT
DTSTART;TZID=America/Chicago:20240106T080000
DTEND;TZID=America/Chicago:20240106T170000
DTSTAMP:20260421T134538
CREATED:20230802T161513Z
LAST-MODIFIED:20230802T161515Z
UID:2780-1704528000-1704560400@americanlutheranchurch.com
SUMMARY:1:00 American Legion Oratory
DESCRIPTION:
URL:https://americanlutheranchurch.com/event/100-american-legion-oratory/
LOCATION:American Lutheran Church\, 311 S 4th Ave\, Castlewood\, SD\, 57223\, United States
END:VEVENT
BEGIN:VEVENT
DTSTART;TZID=America/Chicago:20240103T183000
DTEND;TZID=America/Chicago:20240103T190000
DTSTAMP:20260421T134538
CREATED:20231219T201556Z
LAST-MODIFIED:20231219T201557Z
UID:3098-1704306600-1704308400@americanlutheranchurch.com
SUMMARY:6:30 Youth Group
DESCRIPTION:
URL:https://americanlutheranchurch.com/event/630-youth-group-12/
END:VEVENT
BEGIN:VEVENT
DTSTART;TZID=America/Chicago:20240103T171500
DTEND;TZID=America/Chicago:20240103T174500
DTSTAMP:20260421T134538
CREATED:20231219T201517Z
LAST-MODIFIED:20231219T201518Z
UID:3096-1704302100-1704303900@americanlutheranchurch.com
SUMMARY:5:15 Confirmation
DESCRIPTION:
URL:https://americanlutheranchurch.com/event/515-confirmation-20/
END:VEVENT
BEGIN:VEVENT
DTSTART;TZID=America/Chicago:20231231T101500
DTEND;TZID=America/Chicago:20231231T170000
DTSTAMP:20260421T134538
CREATED:20231115T204623Z
LAST-MODIFIED:20231115T204624Z
UID:3040-1704017700-1704042000@americanlutheranchurch.com
SUMMARY:
DESCRIPTION:
URL:https://americanlutheranchurch.com/event/1015-sunday-school-6/
END:VEVENT
BEGIN:VEVENT
DTSTART;TZID=America/Chicago:20221030T100000
DTEND;TZID=America/Chicago:20221030T110000
DTSTAMP:20260421T134538
CREATED:20221028T203930Z
LAST-MODIFIED:20230323T201545Z
UID:2333-1667124000-1667127600@americanlutheranchurch.com
SUMMARY:10:00 Fellowship
DESCRIPTION:
URL:https://americanlutheranchurch.com/event/1000-am-fellowship/
LOCATION:American Lutheran Church\, 311 S 4th Ave\, Castlewood\, SD\, 57223\, United States
END:VEVENT
BEGIN:VEVENT
DTSTART;TZID=America/Chicago:20230430T090000
DTEND;TZID=America/Chicago:20230430T170000
DTSTAMP:20260421T134538
CREATED:20230323T195758Z
LAST-MODIFIED:20230323T195759Z
UID:2664-1682845200-1682874000@americanlutheranchurch.com
SUMMARY:9:00 Worship
DESCRIPTION:
URL:https://americanlutheranchurch.com/event/900-worship/
LOCATION:American Lutheran Church\, 311 S 4th Ave\, Castlewood\, SD\, 57223\, United States
END:VEVENT
BEGIN:VEVENT
DTSTART;TZID=America/Chicago:20231224T173000
DTEND;TZID=America/Chicago:20231224T180000
DTSTAMP:20260421T134538
CREATED:20231115T205348Z
LAST-MODIFIED:20231115T205349Z
UID:3047-1703439000-1703440800@americanlutheranchurch.com
SUMMARY:5:30 pm Christmas Eve Candlelight Worship with Holy Communion
DESCRIPTION:
URL:https://americanlutheranchurch.com/event/530-pm-christmas-eve-candlelight-worship-with-holy-communion/
END:VEVENT
END:VCALENDAR