BEGIN:VCALENDAR
VERSION:2.0
PRODID:-//American Lutheran Church - ECPv6.15.14//NONSGML v1.0//EN
CALSCALE:GREGORIAN
METHOD:PUBLISH
X-WR-CALNAME:American Lutheran Church
X-ORIGINAL-URL:https://americanlutheranchurch.com
X-WR-CALDESC:Events for American Lutheran Church
REFRESH-INTERVAL;VALUE=DURATION:PT1H
X-Robots-Tag:noindex
X-PUBLISHED-TTL:PT1H
BEGIN:VTIMEZONE
TZID:America/Chicago
BEGIN:DAYLIGHT
TZOFFSETFROM:-0600
TZOFFSETTO:-0500
TZNAME:CDT
DTSTART:20210314T080000
END:DAYLIGHT
BEGIN:STANDARD
TZOFFSETFROM:-0500
TZOFFSETTO:-0600
TZNAME:CST
DTSTART:20211107T070000
END:STANDARD
BEGIN:DAYLIGHT
TZOFFSETFROM:-0600
TZOFFSETTO:-0500
TZNAME:CDT
DTSTART:20220313T080000
END:DAYLIGHT
BEGIN:STANDARD
TZOFFSETFROM:-0500
TZOFFSETTO:-0600
TZNAME:CST
DTSTART:20221106T070000
END:STANDARD
BEGIN:DAYLIGHT
TZOFFSETFROM:-0600
TZOFFSETTO:-0500
TZNAME:CDT
DTSTART:20230312T080000
END:DAYLIGHT
BEGIN:STANDARD
TZOFFSETFROM:-0500
TZOFFSETTO:-0600
TZNAME:CST
DTSTART:20231105T070000
END:STANDARD
BEGIN:DAYLIGHT
TZOFFSETFROM:-0600
TZOFFSETTO:-0500
TZNAME:CDT
DTSTART:20240310T080000
END:DAYLIGHT
BEGIN:STANDARD
TZOFFSETFROM:-0500
TZOFFSETTO:-0600
TZNAME:CST
DTSTART:20241103T070000
END:STANDARD
BEGIN:DAYLIGHT
TZOFFSETFROM:-0600
TZOFFSETTO:-0500
TZNAME:CDT
DTSTART:20250309T080000
END:DAYLIGHT
BEGIN:STANDARD
TZOFFSETFROM:-0500
TZOFFSETTO:-0600
TZNAME:CST
DTSTART:20251102T070000
END:STANDARD
END:VTIMEZONE
BEGIN:VEVENT
DTSTART;TZID=America/Chicago:20230430T090000
DTEND;TZID=America/Chicago:20230430T170000
DTSTAMP:20260421T085025
CREATED:20230323T195758Z
LAST-MODIFIED:20230323T195759Z
UID:2664-1682845200-1682874000@americanlutheranchurch.com
SUMMARY:9:00 Worship
DESCRIPTION:
URL:https://americanlutheranchurch.com/event/900-worship/
LOCATION:American Lutheran Church\, 311 S 4th Ave\, Castlewood\, SD\, 57223\, United States
END:VEVENT
BEGIN:VEVENT
DTSTART;TZID=America/Chicago:20240222T080000
DTEND;TZID=America/Chicago:20240222T170000
DTSTAMP:20260421T085025
CREATED:20240124T195316Z
LAST-MODIFIED:20240124T195317Z
UID:3210-1708588800-1708621200@americanlutheranchurch.com
SUMMARY:ESD Pastor's Mtg. in Lennox
DESCRIPTION:
URL:https://americanlutheranchurch.com/event/esd-pastors-mtg-in-lennox/
END:VEVENT
BEGIN:VEVENT
DTSTART;TZID=America/Chicago:20240221T194500
DTEND;TZID=America/Chicago:20240221T200000
DTSTAMP:20260421T085025
CREATED:20240124T195234Z
LAST-MODIFIED:20240124T195235Z
UID:3208-1708544700-1708545600@americanlutheranchurch.com
SUMMARY:7:45 Youth Group
DESCRIPTION:
URL:https://americanlutheranchurch.com/event/745-youth-group-2/
END:VEVENT
BEGIN:VEVENT
DTSTART;TZID=America/Chicago:20240221T190000
DTEND;TZID=America/Chicago:20240221T193000
DTSTAMP:20260421T085025
CREATED:20240124T195139Z
LAST-MODIFIED:20240124T195140Z
UID:3206-1708542000-1708543800@americanlutheranchurch.com
SUMMARY:7:00 Mid-Week Lenten Worship
DESCRIPTION:
URL:https://americanlutheranchurch.com/event/700-mid-week-lenten-worship/
END:VEVENT
BEGIN:VEVENT
DTSTART;TZID=America/Chicago:20240221T181500
DTEND;TZID=America/Chicago:20240221T184500
DTSTAMP:20260421T085025
CREATED:20240124T195100Z
LAST-MODIFIED:20240124T195101Z
UID:3204-1708539300-1708541100@americanlutheranchurch.com
SUMMARY:6:15 Lenten Supper
DESCRIPTION:
URL:https://americanlutheranchurch.com/event/615-lenten-supper-3/
END:VEVENT
BEGIN:VEVENT
DTSTART;TZID=America/Chicago:20240218T101500
DTEND;TZID=America/Chicago:20240218T170000
DTSTAMP:20260421T085025
CREATED:20240124T194613Z
LAST-MODIFIED:20240124T194614Z
UID:3188-1708251300-1708275600@americanlutheranchurch.com
SUMMARY:10:15 Church Council
DESCRIPTION:
URL:https://americanlutheranchurch.com/event/1015-church-council-15/
END:VEVENT
BEGIN:VEVENT
DTSTART;TZID=America/Chicago:20240218T101500
DTEND;TZID=America/Chicago:20240218T170000
DTSTAMP:20260421T085025
CREATED:20240124T194504Z
LAST-MODIFIED:20240124T194505Z
UID:3184-1708251300-1708275600@americanlutheranchurch.com
SUMMARY:No Sunday School
DESCRIPTION:
URL:https://americanlutheranchurch.com/event/no-sunday-school/
END:VEVENT
BEGIN:VEVENT
DTSTART;TZID=America/Chicago:20240218T101500
DTEND;TZID=America/Chicago:20240218T170000
DTSTAMP:20260421T085025
CREATED:20240114T165256Z
LAST-MODIFIED:20240114T165257Z
UID:3152-1708251300-1708275600@americanlutheranchurch.com
SUMMARY:10:15 Church Council
DESCRIPTION:
URL:https://americanlutheranchurch.com/event/1015-church-council-14/
END:VEVENT
BEGIN:VEVENT
DTSTART;TZID=America/Chicago:20240218T101500
DTEND;TZID=America/Chicago:20240218T170000
DTSTAMP:20260421T085025
CREATED:20240113T000645Z
LAST-MODIFIED:20240113T000835Z
UID:3150-1708251300-1708275600@americanlutheranchurch.com
SUMMARY:No Sunday School (Pres. Wknd)
DESCRIPTION:
URL:https://americanlutheranchurch.com/event/no-sunday-school-pres-wknd/
END:VEVENT
BEGIN:VEVENT
DTSTART;TZID=America/Chicago:20240218T100000
DTEND;TZID=America/Chicago:20240218T170000
DTSTAMP:20260421T085025
CREATED:20240124T194533Z
LAST-MODIFIED:20240124T194534Z
UID:3186-1708250400-1708275600@americanlutheranchurch.com
SUMMARY:10:00 Fellowship
DESCRIPTION:
URL:https://americanlutheranchurch.com/event/1000-fellowship-5/
END:VEVENT
BEGIN:VEVENT
DTSTART;TZID=America/Chicago:20221030T100000
DTEND;TZID=America/Chicago:20221030T110000
DTSTAMP:20260421T085025
CREATED:20221028T203930Z
LAST-MODIFIED:20230323T201545Z
UID:2333-1667124000-1667127600@americanlutheranchurch.com
SUMMARY:10:00 Fellowship
DESCRIPTION:
URL:https://americanlutheranchurch.com/event/1000-am-fellowship/
LOCATION:American Lutheran Church\, 311 S 4th Ave\, Castlewood\, SD\, 57223\, United States
END:VEVENT
BEGIN:VEVENT
DTSTART;TZID=America/Chicago:20240218T090000
DTEND;TZID=America/Chicago:20240218T170000
DTSTAMP:20260421T085025
CREATED:20240124T194430Z
LAST-MODIFIED:20240124T194430Z
UID:3182-1708246800-1708275600@americanlutheranchurch.com
SUMMARY:9:00 Worship
DESCRIPTION:
URL:https://americanlutheranchurch.com/event/900-worship-9/
END:VEVENT
BEGIN:VEVENT
DTSTART;TZID=America/Chicago:20230430T090000
DTEND;TZID=America/Chicago:20230430T170000
DTSTAMP:20260421T085025
CREATED:20230323T195758Z
LAST-MODIFIED:20230323T195759Z
UID:2664-1682845200-1682874000@americanlutheranchurch.com
SUMMARY:9:00 Worship
DESCRIPTION:
URL:https://americanlutheranchurch.com/event/900-worship/
LOCATION:American Lutheran Church\, 311 S 4th Ave\, Castlewood\, SD\, 57223\, United States
END:VEVENT
BEGIN:VEVENT
DTSTART;TZID=America/Chicago:20240218T083000
DTEND;TZID=America/Chicago:20240218T170000
DTSTAMP:20260421T085025
CREATED:20240114T165616Z
LAST-MODIFIED:20240114T165617Z
UID:3160-1708245000-1708275600@americanlutheranchurch.com
SUMMARY:8:30 Choir Practice
DESCRIPTION:
URL:https://americanlutheranchurch.com/event/830-choir-practice-14/
END:VEVENT
BEGIN:VEVENT
DTSTART;TZID=America/Chicago:20240214T190000
DTEND;TZID=America/Chicago:20240214T193000
DTSTAMP:20260421T085025
CREATED:20240124T195023Z
LAST-MODIFIED:20240124T195024Z
UID:3202-1707937200-1707939000@americanlutheranchurch.com
SUMMARY:7:00 Ash Wednesday Worship
DESCRIPTION:
URL:https://americanlutheranchurch.com/event/700-ash-wednesday-worship-2/
END:VEVENT
BEGIN:VEVENT
DTSTART;TZID=America/Chicago:20240214T181500
DTEND;TZID=America/Chicago:20240214T184500
DTSTAMP:20260421T085025
CREATED:20240124T194940Z
LAST-MODIFIED:20240124T194941Z
UID:3200-1707934500-1707936300@americanlutheranchurch.com
SUMMARY:6:15 Lenten Supper
DESCRIPTION:
URL:https://americanlutheranchurch.com/event/615-lenten-supper-2/
END:VEVENT
BEGIN:VEVENT
DTSTART;TZID=America/Chicago:20240211T101500
DTEND;TZID=America/Chicago:20240211T170000
DTSTAMP:20260421T085025
CREATED:20240124T194342Z
LAST-MODIFIED:20240124T194343Z
UID:3180-1707646500-1707670800@americanlutheranchurch.com
SUMMARY:10:15 Sunday School
DESCRIPTION:
URL:https://americanlutheranchurch.com/event/1015-sunday-school-8/
END:VEVENT
BEGIN:VEVENT
DTSTART;TZID=America/Chicago:20240211T100000
DTEND;TZID=America/Chicago:20240211T170000
DTSTAMP:20260421T085025
CREATED:20240124T194308Z
LAST-MODIFIED:20240124T194309Z
UID:3178-1707645600-1707670800@americanlutheranchurch.com
SUMMARY:10:00 Fellowship
DESCRIPTION:
URL:https://americanlutheranchurch.com/event/1000-fellowship-4/
END:VEVENT
BEGIN:VEVENT
DTSTART;TZID=America/Chicago:20221030T100000
DTEND;TZID=America/Chicago:20221030T110000
DTSTAMP:20260421T085025
CREATED:20221028T203930Z
LAST-MODIFIED:20230323T201545Z
UID:2333-1667124000-1667127600@americanlutheranchurch.com
SUMMARY:10:00 Fellowship
DESCRIPTION:
URL:https://americanlutheranchurch.com/event/1000-am-fellowship/
LOCATION:American Lutheran Church\, 311 S 4th Ave\, Castlewood\, SD\, 57223\, United States
END:VEVENT
BEGIN:VEVENT
DTSTART;TZID=America/Chicago:20240211T090000
DTEND;TZID=America/Chicago:20240211T170000
DTSTAMP:20260421T085025
CREATED:20240124T194233Z
LAST-MODIFIED:20240124T194234Z
UID:3176-1707642000-1707670800@americanlutheranchurch.com
SUMMARY:9:00 Worship
DESCRIPTION:
URL:https://americanlutheranchurch.com/event/900-worship-8/
END:VEVENT
BEGIN:VEVENT
DTSTART;TZID=America/Chicago:20230430T090000
DTEND;TZID=America/Chicago:20230430T170000
DTSTAMP:20260421T085025
CREATED:20230323T195758Z
LAST-MODIFIED:20230323T195759Z
UID:2664-1682845200-1682874000@americanlutheranchurch.com
SUMMARY:9:00 Worship
DESCRIPTION:
URL:https://americanlutheranchurch.com/event/900-worship/
LOCATION:American Lutheran Church\, 311 S 4th Ave\, Castlewood\, SD\, 57223\, United States
END:VEVENT
BEGIN:VEVENT
DTSTART;TZID=America/Chicago:20240211T083000
DTEND;TZID=America/Chicago:20240211T170000
DTSTAMP:20260421T085025
CREATED:20240114T165541Z
LAST-MODIFIED:20240114T165542Z
UID:3158-1707640200-1707670800@americanlutheranchurch.com
SUMMARY:8:30 Choir Practice
DESCRIPTION:
URL:https://americanlutheranchurch.com/event/830-choir-practice-13/
END:VEVENT
BEGIN:VEVENT
DTSTART;TZID=America/Chicago:20240207T183000
DTEND;TZID=America/Chicago:20240207T190000
DTSTAMP:20260421T085025
CREATED:20240124T194858Z
LAST-MODIFIED:20240124T194859Z
UID:3198-1707330600-1707332400@americanlutheranchurch.com
SUMMARY:6:30 Youth Group
DESCRIPTION:
URL:https://americanlutheranchurch.com/event/630-youth-group-14/
END:VEVENT
BEGIN:VEVENT
DTSTART;TZID=America/Chicago:20240206T080000
DTEND;TZID=America/Chicago:20240206T170000
DTSTAMP:20260421T085025
CREATED:20240124T193813Z
LAST-MODIFIED:20240124T193814Z
UID:3167-1707206400-1707238800@americanlutheranchurch.com
SUMMARY:Pastor at Cont. Ed.
DESCRIPTION:
URL:https://americanlutheranchurch.com/event/pastor-at-cont-ed-2/
END:VEVENT
BEGIN:VEVENT
DTSTART;TZID=America/Chicago:20240205T080000
DTEND;TZID=America/Chicago:20240205T170000
DTSTAMP:20260421T085025
CREATED:20240124T193740Z
LAST-MODIFIED:20240124T193741Z
UID:3165-1707120000-1707152400@americanlutheranchurch.com
SUMMARY:Pastor at Cont. Ed.
DESCRIPTION:
URL:https://americanlutheranchurch.com/event/pastor-at-cont-ed/
END:VEVENT
BEGIN:VEVENT
DTSTART;TZID=America/Chicago:20240204T101500
DTEND;TZID=America/Chicago:20240204T170000
DTSTAMP:20260421T085025
CREATED:20240124T194158Z
LAST-MODIFIED:20240124T194159Z
UID:3174-1707041700-1707066000@americanlutheranchurch.com
SUMMARY:10:15 Sunday School
DESCRIPTION:
URL:https://americanlutheranchurch.com/event/1015-sunday-school-7/
END:VEVENT
BEGIN:VEVENT
DTSTART;TZID=America/Chicago:20240204T100000
DTEND;TZID=America/Chicago:20240204T170000
DTSTAMP:20260421T085025
CREATED:20240124T194110Z
LAST-MODIFIED:20240124T194111Z
UID:3172-1707040800-1707066000@americanlutheranchurch.com
SUMMARY:10:00 Fellowship
DESCRIPTION:
URL:https://americanlutheranchurch.com/event/1000-fellowship-3/
END:VEVENT
BEGIN:VEVENT
DTSTART;TZID=America/Chicago:20221030T100000
DTEND;TZID=America/Chicago:20221030T110000
DTSTAMP:20260421T085025
CREATED:20221028T203930Z
LAST-MODIFIED:20230323T201545Z
UID:2333-1667124000-1667127600@americanlutheranchurch.com
SUMMARY:10:00 Fellowship
DESCRIPTION:
URL:https://americanlutheranchurch.com/event/1000-am-fellowship/
LOCATION:American Lutheran Church\, 311 S 4th Ave\, Castlewood\, SD\, 57223\, United States
END:VEVENT
BEGIN:VEVENT
DTSTART;TZID=America/Chicago:20240204T090000
DTEND;TZID=America/Chicago:20240204T170000
DTSTAMP:20260421T085025
CREATED:20240124T194026Z
LAST-MODIFIED:20240124T194027Z
UID:3170-1707037200-1707066000@americanlutheranchurch.com
SUMMARY:9:00 Worship
DESCRIPTION:
URL:https://americanlutheranchurch.com/event/900-worship-7/
END:VEVENT
BEGIN:VEVENT
DTSTART;TZID=America/Chicago:20230430T090000
DTEND;TZID=America/Chicago:20230430T170000
DTSTAMP:20260421T085025
CREATED:20230323T195758Z
LAST-MODIFIED:20230323T195759Z
UID:2664-1682845200-1682874000@americanlutheranchurch.com
SUMMARY:9:00 Worship
DESCRIPTION:
URL:https://americanlutheranchurch.com/event/900-worship/
LOCATION:American Lutheran Church\, 311 S 4th Ave\, Castlewood\, SD\, 57223\, United States
END:VEVENT
END:VCALENDAR