BEGIN:VCALENDAR
VERSION:2.0
PRODID:-//American Lutheran Church - ECPv6.15.14//NONSGML v1.0//EN
CALSCALE:GREGORIAN
METHOD:PUBLISH
X-WR-CALNAME:American Lutheran Church
X-ORIGINAL-URL:https://americanlutheranchurch.com
X-WR-CALDESC:Events for American Lutheran Church
REFRESH-INTERVAL;VALUE=DURATION:PT1H
X-Robots-Tag:noindex
X-PUBLISHED-TTL:PT1H
BEGIN:VTIMEZONE
TZID:America/Chicago
BEGIN:DAYLIGHT
TZOFFSETFROM:-0600
TZOFFSETTO:-0500
TZNAME:CDT
DTSTART:20210314T080000
END:DAYLIGHT
BEGIN:STANDARD
TZOFFSETFROM:-0500
TZOFFSETTO:-0600
TZNAME:CST
DTSTART:20211107T070000
END:STANDARD
BEGIN:DAYLIGHT
TZOFFSETFROM:-0600
TZOFFSETTO:-0500
TZNAME:CDT
DTSTART:20220313T080000
END:DAYLIGHT
BEGIN:STANDARD
TZOFFSETFROM:-0500
TZOFFSETTO:-0600
TZNAME:CST
DTSTART:20221106T070000
END:STANDARD
BEGIN:DAYLIGHT
TZOFFSETFROM:-0600
TZOFFSETTO:-0500
TZNAME:CDT
DTSTART:20230312T080000
END:DAYLIGHT
BEGIN:STANDARD
TZOFFSETFROM:-0500
TZOFFSETTO:-0600
TZNAME:CST
DTSTART:20231105T070000
END:STANDARD
BEGIN:DAYLIGHT
TZOFFSETFROM:-0600
TZOFFSETTO:-0500
TZNAME:CDT
DTSTART:20240310T080000
END:DAYLIGHT
BEGIN:STANDARD
TZOFFSETFROM:-0500
TZOFFSETTO:-0600
TZNAME:CST
DTSTART:20241103T070000
END:STANDARD
BEGIN:DAYLIGHT
TZOFFSETFROM:-0600
TZOFFSETTO:-0500
TZNAME:CDT
DTSTART:20250309T080000
END:DAYLIGHT
BEGIN:STANDARD
TZOFFSETFROM:-0500
TZOFFSETTO:-0600
TZNAME:CST
DTSTART:20251102T070000
END:STANDARD
BEGIN:DAYLIGHT
TZOFFSETFROM:-0600
TZOFFSETTO:-0500
TZNAME:CDT
DTSTART:20260308T080000
END:DAYLIGHT
BEGIN:STANDARD
TZOFFSETFROM:-0500
TZOFFSETTO:-0600
TZNAME:CST
DTSTART:20261101T070000
END:STANDARD
BEGIN:DAYLIGHT
TZOFFSETFROM:-0600
TZOFFSETTO:-0500
TZNAME:CDT
DTSTART:20270314T080000
END:DAYLIGHT
BEGIN:STANDARD
TZOFFSETFROM:-0500
TZOFFSETTO:-0600
TZNAME:CST
DTSTART:20271107T070000
END:STANDARD
END:VTIMEZONE
BEGIN:VEVENT
DTSTART;TZID=America/Chicago:20260111T090000
DTEND;TZID=America/Chicago:20260111T170000
DTSTAMP:20260421T071239
CREATED:20251216T213615Z
LAST-MODIFIED:20251216T213618Z
UID:4611-1768122000-1768150800@americanlutheranchurch.com
SUMMARY:9:00 Worship
DESCRIPTION:
URL:https://americanlutheranchurch.com/event/900-worship-93/
END:VEVENT
BEGIN:VEVENT
DTSTART;TZID=America/Chicago:20221030T100000
DTEND;TZID=America/Chicago:20221030T110000
DTSTAMP:20260421T071239
CREATED:20221028T203930Z
LAST-MODIFIED:20230323T201545Z
UID:2333-1667124000-1667127600@americanlutheranchurch.com
SUMMARY:10:00 Fellowship
DESCRIPTION:
URL:https://americanlutheranchurch.com/event/1000-am-fellowship/
LOCATION:American Lutheran Church\, 311 S 4th Ave\, Castlewood\, SD\, 57223\, United States
END:VEVENT
BEGIN:VEVENT
DTSTART;TZID=America/Chicago:20260111T100000
DTEND;TZID=America/Chicago:20260111T170000
DTSTAMP:20260421T071239
CREATED:20251216T213654Z
LAST-MODIFIED:20251216T213657Z
UID:4613-1768125600-1768150800@americanlutheranchurch.com
SUMMARY:10:00 Fellowship
DESCRIPTION:
URL:https://americanlutheranchurch.com/event/1000-fellowship-95/
END:VEVENT
BEGIN:VEVENT
DTSTART;TZID=America/Chicago:20260111T101500
DTEND;TZID=America/Chicago:20260111T170000
DTSTAMP:20260421T071239
CREATED:20251216T213734Z
LAST-MODIFIED:20251216T213736Z
UID:4615-1768126500-1768150800@americanlutheranchurch.com
SUMMARY:10:15 Sunday School
DESCRIPTION:
URL:https://americanlutheranchurch.com/event/1015-sunday-school-47/
END:VEVENT
BEGIN:VEVENT
DTSTART;TZID=America/Chicago:20260111T101500
DTEND;TZID=America/Chicago:20260111T170000
DTSTAMP:20260421T071239
CREATED:20251221T182328Z
LAST-MODIFIED:20251221T182330Z
UID:4645-1768126500-1768150800@americanlutheranchurch.com
SUMMARY:10:15 Church Council
DESCRIPTION:
URL:https://americanlutheranchurch.com/event/1015-church-council-33/
END:VEVENT
BEGIN:VEVENT
DTSTART;TZID=America/Chicago:20260111T140000
DTEND;TZID=America/Chicago:20260111T170000
DTSTAMP:20260421T071239
CREATED:20251216T213838Z
LAST-MODIFIED:20251216T213841Z
UID:4617-1768140000-1768150800@americanlutheranchurch.com
SUMMARY:2:00 ALC leads Worship at Estelline Care Ctr.
DESCRIPTION:
URL:https://americanlutheranchurch.com/event/200-alc-leads-worship-at-estelline-care-ctr/
END:VEVENT
BEGIN:VEVENT
DTSTART;TZID=America/Chicago:20260114T180000
DTEND;TZID=America/Chicago:20260114T183000
DTSTAMP:20260421T071239
CREATED:20251216T214628Z
LAST-MODIFIED:20251216T214631Z
UID:4639-1768413600-1768415400@americanlutheranchurch.com
SUMMARY:6:00 Confirmation
DESCRIPTION:
URL:https://americanlutheranchurch.com/event/600-confirmation-34/
END:VEVENT
BEGIN:VEVENT
DTSTART;TZID=America/Chicago:20260115T080000
DTEND;TZID=America/Chicago:20260115T170000
DTSTAMP:20260421T071239
CREATED:20251216T214432Z
LAST-MODIFIED:20251216T214434Z
UID:4633-1768464000-1768496400@americanlutheranchurch.com
SUMMARY:ESD Pastors in Lennox
DESCRIPTION:
URL:https://americanlutheranchurch.com/event/esd-pastors-in-lennox/
END:VEVENT
BEGIN:VEVENT
DTSTART;TZID=America/Chicago:20260118T083000
DTEND;TZID=America/Chicago:20260118T170000
DTSTAMP:20260421T071239
CREATED:20251216T214123Z
LAST-MODIFIED:20251216T214125Z
UID:4625-1768725000-1768755600@americanlutheranchurch.com
SUMMARY:8:30 Choir Practice
DESCRIPTION:
URL:https://americanlutheranchurch.com/event/830-choir-practice-49/
END:VEVENT
BEGIN:VEVENT
DTSTART;TZID=America/Chicago:20230430T090000
DTEND;TZID=America/Chicago:20230430T170000
DTSTAMP:20260421T071239
CREATED:20230323T195758Z
LAST-MODIFIED:20230323T195759Z
UID:2664-1682845200-1682874000@americanlutheranchurch.com
SUMMARY:9:00 Worship
DESCRIPTION:
URL:https://americanlutheranchurch.com/event/900-worship/
LOCATION:American Lutheran Church\, 311 S 4th Ave\, Castlewood\, SD\, 57223\, United States
END:VEVENT
BEGIN:VEVENT
DTSTART;TZID=America/Chicago:20260118T090000
DTEND;TZID=America/Chicago:20260118T170000
DTSTAMP:20260421T071239
CREATED:20251216T213919Z
LAST-MODIFIED:20251216T213921Z
UID:4619-1768726800-1768755600@americanlutheranchurch.com
SUMMARY:9:00 Worship
DESCRIPTION:
URL:https://americanlutheranchurch.com/event/900-worship-94/
END:VEVENT
BEGIN:VEVENT
DTSTART;TZID=America/Chicago:20221030T100000
DTEND;TZID=America/Chicago:20221030T110000
DTSTAMP:20260421T071239
CREATED:20221028T203930Z
LAST-MODIFIED:20230323T201545Z
UID:2333-1667124000-1667127600@americanlutheranchurch.com
SUMMARY:10:00 Fellowship
DESCRIPTION:
URL:https://americanlutheranchurch.com/event/1000-am-fellowship/
LOCATION:American Lutheran Church\, 311 S 4th Ave\, Castlewood\, SD\, 57223\, United States
END:VEVENT
BEGIN:VEVENT
DTSTART;TZID=America/Chicago:20260118T100000
DTEND;TZID=America/Chicago:20260118T170000
DTSTAMP:20260421T071239
CREATED:20251216T213952Z
LAST-MODIFIED:20251216T213954Z
UID:4621-1768730400-1768755600@americanlutheranchurch.com
SUMMARY:10:00 Fellowship
DESCRIPTION:
URL:https://americanlutheranchurch.com/event/1000-fellowship-96/
END:VEVENT
BEGIN:VEVENT
DTSTART;TZID=America/Chicago:20260118T101500
DTEND;TZID=America/Chicago:20260118T170000
DTSTAMP:20260421T071239
CREATED:20251216T214036Z
LAST-MODIFIED:20251216T214038Z
UID:4623-1768731300-1768755600@americanlutheranchurch.com
SUMMARY:10:15 Sunday School
DESCRIPTION:
URL:https://americanlutheranchurch.com/event/1015-sunday-school-48/
END:VEVENT
BEGIN:VEVENT
DTSTART;TZID=America/Chicago:20260121T093000
DTEND;TZID=America/Chicago:20260121T170000
DTSTAMP:20260421T071239
CREATED:20260108T180514Z
LAST-MODIFIED:20260108T180516Z
UID:4659-1768987800-1769014800@americanlutheranchurch.com
SUMMARY:9:30 Bible Study
DESCRIPTION:
URL:https://americanlutheranchurch.com/event/930-bible-study-13/
END:VEVENT
BEGIN:VEVENT
DTSTART;TZID=America/Chicago:20260121T180000
DTEND;TZID=America/Chicago:20260121T183000
DTSTAMP:20260421T071239
CREATED:20251216T214658Z
LAST-MODIFIED:20251216T214700Z
UID:4641-1769018400-1769020200@americanlutheranchurch.com
SUMMARY:6:00 Confirmation
DESCRIPTION:
URL:https://americanlutheranchurch.com/event/600-confirmation-35/
END:VEVENT
BEGIN:VEVENT
DTSTART;TZID=America/Chicago:20260121T190000
DTEND;TZID=America/Chicago:20260121T193000
DTSTAMP:20260421T071239
CREATED:20260108T180601Z
LAST-MODIFIED:20260108T180603Z
UID:4661-1769022000-1769023800@americanlutheranchurch.com
SUMMARY:7:00 Bible Study
DESCRIPTION:
URL:https://americanlutheranchurch.com/event/700-bible-study-18/
END:VEVENT
BEGIN:VEVENT
DTSTART;TZID=America/Chicago:20230430T090000
DTEND;TZID=America/Chicago:20230430T170000
DTSTAMP:20260421T071239
CREATED:20230323T195758Z
LAST-MODIFIED:20230323T195759Z
UID:2664-1682845200-1682874000@americanlutheranchurch.com
SUMMARY:9:00 Worship
DESCRIPTION:
URL:https://americanlutheranchurch.com/event/900-worship/
LOCATION:American Lutheran Church\, 311 S 4th Ave\, Castlewood\, SD\, 57223\, United States
END:VEVENT
BEGIN:VEVENT
DTSTART;TZID=America/Chicago:20260125T090000
DTEND;TZID=America/Chicago:20260125T170000
DTSTAMP:20260421T071239
CREATED:20251216T214200Z
LAST-MODIFIED:20251216T214202Z
UID:4627-1769331600-1769360400@americanlutheranchurch.com
SUMMARY:9:00 Worship
DESCRIPTION:
URL:https://americanlutheranchurch.com/event/900-worship-95/
END:VEVENT
BEGIN:VEVENT
DTSTART;TZID=America/Chicago:20221030T100000
DTEND;TZID=America/Chicago:20221030T110000
DTSTAMP:20260421T071239
CREATED:20221028T203930Z
LAST-MODIFIED:20230323T201545Z
UID:2333-1667124000-1667127600@americanlutheranchurch.com
SUMMARY:10:00 Fellowship
DESCRIPTION:
URL:https://americanlutheranchurch.com/event/1000-am-fellowship/
LOCATION:American Lutheran Church\, 311 S 4th Ave\, Castlewood\, SD\, 57223\, United States
END:VEVENT
BEGIN:VEVENT
DTSTART;TZID=America/Chicago:20260125T100000
DTEND;TZID=America/Chicago:20260125T170000
DTSTAMP:20260421T071239
CREATED:20251216T214246Z
LAST-MODIFIED:20251216T214249Z
UID:4629-1769335200-1769360400@americanlutheranchurch.com
SUMMARY:10:00 Fellowship
DESCRIPTION:
URL:https://americanlutheranchurch.com/event/1000-fellowship-97/
END:VEVENT
BEGIN:VEVENT
DTSTART;TZID=America/Chicago:20260125T101500
DTEND;TZID=America/Chicago:20260125T170000
DTSTAMP:20260421T071239
CREATED:20251216T214328Z
LAST-MODIFIED:20251216T214330Z
UID:4631-1769336100-1769360400@americanlutheranchurch.com
SUMMARY:10:15 Sunday School
DESCRIPTION:
URL:https://americanlutheranchurch.com/event/1015-sunday-school-49/
END:VEVENT
BEGIN:VEVENT
DTSTART;TZID=America/Chicago:20260125T101500
DTEND;TZID=America/Chicago:20260125T170000
DTSTAMP:20260421T071239
CREATED:20251221T185013Z
LAST-MODIFIED:20251221T185015Z
UID:4647-1769336100-1769360400@americanlutheranchurch.com
SUMMARY:10:15 Annual Meeting
DESCRIPTION:
URL:https://americanlutheranchurch.com/event/1015-annual-meeting-4/
END:VEVENT
BEGIN:VEVENT
DTSTART;TZID=America/Chicago:20260128T180000
DTEND;TZID=America/Chicago:20260128T183000
DTSTAMP:20260421T071239
CREATED:20251216T214730Z
LAST-MODIFIED:20251216T214732Z
UID:4643-1769623200-1769625000@americanlutheranchurch.com
SUMMARY:6:00 Confirmation
DESCRIPTION:
URL:https://americanlutheranchurch.com/event/600-confirmation-36/
END:VEVENT
BEGIN:VEVENT
DTSTART;TZID=America/Chicago:20260201T083000
DTEND;TZID=America/Chicago:20260201T170000
DTSTAMP:20260421T071239
CREATED:20260126T212324Z
LAST-MODIFIED:20260126T212325Z
UID:4681-1769934600-1769965200@americanlutheranchurch.com
SUMMARY:8:30 Choir Practice
DESCRIPTION:
URL:https://americanlutheranchurch.com/event/830-choir-practice-50/
END:VEVENT
BEGIN:VEVENT
DTSTART;TZID=America/Chicago:20230430T090000
DTEND;TZID=America/Chicago:20230430T170000
DTSTAMP:20260421T071239
CREATED:20230323T195758Z
LAST-MODIFIED:20230323T195759Z
UID:2664-1682845200-1682874000@americanlutheranchurch.com
SUMMARY:9:00 Worship
DESCRIPTION:
URL:https://americanlutheranchurch.com/event/900-worship/
LOCATION:American Lutheran Church\, 311 S 4th Ave\, Castlewood\, SD\, 57223\, United States
END:VEVENT
BEGIN:VEVENT
DTSTART;TZID=America/Chicago:20260201T090000
DTEND;TZID=America/Chicago:20260201T170000
DTSTAMP:20260421T071239
CREATED:20260126T212449Z
LAST-MODIFIED:20260126T212451Z
UID:4687-1769936400-1769965200@americanlutheranchurch.com
SUMMARY:9:00 Worship
DESCRIPTION:
URL:https://americanlutheranchurch.com/event/900-worship-96/
END:VEVENT
BEGIN:VEVENT
DTSTART;TZID=America/Chicago:20221030T100000
DTEND;TZID=America/Chicago:20221030T110000
DTSTAMP:20260421T071239
CREATED:20221028T203930Z
LAST-MODIFIED:20230323T201545Z
UID:2333-1667124000-1667127600@americanlutheranchurch.com
SUMMARY:10:00 Fellowship
DESCRIPTION:
URL:https://americanlutheranchurch.com/event/1000-am-fellowship/
LOCATION:American Lutheran Church\, 311 S 4th Ave\, Castlewood\, SD\, 57223\, United States
END:VEVENT
BEGIN:VEVENT
DTSTART;TZID=America/Chicago:20260201T100000
DTEND;TZID=America/Chicago:20260201T170000
DTSTAMP:20260421T071239
CREATED:20260126T212644Z
LAST-MODIFIED:20260126T212645Z
UID:4695-1769940000-1769965200@americanlutheranchurch.com
SUMMARY:10:00 Fellowship
DESCRIPTION:
URL:https://americanlutheranchurch.com/event/1000-fellowship-98/
END:VEVENT
BEGIN:VEVENT
DTSTART;TZID=America/Chicago:20260201T101500
DTEND;TZID=America/Chicago:20260201T170000
DTSTAMP:20260421T071239
CREATED:20260126T212832Z
LAST-MODIFIED:20260126T212834Z
UID:4701-1769940900-1769965200@americanlutheranchurch.com
SUMMARY:10:15 Sunday School
DESCRIPTION:
URL:https://americanlutheranchurch.com/event/1015-sunday-school-50/
END:VEVENT
END:VCALENDAR