BEGIN:VCALENDAR
VERSION:2.0
PRODID:-//American Lutheran Church - ECPv6.15.14//NONSGML v1.0//EN
CALSCALE:GREGORIAN
METHOD:PUBLISH
X-WR-CALNAME:American Lutheran Church
X-ORIGINAL-URL:https://americanlutheranchurch.com
X-WR-CALDESC:Events for American Lutheran Church
REFRESH-INTERVAL;VALUE=DURATION:PT1H
X-Robots-Tag:noindex
X-PUBLISHED-TTL:PT1H
BEGIN:VTIMEZONE
TZID:America/Chicago
BEGIN:DAYLIGHT
TZOFFSETFROM:-0600
TZOFFSETTO:-0500
TZNAME:CDT
DTSTART:20210314T080000
END:DAYLIGHT
BEGIN:STANDARD
TZOFFSETFROM:-0500
TZOFFSETTO:-0600
TZNAME:CST
DTSTART:20211107T070000
END:STANDARD
BEGIN:DAYLIGHT
TZOFFSETFROM:-0600
TZOFFSETTO:-0500
TZNAME:CDT
DTSTART:20220313T080000
END:DAYLIGHT
BEGIN:STANDARD
TZOFFSETFROM:-0500
TZOFFSETTO:-0600
TZNAME:CST
DTSTART:20221106T070000
END:STANDARD
BEGIN:DAYLIGHT
TZOFFSETFROM:-0600
TZOFFSETTO:-0500
TZNAME:CDT
DTSTART:20230312T080000
END:DAYLIGHT
BEGIN:STANDARD
TZOFFSETFROM:-0500
TZOFFSETTO:-0600
TZNAME:CST
DTSTART:20231105T070000
END:STANDARD
BEGIN:DAYLIGHT
TZOFFSETFROM:-0600
TZOFFSETTO:-0500
TZNAME:CDT
DTSTART:20240310T080000
END:DAYLIGHT
BEGIN:STANDARD
TZOFFSETFROM:-0500
TZOFFSETTO:-0600
TZNAME:CST
DTSTART:20241103T070000
END:STANDARD
BEGIN:DAYLIGHT
TZOFFSETFROM:-0600
TZOFFSETTO:-0500
TZNAME:CDT
DTSTART:20250309T080000
END:DAYLIGHT
BEGIN:STANDARD
TZOFFSETFROM:-0500
TZOFFSETTO:-0600
TZNAME:CST
DTSTART:20251102T070000
END:STANDARD
END:VTIMEZONE
BEGIN:VEVENT
DTSTART;TZID=America/Chicago:20240310T101500
DTEND;TZID=America/Chicago:20240310T170000
DTSTAMP:20260421T053132
CREATED:20240220T151308Z
LAST-MODIFIED:20240220T151309Z
UID:3243-1710065700-1710090000@americanlutheranchurch.com
SUMMARY:10:15 Church Council
DESCRIPTION:
URL:https://americanlutheranchurch.com/event/1015-church-council-16/
END:VEVENT
BEGIN:VEVENT
DTSTART;TZID=America/Chicago:20240310T100000
DTEND;TZID=America/Chicago:20240310T170000
DTSTAMP:20260421T053132
CREATED:20240221T160155Z
LAST-MODIFIED:20240221T160157Z
UID:3262-1710064800-1710090000@americanlutheranchurch.com
SUMMARY:10:00 Fellowship
DESCRIPTION:
URL:https://americanlutheranchurch.com/event/1000-fellowship-8/
END:VEVENT
BEGIN:VEVENT
DTSTART;TZID=America/Chicago:20221030T100000
DTEND;TZID=America/Chicago:20221030T110000
DTSTAMP:20260421T053132
CREATED:20221028T203930Z
LAST-MODIFIED:20230323T201545Z
UID:2333-1667124000-1667127600@americanlutheranchurch.com
SUMMARY:10:00 Fellowship
DESCRIPTION:
URL:https://americanlutheranchurch.com/event/1000-am-fellowship/
LOCATION:American Lutheran Church\, 311 S 4th Ave\, Castlewood\, SD\, 57223\, United States
END:VEVENT
BEGIN:VEVENT
DTSTART;TZID=America/Chicago:20240310T090000
DTEND;TZID=America/Chicago:20240310T170000
DTSTAMP:20260421T053132
CREATED:20240221T155751Z
LAST-MODIFIED:20240221T155753Z
UID:3252-1710061200-1710090000@americanlutheranchurch.com
SUMMARY:9:00 Worship
DESCRIPTION:
URL:https://americanlutheranchurch.com/event/900-worship-12/
END:VEVENT
BEGIN:VEVENT
DTSTART;TZID=America/Chicago:20230430T090000
DTEND;TZID=America/Chicago:20230430T170000
DTSTAMP:20260421T053132
CREATED:20230323T195758Z
LAST-MODIFIED:20230323T195759Z
UID:2664-1682845200-1682874000@americanlutheranchurch.com
SUMMARY:9:00 Worship
DESCRIPTION:
URL:https://americanlutheranchurch.com/event/900-worship/
LOCATION:American Lutheran Church\, 311 S 4th Ave\, Castlewood\, SD\, 57223\, United States
END:VEVENT
BEGIN:VEVENT
DTSTART;TZID=America/Chicago:20240310T083000
DTEND;TZID=America/Chicago:20240310T170000
DTSTAMP:20260421T053132
CREATED:20240221T160816Z
LAST-MODIFIED:20240221T160818Z
UID:3280-1710059400-1710090000@americanlutheranchurch.com
SUMMARY:8:30 Choir Practice
DESCRIPTION:
URL:https://americanlutheranchurch.com/event/830-choir-practice-16/
END:VEVENT
BEGIN:VEVENT
DTSTART;TZID=America/Chicago:20240306T193000
DTEND;TZID=America/Chicago:20240306T200000
DTSTAMP:20260421T053132
CREATED:20240221T162103Z
LAST-MODIFIED:20240221T162104Z
UID:3298-1709753400-1709755200@americanlutheranchurch.com
SUMMARY:7:30 Youth Group
DESCRIPTION:
URL:https://americanlutheranchurch.com/event/730-youth-group/
END:VEVENT
BEGIN:VEVENT
DTSTART;TZID=America/Chicago:20240306T190000
DTEND;TZID=America/Chicago:20240306T193000
DTSTAMP:20260421T053132
CREATED:20240221T162428Z
LAST-MODIFIED:20240221T162429Z
UID:3308-1709751600-1709753400@americanlutheranchurch.com
SUMMARY:7:00 Mid-Week Lenten Worship
DESCRIPTION:
URL:https://americanlutheranchurch.com/event/700-mid-week-lenten-worship-3/
END:VEVENT
BEGIN:VEVENT
DTSTART;TZID=America/Chicago:20240306T181500
DTEND;TZID=America/Chicago:20240306T183000
DTSTAMP:20260421T053132
CREATED:20240221T162224Z
LAST-MODIFIED:20240221T162226Z
UID:3302-1709748900-1709749800@americanlutheranchurch.com
SUMMARY:6:15 Lenten Supper
DESCRIPTION:
URL:https://americanlutheranchurch.com/event/615-lenten-supper-5/
END:VEVENT
BEGIN:VEVENT
DTSTART;TZID=America/Chicago:20240303T101500
DTEND;TZID=America/Chicago:20240303T170000
DTSTAMP:20260421T053132
CREATED:20240221T160450Z
LAST-MODIFIED:20240221T160451Z
UID:3270-1709460900-1709485200@americanlutheranchurch.com
SUMMARY:10:15 Sunday School
DESCRIPTION:
URL:https://americanlutheranchurch.com/event/1015-sunday-school-10/
END:VEVENT
BEGIN:VEVENT
DTSTART;TZID=America/Chicago:20240303T100000
DTEND;TZID=America/Chicago:20240303T170000
DTSTAMP:20260421T053132
CREATED:20240221T160126Z
LAST-MODIFIED:20240221T160128Z
UID:3260-1709460000-1709485200@americanlutheranchurch.com
SUMMARY:10:00 Fellowship
DESCRIPTION:
URL:https://americanlutheranchurch.com/event/1000-fellowship-7/
END:VEVENT
BEGIN:VEVENT
DTSTART;TZID=America/Chicago:20221030T100000
DTEND;TZID=America/Chicago:20221030T110000
DTSTAMP:20260421T053132
CREATED:20221028T203930Z
LAST-MODIFIED:20230323T201545Z
UID:2333-1667124000-1667127600@americanlutheranchurch.com
SUMMARY:10:00 Fellowship
DESCRIPTION:
URL:https://americanlutheranchurch.com/event/1000-am-fellowship/
LOCATION:American Lutheran Church\, 311 S 4th Ave\, Castlewood\, SD\, 57223\, United States
END:VEVENT
BEGIN:VEVENT
DTSTART;TZID=America/Chicago:20240303T090000
DTEND;TZID=America/Chicago:20240303T170000
DTSTAMP:20260421T053132
CREATED:20240221T155713Z
LAST-MODIFIED:20240221T155715Z
UID:3250-1709456400-1709485200@americanlutheranchurch.com
SUMMARY:9:00 Worship
DESCRIPTION:
URL:https://americanlutheranchurch.com/event/900-worship-11/
END:VEVENT
BEGIN:VEVENT
DTSTART;TZID=America/Chicago:20230430T090000
DTEND;TZID=America/Chicago:20230430T170000
DTSTAMP:20260421T053132
CREATED:20230323T195758Z
LAST-MODIFIED:20230323T195759Z
UID:2664-1682845200-1682874000@americanlutheranchurch.com
SUMMARY:9:00 Worship
DESCRIPTION:
URL:https://americanlutheranchurch.com/event/900-worship/
LOCATION:American Lutheran Church\, 311 S 4th Ave\, Castlewood\, SD\, 57223\, United States
END:VEVENT
BEGIN:VEVENT
DTSTART;TZID=America/Chicago:20240303T083000
DTEND;TZID=America/Chicago:20240303T170000
DTSTAMP:20260421T053132
CREATED:20240221T160734Z
LAST-MODIFIED:20240221T160740Z
UID:3278-1709454600-1709485200@americanlutheranchurch.com
SUMMARY:8:30 Choir Practice
DESCRIPTION:
URL:https://americanlutheranchurch.com/event/830-choir-practice-15/
END:VEVENT
BEGIN:VEVENT
DTSTART;TZID=America/Chicago:20240228T190000
DTEND;TZID=America/Chicago:20240228T193000
DTSTAMP:20260421T053132
CREATED:20240124T195424Z
LAST-MODIFIED:20240124T195426Z
UID:3214-1709146800-1709148600@americanlutheranchurch.com
SUMMARY:7:00 Mid-Week Lenten Worship
DESCRIPTION:
URL:https://americanlutheranchurch.com/event/700-mid-week-lenten-worship-2/
END:VEVENT
BEGIN:VEVENT
DTSTART;TZID=America/Chicago:20240228T181500
DTEND;TZID=America/Chicago:20240228T184500
DTSTAMP:20260421T053132
CREATED:20240124T195348Z
LAST-MODIFIED:20240124T195349Z
UID:3212-1709144100-1709145900@americanlutheranchurch.com
SUMMARY:6:15 Lenten Supper
DESCRIPTION:
URL:https://americanlutheranchurch.com/event/615-lenten-supper-4/
END:VEVENT
BEGIN:VEVENT
DTSTART;TZID=America/Chicago:20240225T120000
DTEND;TZID=America/Chicago:20240225T170000
DTSTAMP:20260421T053132
CREATED:20240207T170829Z
LAST-MODIFIED:20240207T170920Z
UID:3230-1708862400-1708880400@americanlutheranchurch.com
SUMMARY:1:00-5:00 Private Family Event
DESCRIPTION:
URL:https://americanlutheranchurch.com/event/private-family-event/
END:VEVENT
BEGIN:VEVENT
DTSTART;TZID=America/Chicago:20240225T111500
DTEND;TZID=America/Chicago:20240225T170000
DTSTAMP:20260421T053132
CREATED:20240124T194822Z
LAST-MODIFIED:20240124T194823Z
UID:3196-1708859700-1708880400@americanlutheranchurch.com
SUMMARY:11:15 "Kids Against Hunger"
DESCRIPTION:
URL:https://americanlutheranchurch.com/event/1115-kids-against-hunger/
END:VEVENT
BEGIN:VEVENT
DTSTART;TZID=America/Chicago:20240225T101500
DTEND;TZID=America/Chicago:20240225T170000
DTSTAMP:20260421T053132
CREATED:20240219T153431Z
LAST-MODIFIED:20240219T153433Z
UID:3240-1708856100-1708880400@americanlutheranchurch.com
SUMMARY:10:15 Noah Wiersma Presentation
DESCRIPTION:
URL:https://americanlutheranchurch.com/event/1015-noah-wiersma-presentation/
END:VEVENT
BEGIN:VEVENT
DTSTART;TZID=America/Chicago:20240225T101500
DTEND;TZID=America/Chicago:20240225T170000
DTSTAMP:20260421T053132
CREATED:20240124T194742Z
LAST-MODIFIED:20240124T194743Z
UID:3194-1708856100-1708880400@americanlutheranchurch.com
SUMMARY:10:15 Sunday School
DESCRIPTION:
URL:https://americanlutheranchurch.com/event/1015-sunday-school-9/
END:VEVENT
BEGIN:VEVENT
DTSTART;TZID=America/Chicago:20240225T100000
DTEND;TZID=America/Chicago:20240225T170000
DTSTAMP:20260421T053132
CREATED:20240124T194711Z
LAST-MODIFIED:20240124T194712Z
UID:3192-1708855200-1708880400@americanlutheranchurch.com
SUMMARY:10:00 Fellowship
DESCRIPTION:
URL:https://americanlutheranchurch.com/event/1000-fellowship-6/
END:VEVENT
BEGIN:VEVENT
DTSTART;TZID=America/Chicago:20221030T100000
DTEND;TZID=America/Chicago:20221030T110000
DTSTAMP:20260421T053132
CREATED:20221028T203930Z
LAST-MODIFIED:20230323T201545Z
UID:2333-1667124000-1667127600@americanlutheranchurch.com
SUMMARY:10:00 Fellowship
DESCRIPTION:
URL:https://americanlutheranchurch.com/event/1000-am-fellowship/
LOCATION:American Lutheran Church\, 311 S 4th Ave\, Castlewood\, SD\, 57223\, United States
END:VEVENT
BEGIN:VEVENT
DTSTART;TZID=America/Chicago:20240225T090000
DTEND;TZID=America/Chicago:20240225T170000
DTSTAMP:20260421T053132
CREATED:20240124T194645Z
LAST-MODIFIED:20240219T153614Z
UID:3190-1708851600-1708880400@americanlutheranchurch.com
SUMMARY:9:00 Worship/Wiersma Temple Talk
DESCRIPTION:
URL:https://americanlutheranchurch.com/event/900-worship-10/
END:VEVENT
BEGIN:VEVENT
DTSTART;TZID=America/Chicago:20230430T090000
DTEND;TZID=America/Chicago:20230430T170000
DTSTAMP:20260421T053132
CREATED:20230323T195758Z
LAST-MODIFIED:20230323T195759Z
UID:2664-1682845200-1682874000@americanlutheranchurch.com
SUMMARY:9:00 Worship
DESCRIPTION:
URL:https://americanlutheranchurch.com/event/900-worship/
LOCATION:American Lutheran Church\, 311 S 4th Ave\, Castlewood\, SD\, 57223\, United States
END:VEVENT
BEGIN:VEVENT
DTSTART;TZID=America/Chicago:20240222T080000
DTEND;TZID=America/Chicago:20240222T170000
DTSTAMP:20260421T053132
CREATED:20240124T195316Z
LAST-MODIFIED:20240124T195317Z
UID:3210-1708588800-1708621200@americanlutheranchurch.com
SUMMARY:ESD Pastor's Mtg. in Lennox
DESCRIPTION:
URL:https://americanlutheranchurch.com/event/esd-pastors-mtg-in-lennox/
END:VEVENT
BEGIN:VEVENT
DTSTART;TZID=America/Chicago:20240221T194500
DTEND;TZID=America/Chicago:20240221T200000
DTSTAMP:20260421T053132
CREATED:20240124T195234Z
LAST-MODIFIED:20240124T195235Z
UID:3208-1708544700-1708545600@americanlutheranchurch.com
SUMMARY:7:45 Youth Group
DESCRIPTION:
URL:https://americanlutheranchurch.com/event/745-youth-group-2/
END:VEVENT
BEGIN:VEVENT
DTSTART;TZID=America/Chicago:20240221T190000
DTEND;TZID=America/Chicago:20240221T193000
DTSTAMP:20260421T053132
CREATED:20240124T195139Z
LAST-MODIFIED:20240124T195140Z
UID:3206-1708542000-1708543800@americanlutheranchurch.com
SUMMARY:7:00 Mid-Week Lenten Worship
DESCRIPTION:
URL:https://americanlutheranchurch.com/event/700-mid-week-lenten-worship/
END:VEVENT
BEGIN:VEVENT
DTSTART;TZID=America/Chicago:20240221T181500
DTEND;TZID=America/Chicago:20240221T184500
DTSTAMP:20260421T053132
CREATED:20240124T195100Z
LAST-MODIFIED:20240124T195101Z
UID:3204-1708539300-1708541100@americanlutheranchurch.com
SUMMARY:6:15 Lenten Supper
DESCRIPTION:
URL:https://americanlutheranchurch.com/event/615-lenten-supper-3/
END:VEVENT
BEGIN:VEVENT
DTSTART;TZID=America/Chicago:20240218T101500
DTEND;TZID=America/Chicago:20240218T170000
DTSTAMP:20260421T053132
CREATED:20240124T194613Z
LAST-MODIFIED:20240124T194614Z
UID:3188-1708251300-1708275600@americanlutheranchurch.com
SUMMARY:10:15 Church Council
DESCRIPTION:
URL:https://americanlutheranchurch.com/event/1015-church-council-15/
END:VEVENT
END:VCALENDAR