BEGIN:VCALENDAR
VERSION:2.0
PRODID:-//American Lutheran Church - ECPv6.15.14//NONSGML v1.0//EN
CALSCALE:GREGORIAN
METHOD:PUBLISH
X-WR-CALNAME:American Lutheran Church
X-ORIGINAL-URL:https://americanlutheranchurch.com
X-WR-CALDESC:Events for American Lutheran Church
REFRESH-INTERVAL;VALUE=DURATION:PT1H
X-Robots-Tag:noindex
X-PUBLISHED-TTL:PT1H
BEGIN:VTIMEZONE
TZID:America/Chicago
BEGIN:DAYLIGHT
TZOFFSETFROM:-0600
TZOFFSETTO:-0500
TZNAME:CDT
DTSTART:20210314T080000
END:DAYLIGHT
BEGIN:STANDARD
TZOFFSETFROM:-0500
TZOFFSETTO:-0600
TZNAME:CST
DTSTART:20211107T070000
END:STANDARD
BEGIN:DAYLIGHT
TZOFFSETFROM:-0600
TZOFFSETTO:-0500
TZNAME:CDT
DTSTART:20220313T080000
END:DAYLIGHT
BEGIN:STANDARD
TZOFFSETFROM:-0500
TZOFFSETTO:-0600
TZNAME:CST
DTSTART:20221106T070000
END:STANDARD
BEGIN:DAYLIGHT
TZOFFSETFROM:-0600
TZOFFSETTO:-0500
TZNAME:CDT
DTSTART:20230312T080000
END:DAYLIGHT
BEGIN:STANDARD
TZOFFSETFROM:-0500
TZOFFSETTO:-0600
TZNAME:CST
DTSTART:20231105T070000
END:STANDARD
BEGIN:DAYLIGHT
TZOFFSETFROM:-0600
TZOFFSETTO:-0500
TZNAME:CDT
DTSTART:20240310T080000
END:DAYLIGHT
BEGIN:STANDARD
TZOFFSETFROM:-0500
TZOFFSETTO:-0600
TZNAME:CST
DTSTART:20241103T070000
END:STANDARD
BEGIN:DAYLIGHT
TZOFFSETFROM:-0600
TZOFFSETTO:-0500
TZNAME:CDT
DTSTART:20250309T080000
END:DAYLIGHT
BEGIN:STANDARD
TZOFFSETFROM:-0500
TZOFFSETTO:-0600
TZNAME:CST
DTSTART:20251102T070000
END:STANDARD
END:VTIMEZONE
BEGIN:VEVENT
DTSTART;TZID=America/Chicago:20240414T083000
DTEND;TZID=America/Chicago:20240414T170000
DTSTAMP:20260421T004008
CREATED:20240404T143726Z
LAST-MODIFIED:20240404T143727Z
UID:3370-1713083400-1713114000@americanlutheranchurch.com
SUMMARY:8:30 Choir Practice
DESCRIPTION:
URL:https://americanlutheranchurch.com/event/830-choir-practice-19/
END:VEVENT
BEGIN:VEVENT
DTSTART;TZID=America/Chicago:20240407T101500
DTEND;TZID=America/Chicago:20240407T170000
DTSTAMP:20260421T004008
CREATED:20240404T143542Z
LAST-MODIFIED:20240404T143543Z
UID:3366-1712484900-1712509200@americanlutheranchurch.com
SUMMARY:10:15 Sunday School
DESCRIPTION:
URL:https://americanlutheranchurch.com/event/1015-sunday-school-14/
END:VEVENT
BEGIN:VEVENT
DTSTART;TZID=America/Chicago:20240407T100000
DTEND;TZID=America/Chicago:20240407T170000
DTSTAMP:20260421T004008
CREATED:20240404T143504Z
LAST-MODIFIED:20240404T143505Z
UID:3364-1712484000-1712509200@americanlutheranchurch.com
SUMMARY:10:00 Fellowship
DESCRIPTION:
URL:https://americanlutheranchurch.com/event/1000-fellowship-11/
END:VEVENT
BEGIN:VEVENT
DTSTART;TZID=America/Chicago:20221030T100000
DTEND;TZID=America/Chicago:20221030T110000
DTSTAMP:20260421T004008
CREATED:20221028T203930Z
LAST-MODIFIED:20230323T201545Z
UID:2333-1667124000-1667127600@americanlutheranchurch.com
SUMMARY:10:00 Fellowship
DESCRIPTION:
URL:https://americanlutheranchurch.com/event/1000-am-fellowship/
LOCATION:American Lutheran Church\, 311 S 4th Ave\, Castlewood\, SD\, 57223\, United States
END:VEVENT
BEGIN:VEVENT
DTSTART;TZID=America/Chicago:20240407T090000
DTEND;TZID=America/Chicago:20240407T170000
DTSTAMP:20260421T004008
CREATED:20231127T155658Z
LAST-MODIFIED:20231127T155659Z
UID:3064-1712480400-1712509200@americanlutheranchurch.com
SUMMARY:9:00 Worship/Rite of Confirmation
DESCRIPTION:
URL:https://americanlutheranchurch.com/event/900-worship-rite-of-confirmation/
END:VEVENT
BEGIN:VEVENT
DTSTART;TZID=America/Chicago:20240407T083000
DTEND;TZID=America/Chicago:20240407T170000
DTSTAMP:20260421T004008
CREATED:20240404T143649Z
LAST-MODIFIED:20240404T143650Z
UID:3368-1712478600-1712509200@americanlutheranchurch.com
SUMMARY:8:30 Choir Practic
DESCRIPTION:
URL:https://americanlutheranchurch.com/event/830-choir-practic-2/
END:VEVENT
BEGIN:VEVENT
DTSTART;TZID=America/Chicago:20240406T080000
DTEND;TZID=America/Chicago:20240406T170000
DTSTAMP:20260421T004008
CREATED:20240221T163346Z
LAST-MODIFIED:20240221T163348Z
UID:3322-1712390400-1712422800@americanlutheranchurch.com
SUMMARY:NALC Mission District Convocation
DESCRIPTION:
URL:https://americanlutheranchurch.com/event/nalc-mission-district-convocation-2/
END:VEVENT
BEGIN:VEVENT
DTSTART;TZID=America/Chicago:20240405T080000
DTEND;TZID=America/Chicago:20240405T170000
DTSTAMP:20260421T004008
CREATED:20240221T163314Z
LAST-MODIFIED:20240221T163316Z
UID:3320-1712304000-1712336400@americanlutheranchurch.com
SUMMARY:NALC Mission District Convocation
DESCRIPTION:
URL:https://americanlutheranchurch.com/event/nalc-mission-district-convocation/
END:VEVENT
BEGIN:VEVENT
DTSTART;TZID=America/Chicago:20221030T100000
DTEND;TZID=America/Chicago:20221030T110000
DTSTAMP:20260421T004008
CREATED:20221028T203930Z
LAST-MODIFIED:20230323T201545Z
UID:2333-1667124000-1667127600@americanlutheranchurch.com
SUMMARY:10:00 Fellowship
DESCRIPTION:
URL:https://americanlutheranchurch.com/event/1000-am-fellowship/
LOCATION:American Lutheran Church\, 311 S 4th Ave\, Castlewood\, SD\, 57223\, United States
END:VEVENT
BEGIN:VEVENT
DTSTART;TZID=America/Chicago:20240331T090000
DTEND;TZID=America/Chicago:20240331T170000
DTSTAMP:20260421T004008
CREATED:20240221T161810Z
LAST-MODIFIED:20240221T161812Z
UID:3296-1711875600-1711904400@americanlutheranchurch.com
SUMMARY:9:00 Easter Worship
DESCRIPTION:
URL:https://americanlutheranchurch.com/event/900-easter-worship-2/
END:VEVENT
BEGIN:VEVENT
DTSTART;TZID=America/Chicago:20230430T090000
DTEND;TZID=America/Chicago:20230430T170000
DTSTAMP:20260421T004008
CREATED:20230323T195758Z
LAST-MODIFIED:20230323T195759Z
UID:2664-1682845200-1682874000@americanlutheranchurch.com
SUMMARY:9:00 Worship
DESCRIPTION:
URL:https://americanlutheranchurch.com/event/900-worship/
LOCATION:American Lutheran Church\, 311 S 4th Ave\, Castlewood\, SD\, 57223\, United States
END:VEVENT
BEGIN:VEVENT
DTSTART;TZID=America/Chicago:20240331T080000
DTEND;TZID=America/Chicago:20240331T170000
DTSTAMP:20260421T004008
CREATED:20240221T160342Z
LAST-MODIFIED:20240221T160343Z
UID:3268-1711872000-1711904400@americanlutheranchurch.com
SUMMARY:8:00 Easter Breakfast
DESCRIPTION:
URL:https://americanlutheranchurch.com/event/800-easter-breakfast-2/
END:VEVENT
BEGIN:VEVENT
DTSTART;TZID=America/Chicago:20240331T070000
DTEND;TZID=America/Chicago:20240331T170000
DTSTAMP:20260421T004008
CREATED:20240221T160049Z
LAST-MODIFIED:20240221T160050Z
UID:3258-1711868400-1711904400@americanlutheranchurch.com
SUMMARY:7:00 Youth Led Sunrise Worship
DESCRIPTION:
URL:https://americanlutheranchurch.com/event/700-youth-led-sunrise-worship/
END:VEVENT
BEGIN:VEVENT
DTSTART;TZID=America/Chicago:20240329T190000
DTEND;TZID=America/Chicago:20240329T193000
DTSTAMP:20260421T004008
CREATED:20240221T162857Z
LAST-MODIFIED:20240221T163116Z
UID:3316-1711738800-1711740600@americanlutheranchurch.com
SUMMARY:7:00 Good Friday Worship at ALC with Hamlin Reformed
DESCRIPTION:
URL:https://americanlutheranchurch.com/event/700-good-friday-worship-at-alc-with-hamlin-refomed/
END:VEVENT
BEGIN:VEVENT
DTSTART;TZID=America/Chicago:20240328T190000
DTEND;TZID=America/Chicago:20240328T193000
DTSTAMP:20260421T004008
CREATED:20240221T162756Z
LAST-MODIFIED:20240221T162757Z
UID:3314-1711652400-1711654200@americanlutheranchurch.com
SUMMARY:7:00 Maundy Thursday Worship/First Communion Reception
DESCRIPTION:
URL:https://americanlutheranchurch.com/event/700-maundy-thursday-worship-first-communion-reception/
END:VEVENT
BEGIN:VEVENT
DTSTART;TZID=America/Chicago:20240328T180000
DTEND;TZID=America/Chicago:20240328T183000
DTSTAMP:20260421T004008
CREATED:20240321T141508Z
LAST-MODIFIED:20240321T141509Z
UID:3354-1711648800-1711650600@americanlutheranchurch.com
SUMMARY:6:00 Youth Practice for Sunrise Service
DESCRIPTION:
URL:https://americanlutheranchurch.com/event/600-youth-practice-for-sunrise-service/
END:VEVENT
BEGIN:VEVENT
DTSTART;TZID=America/Chicago:20240324T101500
DTEND;TZID=America/Chicago:20240324T170000
DTSTAMP:20260421T004008
CREATED:20240221T181812Z
LAST-MODIFIED:20240221T181909Z
UID:3326-1711275300-1711299600@americanlutheranchurch.com
SUMMARY:10:15 1st Communion Instruction
DESCRIPTION:
URL:https://americanlutheranchurch.com/event/1st-communion-instruction/
END:VEVENT
BEGIN:VEVENT
DTSTART;TZID=America/Chicago:20240324T101500
DTEND;TZID=America/Chicago:20240324T170000
DTSTAMP:20260421T004008
CREATED:20240221T160658Z
LAST-MODIFIED:20240221T160659Z
UID:3276-1711275300-1711299600@americanlutheranchurch.com
SUMMARY:10:15 Sunday School
DESCRIPTION:
URL:https://americanlutheranchurch.com/event/1015-sunday-school-13/
END:VEVENT
BEGIN:VEVENT
DTSTART;TZID=America/Chicago:20240324T100000
DTEND;TZID=America/Chicago:20240324T170000
DTSTAMP:20260421T004008
CREATED:20240221T160300Z
LAST-MODIFIED:20240221T160301Z
UID:3266-1711274400-1711299600@americanlutheranchurch.com
SUMMARY:10:00 Fellowship
DESCRIPTION:
URL:https://americanlutheranchurch.com/event/1000-fellowship-10/
END:VEVENT
BEGIN:VEVENT
DTSTART;TZID=America/Chicago:20221030T100000
DTEND;TZID=America/Chicago:20221030T110000
DTSTAMP:20260421T004008
CREATED:20221028T203930Z
LAST-MODIFIED:20230323T201545Z
UID:2333-1667124000-1667127600@americanlutheranchurch.com
SUMMARY:10:00 Fellowship
DESCRIPTION:
URL:https://americanlutheranchurch.com/event/1000-am-fellowship/
LOCATION:American Lutheran Church\, 311 S 4th Ave\, Castlewood\, SD\, 57223\, United States
END:VEVENT
BEGIN:VEVENT
DTSTART;TZID=America/Chicago:20240324T090000
DTEND;TZID=America/Chicago:20240324T170000
DTSTAMP:20260421T004008
CREATED:20240221T155902Z
LAST-MODIFIED:20240221T155904Z
UID:3256-1711270800-1711299600@americanlutheranchurch.com
SUMMARY:9:00 Palm Sunday Worship
DESCRIPTION:
URL:https://americanlutheranchurch.com/event/900-palm-sunday-worship-2/
END:VEVENT
BEGIN:VEVENT
DTSTART;TZID=America/Chicago:20230430T090000
DTEND;TZID=America/Chicago:20230430T170000
DTSTAMP:20260421T004008
CREATED:20230323T195758Z
LAST-MODIFIED:20230323T195759Z
UID:2664-1682845200-1682874000@americanlutheranchurch.com
SUMMARY:9:00 Worship
DESCRIPTION:
URL:https://americanlutheranchurch.com/event/900-worship/
LOCATION:American Lutheran Church\, 311 S 4th Ave\, Castlewood\, SD\, 57223\, United States
END:VEVENT
BEGIN:VEVENT
DTSTART;TZID=America/Chicago:20240324T083000
DTEND;TZID=America/Chicago:20240324T170000
DTSTAMP:20260421T004008
CREATED:20240221T160929Z
LAST-MODIFIED:20240221T160930Z
UID:3284-1711269000-1711299600@americanlutheranchurch.com
SUMMARY:8:30 Choir Practice
DESCRIPTION:
URL:https://americanlutheranchurch.com/event/830-choir-practice-18/
END:VEVENT
BEGIN:VEVENT
DTSTART;TZID=America/Chicago:20240320T193000
DTEND;TZID=America/Chicago:20240320T200000
DTSTAMP:20260421T004008
CREATED:20240221T162138Z
LAST-MODIFIED:20240221T162139Z
UID:3300-1710963000-1710964800@americanlutheranchurch.com
SUMMARY:7:30 Youth Group
DESCRIPTION:
URL:https://americanlutheranchurch.com/event/730-youth-group-2/
END:VEVENT
BEGIN:VEVENT
DTSTART;TZID=America/Chicago:20240320T190000
DTEND;TZID=America/Chicago:20240320T193000
DTSTAMP:20260421T004008
CREATED:20240221T162617Z
LAST-MODIFIED:20240221T162618Z
UID:3312-1710961200-1710963000@americanlutheranchurch.com
SUMMARY:7:00 Mid-Week Lenten Worship
DESCRIPTION:
URL:https://americanlutheranchurch.com/event/700-mid-week-lenten-worship-5/
END:VEVENT
BEGIN:VEVENT
DTSTART;TZID=America/Chicago:20240320T181500
DTEND;TZID=America/Chicago:20240320T183000
DTSTAMP:20260421T004008
CREATED:20240221T162346Z
LAST-MODIFIED:20240221T163012Z
UID:3306-1710958500-1710959400@americanlutheranchurch.com
SUMMARY:6:15 Lenten Supper
DESCRIPTION:
URL:https://americanlutheranchurch.com/event/615-lenten-worship/
END:VEVENT
BEGIN:VEVENT
DTSTART;TZID=America/Chicago:20240319T190000
DTEND;TZID=America/Chicago:20240319T193000
DTSTAMP:20260421T004008
CREATED:20240307T024125Z
LAST-MODIFIED:20240307T024127Z
UID:3346-1710874800-1710876600@americanlutheranchurch.com
SUMMARY:7:00 pm Confirmation Planning Meeting
DESCRIPTION:
URL:https://americanlutheranchurch.com/event/700-pm-confirmation-planning-meeting/
END:VEVENT
BEGIN:VEVENT
DTSTART;TZID=America/Chicago:20240317T101500
DTEND;TZID=America/Chicago:20240317T170000
DTSTAMP:20260421T004008
CREATED:20240221T161601Z
LAST-MODIFIED:20240221T161602Z
UID:3294-1710670500-1710694800@americanlutheranchurch.com
SUMMARY:10:15 Sunday School
DESCRIPTION:
URL:https://americanlutheranchurch.com/event/1015-sunday-school-12/
END:VEVENT
BEGIN:VEVENT
DTSTART;TZID=America/Chicago:20240317T100000
DTEND;TZID=America/Chicago:20240317T170000
DTSTAMP:20260421T004008
CREATED:20240221T160226Z
LAST-MODIFIED:20240221T160227Z
UID:3264-1710669600-1710694800@americanlutheranchurch.com
SUMMARY:10:00 Fellowship
DESCRIPTION:
URL:https://americanlutheranchurch.com/event/1000-fellowship-9/
END:VEVENT
BEGIN:VEVENT
DTSTART;TZID=America/Chicago:20221030T100000
DTEND;TZID=America/Chicago:20221030T110000
DTSTAMP:20260421T004008
CREATED:20221028T203930Z
LAST-MODIFIED:20230323T201545Z
UID:2333-1667124000-1667127600@americanlutheranchurch.com
SUMMARY:10:00 Fellowship
DESCRIPTION:
URL:https://americanlutheranchurch.com/event/1000-am-fellowship/
LOCATION:American Lutheran Church\, 311 S 4th Ave\, Castlewood\, SD\, 57223\, United States
END:VEVENT
END:VCALENDAR