BEGIN:VCALENDAR
VERSION:2.0
PRODID:-//American Lutheran Church - ECPv6.15.14//NONSGML v1.0//EN
CALSCALE:GREGORIAN
METHOD:PUBLISH
X-WR-CALNAME:American Lutheran Church
X-ORIGINAL-URL:https://americanlutheranchurch.com
X-WR-CALDESC:Events for American Lutheran Church
REFRESH-INTERVAL;VALUE=DURATION:PT1H
X-Robots-Tag:noindex
X-PUBLISHED-TTL:PT1H
BEGIN:VTIMEZONE
TZID:America/Chicago
BEGIN:DAYLIGHT
TZOFFSETFROM:-0600
TZOFFSETTO:-0500
TZNAME:CDT
DTSTART:20210314T080000
END:DAYLIGHT
BEGIN:STANDARD
TZOFFSETFROM:-0500
TZOFFSETTO:-0600
TZNAME:CST
DTSTART:20211107T070000
END:STANDARD
BEGIN:DAYLIGHT
TZOFFSETFROM:-0600
TZOFFSETTO:-0500
TZNAME:CDT
DTSTART:20220313T080000
END:DAYLIGHT
BEGIN:STANDARD
TZOFFSETFROM:-0500
TZOFFSETTO:-0600
TZNAME:CST
DTSTART:20221106T070000
END:STANDARD
BEGIN:DAYLIGHT
TZOFFSETFROM:-0600
TZOFFSETTO:-0500
TZNAME:CDT
DTSTART:20230312T080000
END:DAYLIGHT
BEGIN:STANDARD
TZOFFSETFROM:-0500
TZOFFSETTO:-0600
TZNAME:CST
DTSTART:20231105T070000
END:STANDARD
BEGIN:DAYLIGHT
TZOFFSETFROM:-0600
TZOFFSETTO:-0500
TZNAME:CDT
DTSTART:20240310T080000
END:DAYLIGHT
BEGIN:STANDARD
TZOFFSETFROM:-0500
TZOFFSETTO:-0600
TZNAME:CST
DTSTART:20241103T070000
END:STANDARD
BEGIN:DAYLIGHT
TZOFFSETFROM:-0600
TZOFFSETTO:-0500
TZNAME:CDT
DTSTART:20250309T080000
END:DAYLIGHT
BEGIN:STANDARD
TZOFFSETFROM:-0500
TZOFFSETTO:-0600
TZNAME:CST
DTSTART:20251102T070000
END:STANDARD
BEGIN:DAYLIGHT
TZOFFSETFROM:-0600
TZOFFSETTO:-0500
TZNAME:CDT
DTSTART:20260308T080000
END:DAYLIGHT
BEGIN:STANDARD
TZOFFSETFROM:-0500
TZOFFSETTO:-0600
TZNAME:CST
DTSTART:20261101T070000
END:STANDARD
END:VTIMEZONE
BEGIN:VEVENT
DTSTART;TZID=America/Chicago:20251123T100000
DTEND;TZID=America/Chicago:20251123T170000
DTSTAMP:20260421T003414
CREATED:20251022T171140Z
LAST-MODIFIED:20251022T171141Z
UID:4514-1763892000-1763917200@americanlutheranchurch.com
SUMMARY:10:00 Worship
DESCRIPTION:
URL:https://americanlutheranchurch.com/event/1000-worship-3/
END:VEVENT
BEGIN:VEVENT
DTSTART;TZID=America/Chicago:20251123T110000
DTEND;TZID=America/Chicago:20251123T170000
DTSTAMP:20260421T003414
CREATED:20251022T171219Z
LAST-MODIFIED:20251022T171220Z
UID:4516-1763895600-1763917200@americanlutheranchurch.com
SUMMARY:11:00-12:30 Thanksgiving Meal
DESCRIPTION:
URL:https://americanlutheranchurch.com/event/1100-1230-thanksgiving-meal-2/
END:VEVENT
BEGIN:VEVENT
DTSTART;TZID=America/Chicago:20251126T190000
DTEND;TZID=America/Chicago:20251126T193000
DTSTAMP:20260421T003414
CREATED:20251022T171322Z
LAST-MODIFIED:20251022T171322Z
UID:4518-1764183600-1764185400@americanlutheranchurch.com
SUMMARY:7:00 Community Thanksgiving Eve Worship at ALC
DESCRIPTION:
URL:https://americanlutheranchurch.com/event/700-community-thanksgiving-eve-worship-at-alc/
END:VEVENT
BEGIN:VEVENT
DTSTART;TZID=America/Chicago:20251129T080000
DTEND;TZID=America/Chicago:20251129T170000
DTSTAMP:20260421T003414
CREATED:20251118T214211Z
LAST-MODIFIED:20251118T214212Z
UID:4549-1764403200-1764435600@americanlutheranchurch.com
SUMMARY:9:00 Advent Decorating
DESCRIPTION:
URL:https://americanlutheranchurch.com/event/900-advent-decorating-2/
END:VEVENT
BEGIN:VEVENT
DTSTART;TZID=America/Chicago:20251130T080000
DTEND;TZID=America/Chicago:20251130T170000
DTSTAMP:20260421T003414
CREATED:20251022T171657Z
LAST-MODIFIED:20251022T171658Z
UID:4528-1764489600-1764522000@americanlutheranchurch.com
SUMMARY:9:00 Worship
DESCRIPTION:
URL:https://americanlutheranchurch.com/event/900-worship-88/
END:VEVENT
BEGIN:VEVENT
DTSTART;TZID=America/Chicago:20251130T080000
DTEND;TZID=America/Chicago:20251130T170000
DTSTAMP:20260421T003414
CREATED:20251022T171721Z
LAST-MODIFIED:20251022T171722Z
UID:4530-1764489600-1764522000@americanlutheranchurch.com
SUMMARY:10:00 Fellowship
DESCRIPTION:
URL:https://americanlutheranchurch.com/event/1000-fellowship-90/
END:VEVENT
BEGIN:VEVENT
DTSTART;TZID=America/Chicago:20230430T090000
DTEND;TZID=America/Chicago:20230430T170000
DTSTAMP:20260421T003414
CREATED:20230323T195758Z
LAST-MODIFIED:20230323T195759Z
UID:2664-1682845200-1682874000@americanlutheranchurch.com
SUMMARY:9:00 Worship
DESCRIPTION:
URL:https://americanlutheranchurch.com/event/900-worship/
LOCATION:American Lutheran Church\, 311 S 4th Ave\, Castlewood\, SD\, 57223\, United States
END:VEVENT
BEGIN:VEVENT
DTSTART;TZID=America/Chicago:20221030T100000
DTEND;TZID=America/Chicago:20221030T110000
DTSTAMP:20260421T003414
CREATED:20221028T203930Z
LAST-MODIFIED:20230323T201545Z
UID:2333-1667124000-1667127600@americanlutheranchurch.com
SUMMARY:10:00 Fellowship
DESCRIPTION:
URL:https://americanlutheranchurch.com/event/1000-am-fellowship/
LOCATION:American Lutheran Church\, 311 S 4th Ave\, Castlewood\, SD\, 57223\, United States
END:VEVENT
BEGIN:VEVENT
DTSTART;TZID=America/Chicago:20251203T070000
DTEND;TZID=America/Chicago:20251203T170000
DTSTAMP:20260421T003414
CREATED:20251125T152232Z
LAST-MODIFIED:20251125T152234Z
UID:4554-1764745200-1764781200@americanlutheranchurch.com
SUMMARY:7:00 Wednesday in the Word Youth Breakfast
DESCRIPTION:
URL:https://americanlutheranchurch.com/event/700-wednesday-in-the-word-youth-breakfast-3/
END:VEVENT
BEGIN:VEVENT
DTSTART;TZID=America/Chicago:20251203T180000
DTEND;TZID=America/Chicago:20251203T183000
DTSTAMP:20260421T003414
CREATED:20251125T152128Z
LAST-MODIFIED:20251125T152131Z
UID:4552-1764784800-1764786600@americanlutheranchurch.com
SUMMARY:6:00 Confirmation
DESCRIPTION:
URL:https://americanlutheranchurch.com/event/600-confirmation-30/
END:VEVENT
BEGIN:VEVENT
DTSTART;TZID=America/Chicago:20251206T080000
DTEND;TZID=America/Chicago:20251206T170000
DTSTAMP:20260421T003414
CREATED:20251102T170626Z
LAST-MODIFIED:20251102T170627Z
UID:4542-1765008000-1765040400@americanlutheranchurch.com
SUMMARY:10:30-Noon Open House Baby Shower Abbey (Strait) Leo
DESCRIPTION:
URL:https://americanlutheranchurch.com/event/1030-noon-open-house-baby-shower-abbey-strait-leo/
END:VEVENT
BEGIN:VEVENT
DTSTART;TZID=America/Chicago:20251206T133000
DTEND;TZID=America/Chicago:20251206T170000
DTSTAMP:20260421T003414
CREATED:20251113T163305Z
LAST-MODIFIED:20251113T163326Z
UID:4545-1765027800-1765040400@americanlutheranchurch.com
SUMMARY:1:30-3:30 Noah & Bethany Wiersma Baby Shower
DESCRIPTION:
URL:https://americanlutheranchurch.com/event/130-330-noah-bethany-wiersma-baby-shower/
END:VEVENT
BEGIN:VEVENT
DTSTART;TZID=America/Chicago:20251207T080000
DTEND;TZID=America/Chicago:20251207T170000
DTSTAMP:20260421T003414
CREATED:20251125T152302Z
LAST-MODIFIED:20251125T152304Z
UID:4556-1765094400-1765126800@americanlutheranchurch.com
SUMMARY:8:30 Choir Practice
DESCRIPTION:
URL:https://americanlutheranchurch.com/event/830-choir-practice-45/
END:VEVENT
BEGIN:VEVENT
DTSTART;TZID=America/Chicago:20230430T090000
DTEND;TZID=America/Chicago:20230430T170000
DTSTAMP:20260421T003414
CREATED:20230323T195758Z
LAST-MODIFIED:20230323T195759Z
UID:2664-1682845200-1682874000@americanlutheranchurch.com
SUMMARY:9:00 Worship
DESCRIPTION:
URL:https://americanlutheranchurch.com/event/900-worship/
LOCATION:American Lutheran Church\, 311 S 4th Ave\, Castlewood\, SD\, 57223\, United States
END:VEVENT
BEGIN:VEVENT
DTSTART;TZID=America/Chicago:20251207T090000
DTEND;TZID=America/Chicago:20251207T170000
DTSTAMP:20260421T003414
CREATED:20251125T152332Z
LAST-MODIFIED:20251125T152357Z
UID:4558-1765098000-1765126800@americanlutheranchurch.com
SUMMARY:9:00 Worship
DESCRIPTION:
URL:https://americanlutheranchurch.com/event/900-worship-89/
END:VEVENT
BEGIN:VEVENT
DTSTART;TZID=America/Chicago:20221030T100000
DTEND;TZID=America/Chicago:20221030T110000
DTSTAMP:20260421T003414
CREATED:20221028T203930Z
LAST-MODIFIED:20230323T201545Z
UID:2333-1667124000-1667127600@americanlutheranchurch.com
SUMMARY:10:00 Fellowship
DESCRIPTION:
URL:https://americanlutheranchurch.com/event/1000-am-fellowship/
LOCATION:American Lutheran Church\, 311 S 4th Ave\, Castlewood\, SD\, 57223\, United States
END:VEVENT
BEGIN:VEVENT
DTSTART;TZID=America/Chicago:20251207T100000
DTEND;TZID=America/Chicago:20251207T170000
DTSTAMP:20260421T003414
CREATED:20251125T152444Z
LAST-MODIFIED:20251125T152446Z
UID:4560-1765101600-1765126800@americanlutheranchurch.com
SUMMARY:10:00 Fellowship
DESCRIPTION:
URL:https://americanlutheranchurch.com/event/1000-fellowship-91/
END:VEVENT
BEGIN:VEVENT
DTSTART;TZID=America/Chicago:20251207T101500
DTEND;TZID=America/Chicago:20251207T170000
DTSTAMP:20260421T003414
CREATED:20251125T152544Z
LAST-MODIFIED:20251125T152547Z
UID:4562-1765102500-1765126800@americanlutheranchurch.com
SUMMARY:10:15 Christmas Program Practice
DESCRIPTION:
URL:https://americanlutheranchurch.com/event/1015-christmas-program-practice/
END:VEVENT
BEGIN:VEVENT
DTSTART;TZID=America/Chicago:20251210T093000
DTEND;TZID=America/Chicago:20251210T170000
DTSTAMP:20260421T003414
CREATED:20251125T152625Z
LAST-MODIFIED:20251125T152628Z
UID:4564-1765359000-1765386000@americanlutheranchurch.com
SUMMARY:9:30 Adult Bible Study
DESCRIPTION:
URL:https://americanlutheranchurch.com/event/930-adult-bible-study/
END:VEVENT
BEGIN:VEVENT
DTSTART;TZID=America/Chicago:20251210T180000
DTEND;TZID=America/Chicago:20251210T183000
DTSTAMP:20260421T003414
CREATED:20251125T152700Z
LAST-MODIFIED:20251125T152703Z
UID:4566-1765389600-1765391400@americanlutheranchurch.com
SUMMARY:6:00 Confirmation
DESCRIPTION:
URL:https://americanlutheranchurch.com/event/600-confirmation-31/
END:VEVENT
BEGIN:VEVENT
DTSTART;TZID=America/Chicago:20251210T190000
DTEND;TZID=America/Chicago:20251210T193000
DTSTAMP:20260421T003414
CREATED:20251125T152737Z
LAST-MODIFIED:20251125T152739Z
UID:4568-1765393200-1765395000@americanlutheranchurch.com
SUMMARY:7:00 Adult Bible Study
DESCRIPTION:
URL:https://americanlutheranchurch.com/event/700-adult-bible-study-4/
END:VEVENT
BEGIN:VEVENT
DTSTART;TZID=America/Chicago:20230430T090000
DTEND;TZID=America/Chicago:20230430T170000
DTSTAMP:20260421T003414
CREATED:20230323T195758Z
LAST-MODIFIED:20230323T195759Z
UID:2664-1682845200-1682874000@americanlutheranchurch.com
SUMMARY:9:00 Worship
DESCRIPTION:
URL:https://americanlutheranchurch.com/event/900-worship/
LOCATION:American Lutheran Church\, 311 S 4th Ave\, Castlewood\, SD\, 57223\, United States
END:VEVENT
BEGIN:VEVENT
DTSTART;TZID=America/Chicago:20251214T090000
DTEND;TZID=America/Chicago:20251214T170000
DTSTAMP:20260421T003414
CREATED:20251125T152820Z
LAST-MODIFIED:20251125T152822Z
UID:4570-1765702800-1765731600@americanlutheranchurch.com
SUMMARY:9:00 Christmas Program Practice
DESCRIPTION:
URL:https://americanlutheranchurch.com/event/900-christmas-program-practice-3/
END:VEVENT
BEGIN:VEVENT
DTSTART;TZID=America/Chicago:20251214T093000
DTEND;TZID=America/Chicago:20251214T170000
DTSTAMP:20260421T003414
CREATED:20251125T152905Z
LAST-MODIFIED:20251125T152907Z
UID:4572-1765704600-1765731600@americanlutheranchurch.com
SUMMARY:9:30 Choir Practice
DESCRIPTION:
URL:https://americanlutheranchurch.com/event/930-choir-practice-2/
END:VEVENT
BEGIN:VEVENT
DTSTART;TZID=America/Chicago:20221030T100000
DTEND;TZID=America/Chicago:20221030T110000
DTSTAMP:20260421T003414
CREATED:20221028T203930Z
LAST-MODIFIED:20230323T201545Z
UID:2333-1667124000-1667127600@americanlutheranchurch.com
SUMMARY:10:00 Fellowship
DESCRIPTION:
URL:https://americanlutheranchurch.com/event/1000-am-fellowship/
LOCATION:American Lutheran Church\, 311 S 4th Ave\, Castlewood\, SD\, 57223\, United States
END:VEVENT
BEGIN:VEVENT
DTSTART;TZID=America/Chicago:20251214T100000
DTEND;TZID=America/Chicago:20251214T170000
DTSTAMP:20260421T003414
CREATED:20251125T152941Z
LAST-MODIFIED:20251125T152943Z
UID:4574-1765706400-1765731600@americanlutheranchurch.com
SUMMARY:10:00 Christmas Program
DESCRIPTION:
URL:https://americanlutheranchurch.com/event/1000-christmas-program-3/
END:VEVENT
BEGIN:VEVENT
DTSTART;TZID=America/Chicago:20251216T080000
DTEND;TZID=America/Chicago:20251216T170000
DTSTAMP:20260421T003414
CREATED:20251125T153339Z
LAST-MODIFIED:20251125T185057Z
UID:4576-1765872000-1765904400@americanlutheranchurch.com
SUMMARY:ESD Pastor's Meeting in Brookings
DESCRIPTION:
URL:https://americanlutheranchurch.com/event/esd-pastors-meeting/
END:VEVENT
BEGIN:VEVENT
DTSTART;TZID=America/Chicago:20251217T180000
DTEND;TZID=America/Chicago:20251217T183000
DTSTAMP:20260421T003414
CREATED:20251125T185129Z
LAST-MODIFIED:20251125T185132Z
UID:4579-1765994400-1765996200@americanlutheranchurch.com
SUMMARY:6:00 Confirmation
DESCRIPTION:
URL:https://americanlutheranchurch.com/event/600-confirmation-32/
END:VEVENT
BEGIN:VEVENT
DTSTART;TZID=America/Chicago:20251221T083000
DTEND;TZID=America/Chicago:20251221T170000
DTSTAMP:20260421T003414
CREATED:20251125T185204Z
LAST-MODIFIED:20251125T185206Z
UID:4581-1766305800-1766336400@americanlutheranchurch.com
SUMMARY:8:30 Choir Practice
DESCRIPTION:
URL:https://americanlutheranchurch.com/event/830-choir-practice-46/
END:VEVENT
BEGIN:VEVENT
DTSTART;TZID=America/Chicago:20230430T090000
DTEND;TZID=America/Chicago:20230430T170000
DTSTAMP:20260421T003414
CREATED:20230323T195758Z
LAST-MODIFIED:20230323T195759Z
UID:2664-1682845200-1682874000@americanlutheranchurch.com
SUMMARY:9:00 Worship
DESCRIPTION:
URL:https://americanlutheranchurch.com/event/900-worship/
LOCATION:American Lutheran Church\, 311 S 4th Ave\, Castlewood\, SD\, 57223\, United States
END:VEVENT
END:VCALENDAR