BEGIN:VCALENDAR
VERSION:2.0
PRODID:-//American Lutheran Church - ECPv6.15.14//NONSGML v1.0//EN
CALSCALE:GREGORIAN
METHOD:PUBLISH
X-WR-CALNAME:American Lutheran Church
X-ORIGINAL-URL:https://americanlutheranchurch.com
X-WR-CALDESC:Events for American Lutheran Church
REFRESH-INTERVAL;VALUE=DURATION:PT1H
X-Robots-Tag:noindex
X-PUBLISHED-TTL:PT1H
BEGIN:VTIMEZONE
TZID:America/Chicago
BEGIN:DAYLIGHT
TZOFFSETFROM:-0600
TZOFFSETTO:-0500
TZNAME:CDT
DTSTART:20210314T080000
END:DAYLIGHT
BEGIN:STANDARD
TZOFFSETFROM:-0500
TZOFFSETTO:-0600
TZNAME:CST
DTSTART:20211107T070000
END:STANDARD
BEGIN:DAYLIGHT
TZOFFSETFROM:-0600
TZOFFSETTO:-0500
TZNAME:CDT
DTSTART:20220313T080000
END:DAYLIGHT
BEGIN:STANDARD
TZOFFSETFROM:-0500
TZOFFSETTO:-0600
TZNAME:CST
DTSTART:20221106T070000
END:STANDARD
BEGIN:DAYLIGHT
TZOFFSETFROM:-0600
TZOFFSETTO:-0500
TZNAME:CDT
DTSTART:20230312T080000
END:DAYLIGHT
BEGIN:STANDARD
TZOFFSETFROM:-0500
TZOFFSETTO:-0600
TZNAME:CST
DTSTART:20231105T070000
END:STANDARD
BEGIN:DAYLIGHT
TZOFFSETFROM:-0600
TZOFFSETTO:-0500
TZNAME:CDT
DTSTART:20240310T080000
END:DAYLIGHT
BEGIN:STANDARD
TZOFFSETFROM:-0500
TZOFFSETTO:-0600
TZNAME:CST
DTSTART:20241103T070000
END:STANDARD
BEGIN:DAYLIGHT
TZOFFSETFROM:-0600
TZOFFSETTO:-0500
TZNAME:CDT
DTSTART:20250309T080000
END:DAYLIGHT
BEGIN:STANDARD
TZOFFSETFROM:-0500
TZOFFSETTO:-0600
TZNAME:CST
DTSTART:20251102T070000
END:STANDARD
END:VTIMEZONE
BEGIN:VEVENT
DTSTART;TZID=America/Chicago:20240602T100000
DTEND;TZID=America/Chicago:20240602T170000
DTSTAMP:20260420T173739
CREATED:20240521T162833Z
LAST-MODIFIED:20240521T162833Z
UID:3451-1717322400-1717347600@americanlutheranchurch.com
SUMMARY:10:00 Fellowship
DESCRIPTION:
URL:https://americanlutheranchurch.com/event/1000-fellowship-19/
END:VEVENT
BEGIN:VEVENT
DTSTART;TZID=America/Chicago:20221030T100000
DTEND;TZID=America/Chicago:20221030T110000
DTSTAMP:20260420T173739
CREATED:20221028T203930Z
LAST-MODIFIED:20230323T201545Z
UID:2333-1667124000-1667127600@americanlutheranchurch.com
SUMMARY:10:00 Fellowship
DESCRIPTION:
URL:https://americanlutheranchurch.com/event/1000-am-fellowship/
LOCATION:American Lutheran Church\, 311 S 4th Ave\, Castlewood\, SD\, 57223\, United States
END:VEVENT
BEGIN:VEVENT
DTSTART;TZID=America/Chicago:20240602T090000
DTEND;TZID=America/Chicago:20240602T170000
DTSTAMP:20260420T173739
CREATED:20240521T162751Z
LAST-MODIFIED:20240521T162752Z
UID:3449-1717318800-1717347600@americanlutheranchurch.com
SUMMARY:9:00 Worship
DESCRIPTION:
URL:https://americanlutheranchurch.com/event/900-worship-20/
END:VEVENT
BEGIN:VEVENT
DTSTART;TZID=America/Chicago:20230430T090000
DTEND;TZID=America/Chicago:20230430T170000
DTSTAMP:20260420T173739
CREATED:20230323T195758Z
LAST-MODIFIED:20230323T195759Z
UID:2664-1682845200-1682874000@americanlutheranchurch.com
SUMMARY:9:00 Worship
DESCRIPTION:
URL:https://americanlutheranchurch.com/event/900-worship/
LOCATION:American Lutheran Church\, 311 S 4th Ave\, Castlewood\, SD\, 57223\, United States
END:VEVENT
BEGIN:VEVENT
DTSTART;TZID=America/Chicago:20240526T100000
DTEND;TZID=America/Chicago:20240526T170000
DTSTAMP:20260420T173739
CREATED:20240424T172934Z
LAST-MODIFIED:20240424T172935Z
UID:3435-1716717600-1716742800@americanlutheranchurch.com
SUMMARY:10:00 Fellowship
DESCRIPTION:
URL:https://americanlutheranchurch.com/event/1000-fellowship-18/
END:VEVENT
BEGIN:VEVENT
DTSTART;TZID=America/Chicago:20221030T100000
DTEND;TZID=America/Chicago:20221030T110000
DTSTAMP:20260420T173739
CREATED:20221028T203930Z
LAST-MODIFIED:20230323T201545Z
UID:2333-1667124000-1667127600@americanlutheranchurch.com
SUMMARY:10:00 Fellowship
DESCRIPTION:
URL:https://americanlutheranchurch.com/event/1000-am-fellowship/
LOCATION:American Lutheran Church\, 311 S 4th Ave\, Castlewood\, SD\, 57223\, United States
END:VEVENT
BEGIN:VEVENT
DTSTART;TZID=America/Chicago:20240526T090000
DTEND;TZID=America/Chicago:20240526T170000
DTSTAMP:20260420T173739
CREATED:20240424T172904Z
LAST-MODIFIED:20240424T172905Z
UID:3433-1716714000-1716742800@americanlutheranchurch.com
SUMMARY:9:00 Worship
DESCRIPTION:
URL:https://americanlutheranchurch.com/event/900-worship-19/
END:VEVENT
BEGIN:VEVENT
DTSTART;TZID=America/Chicago:20230430T090000
DTEND;TZID=America/Chicago:20230430T170000
DTSTAMP:20260420T173739
CREATED:20230323T195758Z
LAST-MODIFIED:20230323T195759Z
UID:2664-1682845200-1682874000@americanlutheranchurch.com
SUMMARY:9:00 Worship
DESCRIPTION:
URL:https://americanlutheranchurch.com/event/900-worship/
LOCATION:American Lutheran Church\, 311 S 4th Ave\, Castlewood\, SD\, 57223\, United States
END:VEVENT
BEGIN:VEVENT
DTSTART;TZID=America/Chicago:20240519T101500
DTEND;TZID=America/Chicago:20240519T170000
DTSTAMP:20260420T173739
CREATED:20240421T160330Z
LAST-MODIFIED:20240421T160331Z
UID:3401-1716113700-1716138000@americanlutheranchurch.com
SUMMARY:10:15 Church Council
DESCRIPTION:
URL:https://americanlutheranchurch.com/event/1015-church-council-18/
END:VEVENT
BEGIN:VEVENT
DTSTART;TZID=America/Chicago:20240519T100000
DTEND;TZID=America/Chicago:20240519T170000
DTSTAMP:20260420T173739
CREATED:20240424T172833Z
LAST-MODIFIED:20240424T172834Z
UID:3431-1716112800-1716138000@americanlutheranchurch.com
SUMMARY:10:00 Fellowship
DESCRIPTION:
URL:https://americanlutheranchurch.com/event/1000-fellowship-17/
END:VEVENT
BEGIN:VEVENT
DTSTART;TZID=America/Chicago:20221030T100000
DTEND;TZID=America/Chicago:20221030T110000
DTSTAMP:20260420T173739
CREATED:20221028T203930Z
LAST-MODIFIED:20230323T201545Z
UID:2333-1667124000-1667127600@americanlutheranchurch.com
SUMMARY:10:00 Fellowship
DESCRIPTION:
URL:https://americanlutheranchurch.com/event/1000-am-fellowship/
LOCATION:American Lutheran Church\, 311 S 4th Ave\, Castlewood\, SD\, 57223\, United States
END:VEVENT
BEGIN:VEVENT
DTSTART;TZID=America/Chicago:20240519T090000
DTEND;TZID=America/Chicago:20240519T170000
DTSTAMP:20260420T173739
CREATED:20240424T172807Z
LAST-MODIFIED:20240424T172808Z
UID:3429-1716109200-1716138000@americanlutheranchurch.com
SUMMARY:9:00 Worship
DESCRIPTION:
URL:https://americanlutheranchurch.com/event/900-worship-18/
END:VEVENT
BEGIN:VEVENT
DTSTART;TZID=America/Chicago:20230430T090000
DTEND;TZID=America/Chicago:20230430T170000
DTSTAMP:20260420T173739
CREATED:20230323T195758Z
LAST-MODIFIED:20230323T195759Z
UID:2664-1682845200-1682874000@americanlutheranchurch.com
SUMMARY:9:00 Worship
DESCRIPTION:
URL:https://americanlutheranchurch.com/event/900-worship/
LOCATION:American Lutheran Church\, 311 S 4th Ave\, Castlewood\, SD\, 57223\, United States
END:VEVENT
BEGIN:VEVENT
DTSTART;TZID=America/Chicago:20240519T083000
DTEND;TZID=America/Chicago:20240519T170000
DTSTAMP:20260420T173739
CREATED:20240424T172729Z
LAST-MODIFIED:20240424T172730Z
UID:3427-1716107400-1716138000@americanlutheranchurch.com
SUMMARY:8:30 Choir Practic
DESCRIPTION:
URL:https://americanlutheranchurch.com/event/830-choir-practic-3/
END:VEVENT
BEGIN:VEVENT
DTSTART;TZID=America/Chicago:20240516T090000
DTEND;TZID=America/Chicago:20240516T170000
DTSTAMP:20260420T173739
CREATED:20240424T172628Z
LAST-MODIFIED:20240424T172629Z
UID:3425-1715850000-1715878800@americanlutheranchurch.com
SUMMARY:9:00 ESD Pastors in Brookings
DESCRIPTION:
URL:https://americanlutheranchurch.com/event/900-esd-pastors-in-brookings/
END:VEVENT
BEGIN:VEVENT
DTSTART;TZID=America/Chicago:20240512T100000
DTEND;TZID=America/Chicago:20240512T170000
DTSTAMP:20260420T173739
CREATED:20240424T172540Z
LAST-MODIFIED:20240424T172541Z
UID:3423-1715508000-1715533200@americanlutheranchurch.com
SUMMARY:10:00 Fellowship
DESCRIPTION:
URL:https://americanlutheranchurch.com/event/1000-fellowship-16/
END:VEVENT
BEGIN:VEVENT
DTSTART;TZID=America/Chicago:20221030T100000
DTEND;TZID=America/Chicago:20221030T110000
DTSTAMP:20260420T173739
CREATED:20221028T203930Z
LAST-MODIFIED:20230323T201545Z
UID:2333-1667124000-1667127600@americanlutheranchurch.com
SUMMARY:10:00 Fellowship
DESCRIPTION:
URL:https://americanlutheranchurch.com/event/1000-am-fellowship/
LOCATION:American Lutheran Church\, 311 S 4th Ave\, Castlewood\, SD\, 57223\, United States
END:VEVENT
BEGIN:VEVENT
DTSTART;TZID=America/Chicago:20240512T090000
DTEND;TZID=America/Chicago:20240512T170000
DTSTAMP:20260420T173739
CREATED:20240424T172511Z
LAST-MODIFIED:20240424T172512Z
UID:3421-1715504400-1715533200@americanlutheranchurch.com
SUMMARY:9:00 Worship
DESCRIPTION:
URL:https://americanlutheranchurch.com/event/900-worship-17/
END:VEVENT
BEGIN:VEVENT
DTSTART;TZID=America/Chicago:20230430T090000
DTEND;TZID=America/Chicago:20230430T170000
DTSTAMP:20260420T173739
CREATED:20230323T195758Z
LAST-MODIFIED:20230323T195759Z
UID:2664-1682845200-1682874000@americanlutheranchurch.com
SUMMARY:9:00 Worship
DESCRIPTION:
URL:https://americanlutheranchurch.com/event/900-worship/
LOCATION:American Lutheran Church\, 311 S 4th Ave\, Castlewood\, SD\, 57223\, United States
END:VEVENT
BEGIN:VEVENT
DTSTART;TZID=America/Chicago:20240512T083000
DTEND;TZID=America/Chicago:20240512T170000
DTSTAMP:20260420T173739
CREATED:20240424T172440Z
LAST-MODIFIED:20240424T172441Z
UID:3419-1715502600-1715533200@americanlutheranchurch.com
SUMMARY:8:30 Choir Practice
DESCRIPTION:
URL:https://americanlutheranchurch.com/event/830-choir-practice-22/
END:VEVENT
BEGIN:VEVENT
DTSTART;TZID=America/Chicago:20240508T190000
DTEND;TZID=America/Chicago:20240508T193000
DTSTAMP:20260420T173739
CREATED:20240424T172258Z
LAST-MODIFIED:20240424T172259Z
UID:3415-1715194800-1715196600@americanlutheranchurch.com
SUMMARY:7:00 Baccalaureate Service at CHS
DESCRIPTION:
URL:https://americanlutheranchurch.com/event/700-baccalaureate-service-at-chs/
END:VEVENT
BEGIN:VEVENT
DTSTART;TZID=America/Chicago:20240505T100000
DTEND;TZID=America/Chicago:20240505T170000
DTSTAMP:20260420T173739
CREATED:20240424T172212Z
LAST-MODIFIED:20240424T172213Z
UID:3413-1714903200-1714928400@americanlutheranchurch.com
SUMMARY:10:00 Fellowship
DESCRIPTION:
URL:https://americanlutheranchurch.com/event/1000-fellowship-15/
END:VEVENT
BEGIN:VEVENT
DTSTART;TZID=America/Chicago:20221030T100000
DTEND;TZID=America/Chicago:20221030T110000
DTSTAMP:20260420T173739
CREATED:20221028T203930Z
LAST-MODIFIED:20230323T201545Z
UID:2333-1667124000-1667127600@americanlutheranchurch.com
SUMMARY:10:00 Fellowship
DESCRIPTION:
URL:https://americanlutheranchurch.com/event/1000-am-fellowship/
LOCATION:American Lutheran Church\, 311 S 4th Ave\, Castlewood\, SD\, 57223\, United States
END:VEVENT
BEGIN:VEVENT
DTSTART;TZID=America/Chicago:20240505T090000
DTEND;TZID=America/Chicago:20240505T170000
DTSTAMP:20260420T173739
CREATED:20240424T172132Z
LAST-MODIFIED:20240424T172133Z
UID:3411-1714899600-1714928400@americanlutheranchurch.com
SUMMARY:9:00 Worship/Sr. Rec.
DESCRIPTION:
URL:https://americanlutheranchurch.com/event/900-worship-sr-rec/
END:VEVENT
BEGIN:VEVENT
DTSTART;TZID=America/Chicago:20230430T090000
DTEND;TZID=America/Chicago:20230430T170000
DTSTAMP:20260420T173739
CREATED:20230323T195758Z
LAST-MODIFIED:20230323T195759Z
UID:2664-1682845200-1682874000@americanlutheranchurch.com
SUMMARY:9:00 Worship
DESCRIPTION:
URL:https://americanlutheranchurch.com/event/900-worship/
LOCATION:American Lutheran Church\, 311 S 4th Ave\, Castlewood\, SD\, 57223\, United States
END:VEVENT
BEGIN:VEVENT
DTSTART;TZID=America/Chicago:20240505T083000
DTEND;TZID=America/Chicago:20240505T170000
DTSTAMP:20260420T173739
CREATED:20240424T171803Z
LAST-MODIFIED:20240424T171804Z
UID:3407-1714897800-1714928400@americanlutheranchurch.com
SUMMARY:8:30 Choir Practice
DESCRIPTION:
URL:https://americanlutheranchurch.com/event/830-choir-practice-21/
END:VEVENT
BEGIN:VEVENT
DTSTART;TZID=America/Chicago:20240504T100000
DTEND;TZID=America/Chicago:20240504T170000
DTSTAMP:20260420T173739
CREATED:20240424T172404Z
LAST-MODIFIED:20240424T172405Z
UID:3417-1714816800-1714842000@americanlutheranchurch.com
SUMMARY:10:00-6:00 Men's Retreat at Plain View Farm
DESCRIPTION:
URL:https://americanlutheranchurch.com/event/1000-600-mens-retreat-at-plain-view-farm/
END:VEVENT
BEGIN:VEVENT
DTSTART;TZID=America/Chicago:20240501T181500
DTEND;TZID=America/Chicago:20240501T183000
DTSTAMP:20260420T173739
CREATED:20240424T171559Z
LAST-MODIFIED:20240424T171600Z
UID:3405-1714587300-1714588200@americanlutheranchurch.com
SUMMARY:6:15 Youth Group Cookout at Parsonage
DESCRIPTION:
URL:https://americanlutheranchurch.com/event/615-youth-group-cookout-at-parsonage/
END:VEVENT
BEGIN:VEVENT
DTSTART;TZID=America/Chicago:20240428T101500
DTEND;TZID=America/Chicago:20240428T170000
DTSTAMP:20260420T173739
CREATED:20240404T155411Z
LAST-MODIFIED:20240424T164900Z
UID:3392-1714299300-1714323600@americanlutheranchurch.com
SUMMARY:10:15 Last Sunday School
DESCRIPTION:
URL:https://americanlutheranchurch.com/event/1015-sunday-school-17/
END:VEVENT
BEGIN:VEVENT
DTSTART;TZID=America/Chicago:20240428T100000
DTEND;TZID=America/Chicago:20240428T170000
DTSTAMP:20260420T173739
CREATED:20240404T155241Z
LAST-MODIFIED:20240404T155242Z
UID:3386-1714298400-1714323600@americanlutheranchurch.com
SUMMARY:10:00 Fellowship
DESCRIPTION:
URL:https://americanlutheranchurch.com/event/1000-fellowship-14/
END:VEVENT
END:VCALENDAR