BEGIN:VCALENDAR
VERSION:2.0
PRODID:-//American Lutheran Church - ECPv6.15.14//NONSGML v1.0//EN
CALSCALE:GREGORIAN
METHOD:PUBLISH
X-WR-CALNAME:American Lutheran Church
X-ORIGINAL-URL:https://americanlutheranchurch.com
X-WR-CALDESC:Events for American Lutheran Church
REFRESH-INTERVAL;VALUE=DURATION:PT1H
X-Robots-Tag:noindex
X-PUBLISHED-TTL:PT1H
BEGIN:VTIMEZONE
TZID:America/Chicago
BEGIN:DAYLIGHT
TZOFFSETFROM:-0600
TZOFFSETTO:-0500
TZNAME:CDT
DTSTART:20210314T080000
END:DAYLIGHT
BEGIN:STANDARD
TZOFFSETFROM:-0500
TZOFFSETTO:-0600
TZNAME:CST
DTSTART:20211107T070000
END:STANDARD
BEGIN:DAYLIGHT
TZOFFSETFROM:-0600
TZOFFSETTO:-0500
TZNAME:CDT
DTSTART:20220313T080000
END:DAYLIGHT
BEGIN:STANDARD
TZOFFSETFROM:-0500
TZOFFSETTO:-0600
TZNAME:CST
DTSTART:20221106T070000
END:STANDARD
BEGIN:DAYLIGHT
TZOFFSETFROM:-0600
TZOFFSETTO:-0500
TZNAME:CDT
DTSTART:20230312T080000
END:DAYLIGHT
BEGIN:STANDARD
TZOFFSETFROM:-0500
TZOFFSETTO:-0600
TZNAME:CST
DTSTART:20231105T070000
END:STANDARD
BEGIN:DAYLIGHT
TZOFFSETFROM:-0600
TZOFFSETTO:-0500
TZNAME:CDT
DTSTART:20240310T080000
END:DAYLIGHT
BEGIN:STANDARD
TZOFFSETFROM:-0500
TZOFFSETTO:-0600
TZNAME:CST
DTSTART:20241103T070000
END:STANDARD
BEGIN:DAYLIGHT
TZOFFSETFROM:-0600
TZOFFSETTO:-0500
TZNAME:CDT
DTSTART:20250309T080000
END:DAYLIGHT
BEGIN:STANDARD
TZOFFSETFROM:-0500
TZOFFSETTO:-0600
TZNAME:CST
DTSTART:20251102T070000
END:STANDARD
END:VTIMEZONE
BEGIN:VEVENT
DTSTART;TZID=America/Chicago:20240625T080000
DTEND;TZID=America/Chicago:20240625T170000
DTSTAMP:20260420T142953
CREATED:20240304T133841Z
LAST-MODIFIED:20240304T134001Z
UID:3334-1719302400-1719334800@americanlutheranchurch.com
SUMMARY:Community VBS
DESCRIPTION:
URL:https://americanlutheranchurch.com/event/community-vbs/
END:VEVENT
BEGIN:VEVENT
DTSTART;TZID=America/Chicago:20240624T080000
DTEND;TZID=America/Chicago:20240624T170000
DTSTAMP:20260420T142953
CREATED:20240304T134112Z
LAST-MODIFIED:20240304T134113Z
UID:3336-1719216000-1719248400@americanlutheranchurch.com
SUMMARY:Community VBS
DESCRIPTION:
URL:https://americanlutheranchurch.com/event/community-vbs-2/
END:VEVENT
BEGIN:VEVENT
DTSTART;TZID=America/Chicago:20221030T100000
DTEND;TZID=America/Chicago:20221030T110000
DTSTAMP:20260420T142953
CREATED:20221028T203930Z
LAST-MODIFIED:20230323T201545Z
UID:2333-1667124000-1667127600@americanlutheranchurch.com
SUMMARY:10:00 Fellowship
DESCRIPTION:
URL:https://americanlutheranchurch.com/event/1000-am-fellowship/
LOCATION:American Lutheran Church\, 311 S 4th Ave\, Castlewood\, SD\, 57223\, United States
END:VEVENT
BEGIN:VEVENT
DTSTART;TZID=America/Chicago:20230430T090000
DTEND;TZID=America/Chicago:20230430T170000
DTSTAMP:20260420T142953
CREATED:20230323T195758Z
LAST-MODIFIED:20230323T195759Z
UID:2664-1682845200-1682874000@americanlutheranchurch.com
SUMMARY:9:00 Worship
DESCRIPTION:
URL:https://americanlutheranchurch.com/event/900-worship/
LOCATION:American Lutheran Church\, 311 S 4th Ave\, Castlewood\, SD\, 57223\, United States
END:VEVENT
BEGIN:VEVENT
DTSTART;TZID=America/Chicago:20240623T080000
DTEND;TZID=America/Chicago:20240623T170000
DTSTAMP:20260420T142953
CREATED:20240521T163553Z
LAST-MODIFIED:20240521T163554Z
UID:3478-1719129600-1719162000@americanlutheranchurch.com
SUMMARY:10:00 Fellowship
DESCRIPTION:
URL:https://americanlutheranchurch.com/event/1000-fellowship-22/
END:VEVENT
BEGIN:VEVENT
DTSTART;TZID=America/Chicago:20240623T080000
DTEND;TZID=America/Chicago:20240623T170000
DTSTAMP:20260420T142953
CREATED:20240521T163526Z
LAST-MODIFIED:20240521T163527Z
UID:3476-1719129600-1719162000@americanlutheranchurch.com
SUMMARY:9:00 Worship
DESCRIPTION:
URL:https://americanlutheranchurch.com/event/900-worship-23/
END:VEVENT
BEGIN:VEVENT
DTSTART;TZID=America/Chicago:20240622T080000
DTEND;TZID=America/Chicago:20240622T170000
DTSTAMP:20260420T142953
CREATED:20240521T163437Z
LAST-MODIFIED:20240521T163437Z
UID:3474-1719043200-1719075600@americanlutheranchurch.com
SUMMARY:Mission Trip
DESCRIPTION:
URL:https://americanlutheranchurch.com/event/mission-trip-6/
END:VEVENT
BEGIN:VEVENT
DTSTART;TZID=America/Chicago:20240621T080000
DTEND;TZID=America/Chicago:20240621T170000
DTSTAMP:20260420T142953
CREATED:20240521T163417Z
LAST-MODIFIED:20240521T163418Z
UID:3472-1718956800-1718989200@americanlutheranchurch.com
SUMMARY:Mission Trip
DESCRIPTION:
URL:https://americanlutheranchurch.com/event/mission-trip-5/
END:VEVENT
BEGIN:VEVENT
DTSTART;TZID=America/Chicago:20240620T080000
DTEND;TZID=America/Chicago:20240620T170000
DTSTAMP:20260420T142953
CREATED:20240521T163354Z
LAST-MODIFIED:20240521T163355Z
UID:3470-1718870400-1718902800@americanlutheranchurch.com
SUMMARY:Mission Trip
DESCRIPTION:
URL:https://americanlutheranchurch.com/event/mission-trip-4/
END:VEVENT
BEGIN:VEVENT
DTSTART;TZID=America/Chicago:20240619T080000
DTEND;TZID=America/Chicago:20240619T170000
DTSTAMP:20260420T142953
CREATED:20240521T163334Z
LAST-MODIFIED:20240521T163334Z
UID:3468-1718784000-1718816400@americanlutheranchurch.com
SUMMARY:Mission Trip
DESCRIPTION:
URL:https://americanlutheranchurch.com/event/mission-trip-3/
END:VEVENT
BEGIN:VEVENT
DTSTART;TZID=America/Chicago:20240618T080000
DTEND;TZID=America/Chicago:20240618T170000
DTSTAMP:20260420T142953
CREATED:20240521T163315Z
LAST-MODIFIED:20240521T163315Z
UID:3466-1718697600-1718730000@americanlutheranchurch.com
SUMMARY:Mission Trip
DESCRIPTION:
URL:https://americanlutheranchurch.com/event/mission-trip-2/
END:VEVENT
BEGIN:VEVENT
DTSTART;TZID=America/Chicago:20240617T080000
DTEND;TZID=America/Chicago:20240617T170000
DTSTAMP:20260420T142953
CREATED:20240521T163254Z
LAST-MODIFIED:20240521T163254Z
UID:3464-1718611200-1718643600@americanlutheranchurch.com
SUMMARY:Mission Trip
DESCRIPTION:
URL:https://americanlutheranchurch.com/event/mission-trip/
END:VEVENT
BEGIN:VEVENT
DTSTART;TZID=America/Chicago:20240616T103000
DTEND;TZID=America/Chicago:20240616T170000
DTSTAMP:20260420T142953
CREATED:20240521T163226Z
LAST-MODIFIED:20240521T163226Z
UID:3462-1718533800-1718557200@americanlutheranchurch.com
SUMMARY:10:30 Youth Depart for Mission Trip
DESCRIPTION:
URL:https://americanlutheranchurch.com/event/1030-youth-depart-for-mission-trip/
END:VEVENT
BEGIN:VEVENT
DTSTART;TZID=America/Chicago:20240616T100000
DTEND;TZID=America/Chicago:20240616T170000
DTSTAMP:20260420T142953
CREATED:20240521T163145Z
LAST-MODIFIED:20240521T163146Z
UID:3460-1718532000-1718557200@americanlutheranchurch.com
SUMMARY:10:00 Fellowship
DESCRIPTION:
URL:https://americanlutheranchurch.com/event/1000-fellowship-21/
END:VEVENT
BEGIN:VEVENT
DTSTART;TZID=America/Chicago:20221030T100000
DTEND;TZID=America/Chicago:20221030T110000
DTSTAMP:20260420T142953
CREATED:20221028T203930Z
LAST-MODIFIED:20230323T201545Z
UID:2333-1667124000-1667127600@americanlutheranchurch.com
SUMMARY:10:00 Fellowship
DESCRIPTION:
URL:https://americanlutheranchurch.com/event/1000-am-fellowship/
LOCATION:American Lutheran Church\, 311 S 4th Ave\, Castlewood\, SD\, 57223\, United States
END:VEVENT
BEGIN:VEVENT
DTSTART;TZID=America/Chicago:20240616T090000
DTEND;TZID=America/Chicago:20240616T170000
DTSTAMP:20260420T142953
CREATED:20240521T163057Z
LAST-MODIFIED:20240521T163058Z
UID:3458-1718528400-1718557200@americanlutheranchurch.com
SUMMARY:9:00 Worship
DESCRIPTION:
URL:https://americanlutheranchurch.com/event/900-worship-22/
END:VEVENT
BEGIN:VEVENT
DTSTART;TZID=America/Chicago:20230430T090000
DTEND;TZID=America/Chicago:20230430T170000
DTSTAMP:20260420T142953
CREATED:20230323T195758Z
LAST-MODIFIED:20230323T195759Z
UID:2664-1682845200-1682874000@americanlutheranchurch.com
SUMMARY:9:00 Worship
DESCRIPTION:
URL:https://americanlutheranchurch.com/event/900-worship/
LOCATION:American Lutheran Church\, 311 S 4th Ave\, Castlewood\, SD\, 57223\, United States
END:VEVENT
BEGIN:VEVENT
DTSTART;TZID=America/Chicago:20240615T080000
DTEND;TZID=America/Chicago:20240615T170000
DTSTAMP:20260420T142953
CREATED:20231127T155850Z
LAST-MODIFIED:20231127T155851Z
UID:3066-1718438400-1718470800@americanlutheranchurch.com
SUMMARY:Strait/Corben Wedding
DESCRIPTION:
URL:https://americanlutheranchurch.com/event/strait-corben-wedding/
END:VEVENT
BEGIN:VEVENT
DTSTART;TZID=America/Chicago:20240611T080000
DTEND;TZID=America/Chicago:20240625T170000
DTSTAMP:20260420T142953
CREATED:20240611T205439Z
LAST-MODIFIED:20240611T205440Z
UID:3533-1718092800-1719334800@americanlutheranchurch.com
SUMMARY:
DESCRIPTION:Blood Mobile at ALC
URL:https://americanlutheranchurch.com/event/3533/
END:VEVENT
BEGIN:VEVENT
DTSTART;TZID=America/Chicago:20240609T100000
DTEND;TZID=America/Chicago:20240609T170000
DTSTAMP:20260420T142953
CREATED:20240521T163007Z
LAST-MODIFIED:20240521T163008Z
UID:3456-1717927200-1717952400@americanlutheranchurch.com
SUMMARY:10:00 Fellowship
DESCRIPTION:
URL:https://americanlutheranchurch.com/event/1000-fellowship-20/
END:VEVENT
BEGIN:VEVENT
DTSTART;TZID=America/Chicago:20221030T100000
DTEND;TZID=America/Chicago:20221030T110000
DTSTAMP:20260420T142953
CREATED:20221028T203930Z
LAST-MODIFIED:20230323T201545Z
UID:2333-1667124000-1667127600@americanlutheranchurch.com
SUMMARY:10:00 Fellowship
DESCRIPTION:
URL:https://americanlutheranchurch.com/event/1000-am-fellowship/
LOCATION:American Lutheran Church\, 311 S 4th Ave\, Castlewood\, SD\, 57223\, United States
END:VEVENT
BEGIN:VEVENT
DTSTART;TZID=America/Chicago:20240609T090000
DTEND;TZID=America/Chicago:20240609T170000
DTSTAMP:20260420T142953
CREATED:20240521T162939Z
LAST-MODIFIED:20240521T162940Z
UID:3454-1717923600-1717952400@americanlutheranchurch.com
SUMMARY:9:00 Worship
DESCRIPTION:
URL:https://americanlutheranchurch.com/event/900-worship-21/
END:VEVENT
BEGIN:VEVENT
DTSTART;TZID=America/Chicago:20230430T090000
DTEND;TZID=America/Chicago:20230430T170000
DTSTAMP:20260420T142953
CREATED:20230323T195758Z
LAST-MODIFIED:20230323T195759Z
UID:2664-1682845200-1682874000@americanlutheranchurch.com
SUMMARY:9:00 Worship
DESCRIPTION:
URL:https://americanlutheranchurch.com/event/900-worship/
LOCATION:American Lutheran Church\, 311 S 4th Ave\, Castlewood\, SD\, 57223\, United States
END:VEVENT
BEGIN:VEVENT
DTSTART;TZID=America/Chicago:20240605T080000
DTEND;TZID=America/Chicago:20240605T170000
DTSTAMP:20260420T142953
CREATED:20240516T214206Z
LAST-MODIFIED:20240521T162906Z
UID:3447-1717574400-1717606800@americanlutheranchurch.com
SUMMARY:5:00-7:00 PM Pie & Ice Cream Social
DESCRIPTION:
URL:https://americanlutheranchurch.com/event/500-700-pm-ice-cream-social/
END:VEVENT
BEGIN:VEVENT
DTSTART;TZID=America/Chicago:20240602T100000
DTEND;TZID=America/Chicago:20240602T170000
DTSTAMP:20260420T142953
CREATED:20240521T162833Z
LAST-MODIFIED:20240521T162833Z
UID:3451-1717322400-1717347600@americanlutheranchurch.com
SUMMARY:10:00 Fellowship
DESCRIPTION:
URL:https://americanlutheranchurch.com/event/1000-fellowship-19/
END:VEVENT
BEGIN:VEVENT
DTSTART;TZID=America/Chicago:20221030T100000
DTEND;TZID=America/Chicago:20221030T110000
DTSTAMP:20260420T142953
CREATED:20221028T203930Z
LAST-MODIFIED:20230323T201545Z
UID:2333-1667124000-1667127600@americanlutheranchurch.com
SUMMARY:10:00 Fellowship
DESCRIPTION:
URL:https://americanlutheranchurch.com/event/1000-am-fellowship/
LOCATION:American Lutheran Church\, 311 S 4th Ave\, Castlewood\, SD\, 57223\, United States
END:VEVENT
BEGIN:VEVENT
DTSTART;TZID=America/Chicago:20240602T090000
DTEND;TZID=America/Chicago:20240602T170000
DTSTAMP:20260420T142953
CREATED:20240521T162751Z
LAST-MODIFIED:20240521T162752Z
UID:3449-1717318800-1717347600@americanlutheranchurch.com
SUMMARY:9:00 Worship
DESCRIPTION:
URL:https://americanlutheranchurch.com/event/900-worship-20/
END:VEVENT
BEGIN:VEVENT
DTSTART;TZID=America/Chicago:20230430T090000
DTEND;TZID=America/Chicago:20230430T170000
DTSTAMP:20260420T142953
CREATED:20230323T195758Z
LAST-MODIFIED:20230323T195759Z
UID:2664-1682845200-1682874000@americanlutheranchurch.com
SUMMARY:9:00 Worship
DESCRIPTION:
URL:https://americanlutheranchurch.com/event/900-worship/
LOCATION:American Lutheran Church\, 311 S 4th Ave\, Castlewood\, SD\, 57223\, United States
END:VEVENT
BEGIN:VEVENT
DTSTART;TZID=America/Chicago:20240526T100000
DTEND;TZID=America/Chicago:20240526T170000
DTSTAMP:20260420T142953
CREATED:20240424T172934Z
LAST-MODIFIED:20240424T172935Z
UID:3435-1716717600-1716742800@americanlutheranchurch.com
SUMMARY:10:00 Fellowship
DESCRIPTION:
URL:https://americanlutheranchurch.com/event/1000-fellowship-18/
END:VEVENT
BEGIN:VEVENT
DTSTART;TZID=America/Chicago:20221030T100000
DTEND;TZID=America/Chicago:20221030T110000
DTSTAMP:20260420T142953
CREATED:20221028T203930Z
LAST-MODIFIED:20230323T201545Z
UID:2333-1667124000-1667127600@americanlutheranchurch.com
SUMMARY:10:00 Fellowship
DESCRIPTION:
URL:https://americanlutheranchurch.com/event/1000-am-fellowship/
LOCATION:American Lutheran Church\, 311 S 4th Ave\, Castlewood\, SD\, 57223\, United States
END:VEVENT
END:VCALENDAR