BEGIN:VCALENDAR
VERSION:2.0
PRODID:-//American Lutheran Church - ECPv6.15.14//NONSGML v1.0//EN
CALSCALE:GREGORIAN
METHOD:PUBLISH
X-ORIGINAL-URL:https://americanlutheranchurch.com
X-WR-CALDESC:Events for American Lutheran Church
REFRESH-INTERVAL;VALUE=DURATION:PT1H
X-Robots-Tag:noindex
X-PUBLISHED-TTL:PT1H
BEGIN:VTIMEZONE
TZID:America/Chicago
BEGIN:DAYLIGHT
TZOFFSETFROM:-0600
TZOFFSETTO:-0500
TZNAME:CDT
DTSTART:20210314T080000
END:DAYLIGHT
BEGIN:STANDARD
TZOFFSETFROM:-0500
TZOFFSETTO:-0600
TZNAME:CST
DTSTART:20211107T070000
END:STANDARD
BEGIN:DAYLIGHT
TZOFFSETFROM:-0600
TZOFFSETTO:-0500
TZNAME:CDT
DTSTART:20220313T080000
END:DAYLIGHT
BEGIN:STANDARD
TZOFFSETFROM:-0500
TZOFFSETTO:-0600
TZNAME:CST
DTSTART:20221106T070000
END:STANDARD
BEGIN:DAYLIGHT
TZOFFSETFROM:-0600
TZOFFSETTO:-0500
TZNAME:CDT
DTSTART:20230312T080000
END:DAYLIGHT
BEGIN:STANDARD
TZOFFSETFROM:-0500
TZOFFSETTO:-0600
TZNAME:CST
DTSTART:20231105T070000
END:STANDARD
BEGIN:DAYLIGHT
TZOFFSETFROM:-0600
TZOFFSETTO:-0500
TZNAME:CDT
DTSTART:20240310T080000
END:DAYLIGHT
BEGIN:STANDARD
TZOFFSETFROM:-0500
TZOFFSETTO:-0600
TZNAME:CST
DTSTART:20241103T070000
END:STANDARD
BEGIN:DAYLIGHT
TZOFFSETFROM:-0600
TZOFFSETTO:-0500
TZNAME:CDT
DTSTART:20250309T080000
END:DAYLIGHT
BEGIN:STANDARD
TZOFFSETFROM:-0500
TZOFFSETTO:-0600
TZNAME:CST
DTSTART:20251102T070000
END:STANDARD
BEGIN:DAYLIGHT
TZOFFSETFROM:-0600
TZOFFSETTO:-0500
TZNAME:CDT
DTSTART:20260308T080000
END:DAYLIGHT
BEGIN:STANDARD
TZOFFSETFROM:-0500
TZOFFSETTO:-0600
TZNAME:CST
DTSTART:20261101T070000
END:STANDARD
END:VTIMEZONE
BEGIN:VEVENT
DTSTART;TZID=America/Chicago:20221030T100000
DTEND;TZID=America/Chicago:20221030T110000
DTSTAMP:20260420T092054
CREATED:20221028T203930Z
LAST-MODIFIED:20230323T201545Z
UID:2333-1667124000-1667127600@americanlutheranchurch.com
SUMMARY:10:00 Fellowship
DESCRIPTION:
URL:https://americanlutheranchurch.com/event/1000-am-fellowship/
LOCATION:American Lutheran Church\, 311 S 4th Ave\, Castlewood\, SD\, 57223\, United States
END:VEVENT
BEGIN:VEVENT
DTSTART;TZID=America/Chicago:20250907T100000
DTEND;TZID=America/Chicago:20250907T170000
DTSTAMP:20260420T092054
CREATED:20250826T203517Z
LAST-MODIFIED:20250826T203518Z
UID:4342-1757239200-1757264400@americanlutheranchurch.com
SUMMARY:10:00 Fellowship
DESCRIPTION:
URL:https://americanlutheranchurch.com/event/1000-fellowship-79/
END:VEVENT
BEGIN:VEVENT
DTSTART;TZID=America/Chicago:20250907T101500
DTEND;TZID=America/Chicago:20250907T170000
DTSTAMP:20260420T092054
CREATED:20250802T164419Z
LAST-MODIFIED:20250802T164420Z
UID:4317-1757240100-1757264400@americanlutheranchurch.com
SUMMARY:10:15 Sunday School Rally Sunday
DESCRIPTION:
URL:https://americanlutheranchurch.com/event/1015-sunday-school-rally-sunday/
END:VEVENT
BEGIN:VEVENT
DTSTART;TZID=America/Chicago:20250910T093000
DTEND;TZID=America/Chicago:20250910T183000
DTSTAMP:20260420T092054
CREATED:20250826T203156Z
LAST-MODIFIED:20250826T203328Z
UID:4337-1757496600-1757529000@americanlutheranchurch.com
SUMMARY:9:30 Bible Study
DESCRIPTION:
URL:https://americanlutheranchurch.com/event/600-confirmation-19/
END:VEVENT
BEGIN:VEVENT
DTSTART;TZID=America/Chicago:20250910T180000
DTEND;TZID=America/Chicago:20250910T183000
DTSTAMP:20260420T092054
CREATED:20250826T203045Z
LAST-MODIFIED:20250826T203105Z
UID:4335-1757527200-1757529000@americanlutheranchurch.com
SUMMARY:6:00 Confirmation
DESCRIPTION:
URL:https://americanlutheranchurch.com/event/600-confirmation-18/
END:VEVENT
BEGIN:VEVENT
DTSTART;TZID=America/Chicago:20250910T190000
DTEND;TZID=America/Chicago:20250910T193000
DTSTAMP:20260420T092054
CREATED:20250826T212611Z
LAST-MODIFIED:20250826T212612Z
UID:4367-1757530800-1757532600@americanlutheranchurch.com
SUMMARY:7:00 Bible Study
DESCRIPTION:
URL:https://americanlutheranchurch.com/event/700-bible-study-15/
END:VEVENT
BEGIN:VEVENT
DTSTART;TZID=America/Chicago:20230430T090000
DTEND;TZID=America/Chicago:20230430T170000
DTSTAMP:20260420T092054
CREATED:20230323T195758Z
LAST-MODIFIED:20230323T195759Z
UID:2664-1682845200-1682874000@americanlutheranchurch.com
SUMMARY:9:00 Worship
DESCRIPTION:
URL:https://americanlutheranchurch.com/event/900-worship/
LOCATION:American Lutheran Church\, 311 S 4th Ave\, Castlewood\, SD\, 57223\, United States
END:VEVENT
BEGIN:VEVENT
DTSTART;TZID=America/Chicago:20250914T090000
DTEND;TZID=America/Chicago:20250914T170000
DTSTAMP:20260420T092054
CREATED:20250826T203551Z
LAST-MODIFIED:20250826T203552Z
UID:4344-1757840400-1757869200@americanlutheranchurch.com
SUMMARY:9:00 Worship
DESCRIPTION:
URL:https://americanlutheranchurch.com/event/900-worship-79/
END:VEVENT
BEGIN:VEVENT
DTSTART;TZID=America/Chicago:20221030T100000
DTEND;TZID=America/Chicago:20221030T110000
DTSTAMP:20260420T092054
CREATED:20221028T203930Z
LAST-MODIFIED:20230323T201545Z
UID:2333-1667124000-1667127600@americanlutheranchurch.com
SUMMARY:10:00 Fellowship
DESCRIPTION:
URL:https://americanlutheranchurch.com/event/1000-am-fellowship/
LOCATION:American Lutheran Church\, 311 S 4th Ave\, Castlewood\, SD\, 57223\, United States
END:VEVENT
BEGIN:VEVENT
DTSTART;TZID=America/Chicago:20250914T100000
DTEND;TZID=America/Chicago:20250914T170000
DTSTAMP:20260420T092054
CREATED:20250826T212057Z
LAST-MODIFIED:20250826T212058Z
UID:4355-1757844000-1757869200@americanlutheranchurch.com
SUMMARY:10:00 Fellowship
DESCRIPTION:
URL:https://americanlutheranchurch.com/event/1000-fellowship-80/
END:VEVENT
BEGIN:VEVENT
DTSTART;TZID=America/Chicago:20250914T101500
DTEND;TZID=America/Chicago:20250914T170000
DTSTAMP:20260420T092054
CREATED:20250826T212132Z
LAST-MODIFIED:20250826T212133Z
UID:4357-1757844900-1757869200@americanlutheranchurch.com
SUMMARY:10:15 Sunday School
DESCRIPTION:
URL:https://americanlutheranchurch.com/event/1015-sunday-school-39/
END:VEVENT
BEGIN:VEVENT
DTSTART;TZID=America/Chicago:20250914T160000
DTEND;TZID=America/Chicago:20250914T170000
DTSTAMP:20260420T092054
CREATED:20250826T214314Z
LAST-MODIFIED:20250826T215147Z
UID:4380-1757865600-1757869200@americanlutheranchurch.com
SUMMARY:4:00-6:00 Youth Gamin' & Grillin' at Parsonage
DESCRIPTION:
URL:https://americanlutheranchurch.com/event/400-600-youth-games-grillin-at-parsonage/
END:VEVENT
BEGIN:VEVENT
DTSTART;TZID=America/Chicago:20250916T080000
DTEND;TZID=America/Chicago:20250916T170000
DTSTAMP:20260420T092054
CREATED:20250819T123729Z
LAST-MODIFIED:20250819T123730Z
UID:4333-1758009600-1758042000@americanlutheranchurch.com
SUMMARY:9:00-1:00 ESD Pastor Meeting at ALC
DESCRIPTION:
URL:https://americanlutheranchurch.com/event/900-100-esd-pastor-meeting-at-alc/
END:VEVENT
BEGIN:VEVENT
DTSTART;TZID=America/Chicago:20250917T180000
DTEND;TZID=America/Chicago:20250917T183000
DTSTAMP:20260420T092054
CREATED:20250826T203852Z
LAST-MODIFIED:20250826T203853Z
UID:4352-1758132000-1758133800@americanlutheranchurch.com
SUMMARY:6:00 Confirmation
DESCRIPTION:
URL:https://americanlutheranchurch.com/event/600-confirmation-21/
END:VEVENT
BEGIN:VEVENT
DTSTART;TZID=America/Chicago:20230430T090000
DTEND;TZID=America/Chicago:20230430T170000
DTSTAMP:20260420T092054
CREATED:20230323T195758Z
LAST-MODIFIED:20230323T195759Z
UID:2664-1682845200-1682874000@americanlutheranchurch.com
SUMMARY:9:00 Worship
DESCRIPTION:
URL:https://americanlutheranchurch.com/event/900-worship/
LOCATION:American Lutheran Church\, 311 S 4th Ave\, Castlewood\, SD\, 57223\, United States
END:VEVENT
BEGIN:VEVENT
DTSTART;TZID=America/Chicago:20250921T090000
DTEND;TZID=America/Chicago:20250921T170000
DTSTAMP:20260420T092054
CREATED:20250826T203624Z
LAST-MODIFIED:20250826T203625Z
UID:4346-1758445200-1758474000@americanlutheranchurch.com
SUMMARY:9:00 Worship
DESCRIPTION:
URL:https://americanlutheranchurch.com/event/900-worship-80/
END:VEVENT
BEGIN:VEVENT
DTSTART;TZID=America/Chicago:20221030T100000
DTEND;TZID=America/Chicago:20221030T110000
DTSTAMP:20260420T092054
CREATED:20221028T203930Z
LAST-MODIFIED:20230323T201545Z
UID:2333-1667124000-1667127600@americanlutheranchurch.com
SUMMARY:10:00 Fellowship
DESCRIPTION:
URL:https://americanlutheranchurch.com/event/1000-am-fellowship/
LOCATION:American Lutheran Church\, 311 S 4th Ave\, Castlewood\, SD\, 57223\, United States
END:VEVENT
BEGIN:VEVENT
DTSTART;TZID=America/Chicago:20250921T100000
DTEND;TZID=America/Chicago:20250921T170000
DTSTAMP:20260420T092054
CREATED:20250826T212202Z
LAST-MODIFIED:20250826T212203Z
UID:4359-1758448800-1758474000@americanlutheranchurch.com
SUMMARY:10:00 Fellowship
DESCRIPTION:
URL:https://americanlutheranchurch.com/event/1000-fellowship-81/
END:VEVENT
BEGIN:VEVENT
DTSTART;TZID=America/Chicago:20250921T101500
DTEND;TZID=America/Chicago:20250921T170000
DTSTAMP:20260420T092054
CREATED:20250826T212243Z
LAST-MODIFIED:20250826T212244Z
UID:4361-1758449700-1758474000@americanlutheranchurch.com
SUMMARY:10:15 Sunday School
DESCRIPTION:
URL:https://americanlutheranchurch.com/event/1015-sunday-school-40/
END:VEVENT
BEGIN:VEVENT
DTSTART;TZID=America/Chicago:20250921T102000
DTEND;TZID=America/Chicago:20250921T170000
DTSTAMP:20260420T092054
CREATED:20250817T163223Z
LAST-MODIFIED:20250817T163224Z
UID:4330-1758450000-1758474000@americanlutheranchurch.com
SUMMARY:10:15 Church Council
DESCRIPTION:
URL:https://americanlutheranchurch.com/event/1015-church-council-30/
END:VEVENT
BEGIN:VEVENT
DTSTART;TZID=America/Chicago:20250924T093000
DTEND;TZID=America/Chicago:20250924T170000
DTSTAMP:20260420T092054
CREATED:20250826T214023Z
LAST-MODIFIED:20250826T214024Z
UID:4374-1758706200-1758733200@americanlutheranchurch.com
SUMMARY:9:30 Bible Study
DESCRIPTION:
URL:https://americanlutheranchurch.com/event/930-bible-study-11/
END:VEVENT
BEGIN:VEVENT
DTSTART;TZID=America/Chicago:20250924T180000
DTEND;TZID=America/Chicago:20250924T183000
DTSTAMP:20260420T092054
CREATED:20250826T214135Z
LAST-MODIFIED:20250826T214136Z
UID:4378-1758736800-1758738600@americanlutheranchurch.com
SUMMARY:6:00 Confirmation
DESCRIPTION:
URL:https://americanlutheranchurch.com/event/600-confirmation-22/
END:VEVENT
BEGIN:VEVENT
DTSTART;TZID=America/Chicago:20250924T190000
DTEND;TZID=America/Chicago:20250924T193000
DTSTAMP:20260420T092054
CREATED:20250826T214107Z
LAST-MODIFIED:20250826T214108Z
UID:4376-1758740400-1758742200@americanlutheranchurch.com
SUMMARY:7:00 Bible Study
DESCRIPTION:
URL:https://americanlutheranchurch.com/event/700-bible-study-16/
END:VEVENT
BEGIN:VEVENT
DTSTART;TZID=America/Chicago:20250926T080000
DTEND;TZID=America/Chicago:20250926T170000
DTSTAMP:20260420T092054
CREATED:20250826T213933Z
LAST-MODIFIED:20250826T213934Z
UID:4372-1758873600-1758906000@americanlutheranchurch.com
SUMMARY:5:00 Wedding Reh.
DESCRIPTION:
URL:https://americanlutheranchurch.com/event/500-wedding-reh/
END:VEVENT
BEGIN:VEVENT
DTSTART;TZID=America/Chicago:20250927T080000
DTEND;TZID=America/Chicago:20250927T170000
DTSTAMP:20260420T092054
CREATED:20240114T174836Z
LAST-MODIFIED:20250826T213906Z
UID:3162-1758960000-1758992400@americanlutheranchurch.com
SUMMARY:3:00 Fischer/Winberg Wedding
DESCRIPTION:
URL:https://americanlutheranchurch.com/event/fischer-winberg-wedding/
END:VEVENT
BEGIN:VEVENT
DTSTART;TZID=America/Chicago:20230430T090000
DTEND;TZID=America/Chicago:20230430T170000
DTSTAMP:20260420T092054
CREATED:20230323T195758Z
LAST-MODIFIED:20230323T195759Z
UID:2664-1682845200-1682874000@americanlutheranchurch.com
SUMMARY:9:00 Worship
DESCRIPTION:
URL:https://americanlutheranchurch.com/event/900-worship/
LOCATION:American Lutheran Church\, 311 S 4th Ave\, Castlewood\, SD\, 57223\, United States
END:VEVENT
BEGIN:VEVENT
DTSTART;TZID=America/Chicago:20250928T090000
DTEND;TZID=America/Chicago:20250928T170000
DTSTAMP:20260420T092054
CREATED:20250826T203652Z
LAST-MODIFIED:20250826T203652Z
UID:4348-1759050000-1759078800@americanlutheranchurch.com
SUMMARY:9:00 Worship
DESCRIPTION:
URL:https://americanlutheranchurch.com/event/900-worship-81/
END:VEVENT
BEGIN:VEVENT
DTSTART;TZID=America/Chicago:20221030T100000
DTEND;TZID=America/Chicago:20221030T110000
DTSTAMP:20260420T092054
CREATED:20221028T203930Z
LAST-MODIFIED:20230323T201545Z
UID:2333-1667124000-1667127600@americanlutheranchurch.com
SUMMARY:10:00 Fellowship
DESCRIPTION:
URL:https://americanlutheranchurch.com/event/1000-am-fellowship/
LOCATION:American Lutheran Church\, 311 S 4th Ave\, Castlewood\, SD\, 57223\, United States
END:VEVENT
BEGIN:VEVENT
DTSTART;TZID=America/Chicago:20250928T100000
DTEND;TZID=America/Chicago:20250928T170000
DTSTAMP:20260420T092054
CREATED:20250826T213814Z
LAST-MODIFIED:20250826T213815Z
UID:4369-1759053600-1759078800@americanlutheranchurch.com
SUMMARY:10:00 Fellowship
DESCRIPTION:
URL:https://americanlutheranchurch.com/event/1000-fellowship-82/
END:VEVENT
BEGIN:VEVENT
DTSTART;TZID=America/Chicago:20250928T101500
DTEND;TZID=America/Chicago:20250928T170000
DTSTAMP:20260420T092054
CREATED:20250826T212351Z
LAST-MODIFIED:20250826T212351Z
UID:4365-1759054500-1759078800@americanlutheranchurch.com
SUMMARY:10:15 Sunday School
DESCRIPTION:
URL:https://americanlutheranchurch.com/event/1015-sunday-school-41/
END:VEVENT
END:VCALENDAR