BEGIN:VCALENDAR
VERSION:2.0
PRODID:-//American Lutheran Church - ECPv6.15.14//NONSGML v1.0//EN
CALSCALE:GREGORIAN
METHOD:PUBLISH
X-WR-CALNAME:American Lutheran Church
X-ORIGINAL-URL:https://americanlutheranchurch.com
X-WR-CALDESC:Events for American Lutheran Church
REFRESH-INTERVAL;VALUE=DURATION:PT1H
X-Robots-Tag:noindex
X-PUBLISHED-TTL:PT1H
BEGIN:VTIMEZONE
TZID:America/Chicago
BEGIN:DAYLIGHT
TZOFFSETFROM:-0600
TZOFFSETTO:-0500
TZNAME:CDT
DTSTART:20210314T080000
END:DAYLIGHT
BEGIN:STANDARD
TZOFFSETFROM:-0500
TZOFFSETTO:-0600
TZNAME:CST
DTSTART:20211107T070000
END:STANDARD
BEGIN:DAYLIGHT
TZOFFSETFROM:-0600
TZOFFSETTO:-0500
TZNAME:CDT
DTSTART:20220313T080000
END:DAYLIGHT
BEGIN:STANDARD
TZOFFSETFROM:-0500
TZOFFSETTO:-0600
TZNAME:CST
DTSTART:20221106T070000
END:STANDARD
BEGIN:DAYLIGHT
TZOFFSETFROM:-0600
TZOFFSETTO:-0500
TZNAME:CDT
DTSTART:20230312T080000
END:DAYLIGHT
BEGIN:STANDARD
TZOFFSETFROM:-0500
TZOFFSETTO:-0600
TZNAME:CST
DTSTART:20231105T070000
END:STANDARD
BEGIN:DAYLIGHT
TZOFFSETFROM:-0600
TZOFFSETTO:-0500
TZNAME:CDT
DTSTART:20240310T080000
END:DAYLIGHT
BEGIN:STANDARD
TZOFFSETFROM:-0500
TZOFFSETTO:-0600
TZNAME:CST
DTSTART:20241103T070000
END:STANDARD
BEGIN:DAYLIGHT
TZOFFSETFROM:-0600
TZOFFSETTO:-0500
TZNAME:CDT
DTSTART:20250309T080000
END:DAYLIGHT
BEGIN:STANDARD
TZOFFSETFROM:-0500
TZOFFSETTO:-0600
TZNAME:CST
DTSTART:20251102T070000
END:STANDARD
END:VTIMEZONE
BEGIN:VEVENT
DTSTART;TZID=America/Chicago:20240915T100000
DTEND;TZID=America/Chicago:20240915T170000
DTSTAMP:20260420T064114
CREATED:20240828T162911Z
LAST-MODIFIED:20240828T162911Z
UID:3584-1726394400-1726419600@americanlutheranchurch.com
SUMMARY:10:00 Fellowship
DESCRIPTION:
URL:https://americanlutheranchurch.com/event/1000-fellowship-33/
END:VEVENT
BEGIN:VEVENT
DTSTART;TZID=America/Chicago:20221030T100000
DTEND;TZID=America/Chicago:20221030T110000
DTSTAMP:20260420T064114
CREATED:20221028T203930Z
LAST-MODIFIED:20230323T201545Z
UID:2333-1667124000-1667127600@americanlutheranchurch.com
SUMMARY:10:00 Fellowship
DESCRIPTION:
URL:https://americanlutheranchurch.com/event/1000-am-fellowship/
LOCATION:American Lutheran Church\, 311 S 4th Ave\, Castlewood\, SD\, 57223\, United States
END:VEVENT
BEGIN:VEVENT
DTSTART;TZID=America/Chicago:20240915T090000
DTEND;TZID=America/Chicago:20240915T170000
DTSTAMP:20260420T064114
CREATED:20240828T162838Z
LAST-MODIFIED:20240828T162839Z
UID:3582-1726390800-1726419600@americanlutheranchurch.com
SUMMARY:9:00 Worship
DESCRIPTION:
URL:https://americanlutheranchurch.com/event/900-worship-35/
END:VEVENT
BEGIN:VEVENT
DTSTART;TZID=America/Chicago:20230430T090000
DTEND;TZID=America/Chicago:20230430T170000
DTSTAMP:20260420T064114
CREATED:20230323T195758Z
LAST-MODIFIED:20230323T195759Z
UID:2664-1682845200-1682874000@americanlutheranchurch.com
SUMMARY:9:00 Worship
DESCRIPTION:
URL:https://americanlutheranchurch.com/event/900-worship/
LOCATION:American Lutheran Church\, 311 S 4th Ave\, Castlewood\, SD\, 57223\, United States
END:VEVENT
BEGIN:VEVENT
DTSTART;TZID=America/Chicago:20240911T080000
DTEND;TZID=America/Chicago:20240911T170000
DTSTAMP:20260420T064114
CREATED:20240828T162805Z
LAST-MODIFIED:20240905T114833Z
UID:3580-1726041600-1726074000@americanlutheranchurch.com
SUMMARY:6:00 Confirmation
DESCRIPTION:
URL:https://americanlutheranchurch.com/event/515-confirmation-25/
END:VEVENT
BEGIN:VEVENT
DTSTART;TZID=America/Chicago:20240908T170000
DTEND;TZID=America/Chicago:20240908T170000
DTSTAMP:20260420T064114
CREATED:20240828T195908Z
LAST-MODIFIED:20240828T195909Z
UID:3608-1725814800-1725814800@americanlutheranchurch.com
SUMMARY:5:00-7:00 Youth Group Games and Cookout at Parsonage
DESCRIPTION:
URL:https://americanlutheranchurch.com/event/500-700-youth-group-games-and-cookout-at-parsonage/
END:VEVENT
BEGIN:VEVENT
DTSTART;TZID=America/Chicago:20240908T100000
DTEND;TZID=America/Chicago:20240908T170000
DTSTAMP:20260420T064114
CREATED:20240828T162538Z
LAST-MODIFIED:20240828T200058Z
UID:3575-1725789600-1725814800@americanlutheranchurch.com
SUMMARY:10:00 Fellowship
DESCRIPTION:
URL:https://americanlutheranchurch.com/event/1000-fellowship-32/
END:VEVENT
BEGIN:VEVENT
DTSTART;TZID=America/Chicago:20221030T100000
DTEND;TZID=America/Chicago:20221030T110000
DTSTAMP:20260420T064114
CREATED:20221028T203930Z
LAST-MODIFIED:20230323T201545Z
UID:2333-1667124000-1667127600@americanlutheranchurch.com
SUMMARY:10:00 Fellowship
DESCRIPTION:
URL:https://americanlutheranchurch.com/event/1000-am-fellowship/
LOCATION:American Lutheran Church\, 311 S 4th Ave\, Castlewood\, SD\, 57223\, United States
END:VEVENT
BEGIN:VEVENT
DTSTART;TZID=America/Chicago:20240908T090000
DTEND;TZID=America/Chicago:20240908T170000
DTSTAMP:20260420T064114
CREATED:20240828T162506Z
LAST-MODIFIED:20240828T162507Z
UID:3573-1725786000-1725814800@americanlutheranchurch.com
SUMMARY:9:00 Worship
DESCRIPTION:
URL:https://americanlutheranchurch.com/event/900-worship-33/
END:VEVENT
BEGIN:VEVENT
DTSTART;TZID=America/Chicago:20230430T090000
DTEND;TZID=America/Chicago:20230430T170000
DTSTAMP:20260420T064114
CREATED:20230323T195758Z
LAST-MODIFIED:20230323T195759Z
UID:2664-1682845200-1682874000@americanlutheranchurch.com
SUMMARY:9:00 Worship
DESCRIPTION:
URL:https://americanlutheranchurch.com/event/900-worship/
LOCATION:American Lutheran Church\, 311 S 4th Ave\, Castlewood\, SD\, 57223\, United States
END:VEVENT
BEGIN:VEVENT
DTSTART;TZID=America/Chicago:20240904T173000
DTEND;TZID=America/Chicago:20240904T180000
DTSTAMP:20260420T064114
CREATED:20240828T162427Z
LAST-MODIFIED:20240904T201921Z
UID:3571-1725471000-1725472800@americanlutheranchurch.com
SUMMARY:6:00 Confirmation Orientation
DESCRIPTION:
URL:https://americanlutheranchurch.com/event/530-confirmation-orientation/
END:VEVENT
BEGIN:VEVENT
DTSTART;TZID=America/Chicago:20240901T101500
DTEND;TZID=America/Chicago:20240901T170000
DTSTAMP:20260420T064114
CREATED:20240828T162344Z
LAST-MODIFIED:20240828T162602Z
UID:3569-1725185700-1725210000@americanlutheranchurch.com
SUMMARY:10:00 Fellowship
DESCRIPTION:
URL:https://americanlutheranchurch.com/event/1015-fellowship/
END:VEVENT
BEGIN:VEVENT
DTSTART;TZID=America/Chicago:20221030T100000
DTEND;TZID=America/Chicago:20221030T110000
DTSTAMP:20260420T064114
CREATED:20221028T203930Z
LAST-MODIFIED:20230323T201545Z
UID:2333-1667124000-1667127600@americanlutheranchurch.com
SUMMARY:10:00 Fellowship
DESCRIPTION:
URL:https://americanlutheranchurch.com/event/1000-am-fellowship/
LOCATION:American Lutheran Church\, 311 S 4th Ave\, Castlewood\, SD\, 57223\, United States
END:VEVENT
BEGIN:VEVENT
DTSTART;TZID=America/Chicago:20240901T090000
DTEND;TZID=America/Chicago:20240901T170000
DTSTAMP:20260420T064114
CREATED:20240828T162655Z
LAST-MODIFIED:20240828T162655Z
UID:3578-1725181200-1725210000@americanlutheranchurch.com
SUMMARY:9:00 Worship
DESCRIPTION:
URL:https://americanlutheranchurch.com/event/900-worship-34/
END:VEVENT
BEGIN:VEVENT
DTSTART;TZID=America/Chicago:20230430T090000
DTEND;TZID=America/Chicago:20230430T170000
DTSTAMP:20260420T064114
CREATED:20230323T195758Z
LAST-MODIFIED:20230323T195759Z
UID:2664-1682845200-1682874000@americanlutheranchurch.com
SUMMARY:9:00 Worship
DESCRIPTION:
URL:https://americanlutheranchurch.com/event/900-worship/
LOCATION:American Lutheran Church\, 311 S 4th Ave\, Castlewood\, SD\, 57223\, United States
END:VEVENT
BEGIN:VEVENT
DTSTART;TZID=America/Chicago:20221030T100000
DTEND;TZID=America/Chicago:20221030T110000
DTSTAMP:20260420T064114
CREATED:20221028T203930Z
LAST-MODIFIED:20230323T201545Z
UID:2333-1667124000-1667127600@americanlutheranchurch.com
SUMMARY:10:00 Fellowship
DESCRIPTION:
URL:https://americanlutheranchurch.com/event/1000-am-fellowship/
LOCATION:American Lutheran Church\, 311 S 4th Ave\, Castlewood\, SD\, 57223\, United States
END:VEVENT
BEGIN:VEVENT
DTSTART;TZID=America/Chicago:20230430T090000
DTEND;TZID=America/Chicago:20230430T170000
DTSTAMP:20260420T064114
CREATED:20230323T195758Z
LAST-MODIFIED:20230323T195759Z
UID:2664-1682845200-1682874000@americanlutheranchurch.com
SUMMARY:9:00 Worship
DESCRIPTION:
URL:https://americanlutheranchurch.com/event/900-worship/
LOCATION:American Lutheran Church\, 311 S 4th Ave\, Castlewood\, SD\, 57223\, United States
END:VEVENT
BEGIN:VEVENT
DTSTART;TZID=America/Chicago:20240825T080000
DTEND;TZID=America/Chicago:20240825T170000
DTSTAMP:20260420T064114
CREATED:20240521T164459Z
LAST-MODIFIED:20240521T164459Z
UID:3516-1724572800-1724605200@americanlutheranchurch.com
SUMMARY:10:00 Fellowship
DESCRIPTION:
URL:https://americanlutheranchurch.com/event/1000-fellowship-31/
END:VEVENT
BEGIN:VEVENT
DTSTART;TZID=America/Chicago:20240825T080000
DTEND;TZID=America/Chicago:20240825T170000
DTSTAMP:20260420T064114
CREATED:20240521T164435Z
LAST-MODIFIED:20240521T164436Z
UID:3514-1724572800-1724605200@americanlutheranchurch.com
SUMMARY:9:00 Worship
DESCRIPTION:
URL:https://americanlutheranchurch.com/event/900-worship-32/
END:VEVENT
BEGIN:VEVENT
DTSTART;TZID=America/Chicago:20240824T120000
DTEND;TZID=America/Chicago:20240824T170000
DTSTAMP:20260420T064114
CREATED:20240815T190312Z
LAST-MODIFIED:20240815T190312Z
UID:3565-1724500800-1724518800@americanlutheranchurch.com
SUMMARY:Noon-5:00 Selchert/Rindel Event
DESCRIPTION:
URL:https://americanlutheranchurch.com/event/noon-500-selchert-rindel-event/
END:VEVENT
BEGIN:VEVENT
DTSTART;TZID=America/Chicago:20240818T101500
DTEND;TZID=America/Chicago:20240818T170000
DTSTAMP:20260420T064114
CREATED:20240731T224723Z
LAST-MODIFIED:20240731T224724Z
UID:3556-1723976100-1724000400@americanlutheranchurch.com
SUMMARY:10:15 Church Council
DESCRIPTION:
URL:https://americanlutheranchurch.com/event/1015-church-council-20/
END:VEVENT
BEGIN:VEVENT
DTSTART;TZID=America/Chicago:20221030T100000
DTEND;TZID=America/Chicago:20221030T110000
DTSTAMP:20260420T064114
CREATED:20221028T203930Z
LAST-MODIFIED:20230323T201545Z
UID:2333-1667124000-1667127600@americanlutheranchurch.com
SUMMARY:10:00 Fellowship
DESCRIPTION:
URL:https://americanlutheranchurch.com/event/1000-am-fellowship/
LOCATION:American Lutheran Church\, 311 S 4th Ave\, Castlewood\, SD\, 57223\, United States
END:VEVENT
BEGIN:VEVENT
DTSTART;TZID=America/Chicago:20230430T090000
DTEND;TZID=America/Chicago:20230430T170000
DTSTAMP:20260420T064114
CREATED:20230323T195758Z
LAST-MODIFIED:20230323T195759Z
UID:2664-1682845200-1682874000@americanlutheranchurch.com
SUMMARY:9:00 Worship
DESCRIPTION:
URL:https://americanlutheranchurch.com/event/900-worship/
LOCATION:American Lutheran Church\, 311 S 4th Ave\, Castlewood\, SD\, 57223\, United States
END:VEVENT
BEGIN:VEVENT
DTSTART;TZID=America/Chicago:20240818T080000
DTEND;TZID=America/Chicago:20240818T170000
DTSTAMP:20260420T064114
CREATED:20240521T164414Z
LAST-MODIFIED:20240521T164415Z
UID:3512-1723968000-1724000400@americanlutheranchurch.com
SUMMARY:10:00 Fellowship
DESCRIPTION:
URL:https://americanlutheranchurch.com/event/1000-fellowship-30/
END:VEVENT
BEGIN:VEVENT
DTSTART;TZID=America/Chicago:20240818T080000
DTEND;TZID=America/Chicago:20240818T170000
DTSTAMP:20260420T064114
CREATED:20240521T164351Z
LAST-MODIFIED:20240521T164352Z
UID:3510-1723968000-1724000400@americanlutheranchurch.com
SUMMARY:9:00 Worship
DESCRIPTION:
URL:https://americanlutheranchurch.com/event/900-worship-31/
END:VEVENT
BEGIN:VEVENT
DTSTART;TZID=America/Chicago:20240811T110000
DTEND;TZID=America/Chicago:20240811T170000
DTSTAMP:20260420T064114
CREATED:20240722T164616Z
LAST-MODIFIED:20240722T164617Z
UID:3552-1723374000-1723395600@americanlutheranchurch.com
SUMMARY:11:00 Community Worship & Potluck at the Park
DESCRIPTION:
URL:https://americanlutheranchurch.com/event/1100-community-worship-potluck-at-the-park/
END:VEVENT
BEGIN:VEVENT
DTSTART;TZID=America/Chicago:20221030T100000
DTEND;TZID=America/Chicago:20221030T110000
DTSTAMP:20260420T064114
CREATED:20221028T203930Z
LAST-MODIFIED:20230323T201545Z
UID:2333-1667124000-1667127600@americanlutheranchurch.com
SUMMARY:10:00 Fellowship
DESCRIPTION:
URL:https://americanlutheranchurch.com/event/1000-am-fellowship/
LOCATION:American Lutheran Church\, 311 S 4th Ave\, Castlewood\, SD\, 57223\, United States
END:VEVENT
BEGIN:VEVENT
DTSTART;TZID=America/Chicago:20230430T090000
DTEND;TZID=America/Chicago:20230430T170000
DTSTAMP:20260420T064114
CREATED:20230323T195758Z
LAST-MODIFIED:20230323T195759Z
UID:2664-1682845200-1682874000@americanlutheranchurch.com
SUMMARY:9:00 Worship
DESCRIPTION:
URL:https://americanlutheranchurch.com/event/900-worship/
LOCATION:American Lutheran Church\, 311 S 4th Ave\, Castlewood\, SD\, 57223\, United States
END:VEVENT
BEGIN:VEVENT
DTSTART;TZID=America/Chicago:20240811T080000
DTEND;TZID=America/Chicago:20240811T170000
DTSTAMP:20260420T064114
CREATED:20240521T164329Z
LAST-MODIFIED:20240521T164330Z
UID:3508-1723363200-1723395600@americanlutheranchurch.com
SUMMARY:10:00 Fellowship
DESCRIPTION:
URL:https://americanlutheranchurch.com/event/1000-fellowship-29/
END:VEVENT
BEGIN:VEVENT
DTSTART;TZID=America/Chicago:20240811T080000
DTEND;TZID=America/Chicago:20240811T170000
DTSTAMP:20260420T064114
CREATED:20240521T164305Z
LAST-MODIFIED:20240521T164306Z
UID:3506-1723363200-1723395600@americanlutheranchurch.com
SUMMARY:9:00 Worship
DESCRIPTION:
URL:https://americanlutheranchurch.com/event/900-worship-30/
END:VEVENT
END:VCALENDAR