BEGIN:VCALENDAR
VERSION:2.0
PRODID:-//American Lutheran Church - ECPv6.15.14//NONSGML v1.0//EN
CALSCALE:GREGORIAN
METHOD:PUBLISH
X-WR-CALNAME:American Lutheran Church
X-ORIGINAL-URL:https://americanlutheranchurch.com
X-WR-CALDESC:Events for American Lutheran Church
REFRESH-INTERVAL;VALUE=DURATION:PT1H
X-Robots-Tag:noindex
X-PUBLISHED-TTL:PT1H
BEGIN:VTIMEZONE
TZID:America/Chicago
BEGIN:DAYLIGHT
TZOFFSETFROM:-0600
TZOFFSETTO:-0500
TZNAME:CDT
DTSTART:20210314T080000
END:DAYLIGHT
BEGIN:STANDARD
TZOFFSETFROM:-0500
TZOFFSETTO:-0600
TZNAME:CST
DTSTART:20211107T070000
END:STANDARD
BEGIN:DAYLIGHT
TZOFFSETFROM:-0600
TZOFFSETTO:-0500
TZNAME:CDT
DTSTART:20220313T080000
END:DAYLIGHT
BEGIN:STANDARD
TZOFFSETFROM:-0500
TZOFFSETTO:-0600
TZNAME:CST
DTSTART:20221106T070000
END:STANDARD
BEGIN:DAYLIGHT
TZOFFSETFROM:-0600
TZOFFSETTO:-0500
TZNAME:CDT
DTSTART:20230312T080000
END:DAYLIGHT
BEGIN:STANDARD
TZOFFSETFROM:-0500
TZOFFSETTO:-0600
TZNAME:CST
DTSTART:20231105T070000
END:STANDARD
BEGIN:DAYLIGHT
TZOFFSETFROM:-0600
TZOFFSETTO:-0500
TZNAME:CDT
DTSTART:20240310T080000
END:DAYLIGHT
BEGIN:STANDARD
TZOFFSETFROM:-0500
TZOFFSETTO:-0600
TZNAME:CST
DTSTART:20241103T070000
END:STANDARD
BEGIN:DAYLIGHT
TZOFFSETFROM:-0600
TZOFFSETTO:-0500
TZNAME:CDT
DTSTART:20250309T080000
END:DAYLIGHT
BEGIN:STANDARD
TZOFFSETFROM:-0500
TZOFFSETTO:-0600
TZNAME:CST
DTSTART:20251102T070000
END:STANDARD
BEGIN:DAYLIGHT
TZOFFSETFROM:-0600
TZOFFSETTO:-0500
TZNAME:CDT
DTSTART:20260308T080000
END:DAYLIGHT
BEGIN:STANDARD
TZOFFSETFROM:-0500
TZOFFSETTO:-0600
TZNAME:CST
DTSTART:20261101T070000
END:STANDARD
END:VTIMEZONE
BEGIN:VEVENT
DTSTART;TZID=America/Chicago:20250727T090000
DTEND;TZID=America/Chicago:20250727T170000
DTSTAMP:20260420T063223
CREATED:20250528T183235Z
LAST-MODIFIED:20250528T183236Z
UID:4230-1753606800-1753635600@americanlutheranchurch.com
SUMMARY:9:00 Worship
DESCRIPTION:
URL:https://americanlutheranchurch.com/event/900-worship-73/
END:VEVENT
BEGIN:VEVENT
DTSTART;TZID=America/Chicago:20221030T100000
DTEND;TZID=America/Chicago:20221030T110000
DTSTAMP:20260420T063223
CREATED:20221028T203930Z
LAST-MODIFIED:20230323T201545Z
UID:2333-1667124000-1667127600@americanlutheranchurch.com
SUMMARY:10:00 Fellowship
DESCRIPTION:
URL:https://americanlutheranchurch.com/event/1000-am-fellowship/
LOCATION:American Lutheran Church\, 311 S 4th Ave\, Castlewood\, SD\, 57223\, United States
END:VEVENT
BEGIN:VEVENT
DTSTART;TZID=America/Chicago:20250727T100000
DTEND;TZID=America/Chicago:20250727T170000
DTSTAMP:20260420T063223
CREATED:20250528T183815Z
LAST-MODIFIED:20250528T183816Z
UID:4250-1753610400-1753635600@americanlutheranchurch.com
SUMMARY:10:00 Fellowship
DESCRIPTION:
URL:https://americanlutheranchurch.com/event/1000-fellowship-74/
END:VEVENT
BEGIN:VEVENT
DTSTART;TZID=America/Chicago:20230430T090000
DTEND;TZID=America/Chicago:20230430T170000
DTSTAMP:20260420T063223
CREATED:20230323T195758Z
LAST-MODIFIED:20230323T195759Z
UID:2664-1682845200-1682874000@americanlutheranchurch.com
SUMMARY:9:00 Worship
DESCRIPTION:
URL:https://americanlutheranchurch.com/event/900-worship/
LOCATION:American Lutheran Church\, 311 S 4th Ave\, Castlewood\, SD\, 57223\, United States
END:VEVENT
BEGIN:VEVENT
DTSTART;TZID=America/Chicago:20250803T090000
DTEND;TZID=America/Chicago:20250803T170000
DTSTAMP:20260420T063223
CREATED:20250730T162118Z
LAST-MODIFIED:20250730T162119Z
UID:4311-1754211600-1754240400@americanlutheranchurch.com
SUMMARY:9:00 Worship
DESCRIPTION:
URL:https://americanlutheranchurch.com/event/900-worship-74/
END:VEVENT
BEGIN:VEVENT
DTSTART;TZID=America/Chicago:20221030T100000
DTEND;TZID=America/Chicago:20221030T110000
DTSTAMP:20260420T063223
CREATED:20221028T203930Z
LAST-MODIFIED:20230323T201545Z
UID:2333-1667124000-1667127600@americanlutheranchurch.com
SUMMARY:10:00 Fellowship
DESCRIPTION:
URL:https://americanlutheranchurch.com/event/1000-am-fellowship/
LOCATION:American Lutheran Church\, 311 S 4th Ave\, Castlewood\, SD\, 57223\, United States
END:VEVENT
BEGIN:VEVENT
DTSTART;TZID=America/Chicago:20250803T100000
DTEND;TZID=America/Chicago:20250803T170000
DTSTAMP:20260420T063223
CREATED:20250730T162149Z
LAST-MODIFIED:20250730T162150Z
UID:4313-1754215200-1754240400@americanlutheranchurch.com
SUMMARY:10:00 Fellowship
DESCRIPTION:
URL:https://americanlutheranchurch.com/event/1000-fellowship-75/
END:VEVENT
BEGIN:VEVENT
DTSTART;TZID=America/Chicago:20250805T080000
DTEND;TZID=America/Chicago:20250805T170000
DTSTAMP:20260420T063223
CREATED:20250730T161333Z
LAST-MODIFIED:20250730T161334Z
UID:4289-1754380800-1754413200@americanlutheranchurch.com
SUMMARY:Pastor at NALC Convocation in Pittsburg
DESCRIPTION:
URL:https://americanlutheranchurch.com/event/pastor-at-nalc-convocation-in-pittsburg/
END:VEVENT
BEGIN:VEVENT
DTSTART;TZID=America/Chicago:20250806T080000
DTEND;TZID=America/Chicago:20250806T170000
DTSTAMP:20260420T063223
CREATED:20250730T161409Z
LAST-MODIFIED:20250730T161410Z
UID:4291-1754467200-1754499600@americanlutheranchurch.com
SUMMARY:Pastor at NALC Convocation in Pittsburg
DESCRIPTION:
URL:https://americanlutheranchurch.com/event/pastor-at-nalc-convocation-in-pittsburg-2/
END:VEVENT
BEGIN:VEVENT
DTSTART;TZID=America/Chicago:20250807T080000
DTEND;TZID=America/Chicago:20250807T170000
DTSTAMP:20260420T063223
CREATED:20250730T161527Z
LAST-MODIFIED:20250730T161528Z
UID:4294-1754553600-1754586000@americanlutheranchurch.com
SUMMARY:Pastor at NALC Convocation in Pittsburg
DESCRIPTION:
URL:https://americanlutheranchurch.com/event/pastor-at-nalc-convocation-in-pittsburg-3/
END:VEVENT
BEGIN:VEVENT
DTSTART;TZID=America/Chicago:20250808T080000
DTEND;TZID=America/Chicago:20250808T170000
DTSTAMP:20260420T063223
CREATED:20250730T161556Z
LAST-MODIFIED:20250730T161557Z
UID:4296-1754640000-1754672400@americanlutheranchurch.com
SUMMARY:Pastor at NALC Convocation in Pittsburg
DESCRIPTION:
URL:https://americanlutheranchurch.com/event/pastor-at-nalc-convocation-in-pittsburg-4/
END:VEVENT
BEGIN:VEVENT
DTSTART;TZID=America/Chicago:20250809T080000
DTEND;TZID=America/Chicago:20250809T170000
DTSTAMP:20260420T063223
CREATED:20250730T162429Z
LAST-MODIFIED:20250730T162430Z
UID:4315-1754726400-1754758800@americanlutheranchurch.com
SUMMARY:7:30-10:00 Youth Pancake Feed at Community Center
DESCRIPTION:
URL:https://americanlutheranchurch.com/event/730-1000-youth-pancake-feed-at-community-center/
END:VEVENT
BEGIN:VEVENT
DTSTART;TZID=America/Chicago:20230430T090000
DTEND;TZID=America/Chicago:20230430T170000
DTSTAMP:20260420T063223
CREATED:20230323T195758Z
LAST-MODIFIED:20230323T195759Z
UID:2664-1682845200-1682874000@americanlutheranchurch.com
SUMMARY:9:00 Worship
DESCRIPTION:
URL:https://americanlutheranchurch.com/event/900-worship/
LOCATION:American Lutheran Church\, 311 S 4th Ave\, Castlewood\, SD\, 57223\, United States
END:VEVENT
BEGIN:VEVENT
DTSTART;TZID=America/Chicago:20250810T090000
DTEND;TZID=America/Chicago:20250810T170000
DTSTAMP:20260420T063223
CREATED:20250730T161030Z
LAST-MODIFIED:20250730T161031Z
UID:4280-1754816400-1754845200@americanlutheranchurch.com
SUMMARY:9:00 Worship at ALC
DESCRIPTION:
URL:https://americanlutheranchurch.com/event/900-worship-at-alc/
END:VEVENT
BEGIN:VEVENT
DTSTART;TZID=America/Chicago:20221030T100000
DTEND;TZID=America/Chicago:20221030T110000
DTSTAMP:20260420T063223
CREATED:20221028T203930Z
LAST-MODIFIED:20230323T201545Z
UID:2333-1667124000-1667127600@americanlutheranchurch.com
SUMMARY:10:00 Fellowship
DESCRIPTION:
URL:https://americanlutheranchurch.com/event/1000-am-fellowship/
LOCATION:American Lutheran Church\, 311 S 4th Ave\, Castlewood\, SD\, 57223\, United States
END:VEVENT
BEGIN:VEVENT
DTSTART;TZID=America/Chicago:20250810T100000
DTEND;TZID=America/Chicago:20250810T170000
DTSTAMP:20260420T063223
CREATED:20250730T161102Z
LAST-MODIFIED:20250730T161103Z
UID:4282-1754820000-1754845200@americanlutheranchurch.com
SUMMARY:10:00 Fellowship
DESCRIPTION:
URL:https://americanlutheranchurch.com/event/1000-fellowship-76/
END:VEVENT
BEGIN:VEVENT
DTSTART;TZID=America/Chicago:20250810T101500
DTEND;TZID=America/Chicago:20250810T170000
DTSTAMP:20260420T063223
CREATED:20250730T161144Z
LAST-MODIFIED:20250730T162305Z
UID:4284-1754820900-1754845200@americanlutheranchurch.com
SUMMARY:10:00 Meal at Picnic Shelter
DESCRIPTION:
URL:https://americanlutheranchurch.com/event/1000-meal-at-picnic-shelter/
END:VEVENT
BEGIN:VEVENT
DTSTART;TZID=America/Chicago:20250810T110000
DTEND;TZID=America/Chicago:20250810T170000
DTSTAMP:20260420T063223
CREATED:20250730T161220Z
LAST-MODIFIED:20250730T161221Z
UID:4286-1754823600-1754845200@americanlutheranchurch.com
SUMMARY:11:00 Community Worship at Picnic Shelter
DESCRIPTION:
URL:https://americanlutheranchurch.com/event/1100-community-worship-at-picnic-shelter/
END:VEVENT
BEGIN:VEVENT
DTSTART;TZID=America/Chicago:20250816T080000
DTEND;TZID=America/Chicago:20250816T170000
DTSTAMP:20260420T063223
CREATED:20250811T195810Z
LAST-MODIFIED:20250811T195811Z
UID:4326-1755331200-1755363600@americanlutheranchurch.com
SUMMARY:1:00-5:00 Funeral Recept.
DESCRIPTION:
URL:https://americanlutheranchurch.com/event/100-500-funeral-recept/
END:VEVENT
BEGIN:VEVENT
DTSTART;TZID=America/Chicago:20250817T080000
DTEND;TZID=America/Chicago:20250817T170000
DTSTAMP:20260420T063223
CREATED:20250730T161623Z
LAST-MODIFIED:20250730T161624Z
UID:4298-1755417600-1755450000@americanlutheranchurch.com
SUMMARY:9:00 Worship
DESCRIPTION:
URL:https://americanlutheranchurch.com/event/900-worship-75/
END:VEVENT
BEGIN:VEVENT
DTSTART;TZID=America/Chicago:20230430T090000
DTEND;TZID=America/Chicago:20230430T170000
DTSTAMP:20260420T063223
CREATED:20230323T195758Z
LAST-MODIFIED:20230323T195759Z
UID:2664-1682845200-1682874000@americanlutheranchurch.com
SUMMARY:9:00 Worship
DESCRIPTION:
URL:https://americanlutheranchurch.com/event/900-worship/
LOCATION:American Lutheran Church\, 311 S 4th Ave\, Castlewood\, SD\, 57223\, United States
END:VEVENT
BEGIN:VEVENT
DTSTART;TZID=America/Chicago:20221030T100000
DTEND;TZID=America/Chicago:20221030T110000
DTSTAMP:20260420T063223
CREATED:20221028T203930Z
LAST-MODIFIED:20230323T201545Z
UID:2333-1667124000-1667127600@americanlutheranchurch.com
SUMMARY:10:00 Fellowship
DESCRIPTION:
URL:https://americanlutheranchurch.com/event/1000-am-fellowship/
LOCATION:American Lutheran Church\, 311 S 4th Ave\, Castlewood\, SD\, 57223\, United States
END:VEVENT
BEGIN:VEVENT
DTSTART;TZID=America/Chicago:20250817T100000
DTEND;TZID=America/Chicago:20250817T170000
DTSTAMP:20260420T063223
CREATED:20250730T161652Z
LAST-MODIFIED:20250730T161653Z
UID:4300-1755424800-1755450000@americanlutheranchurch.com
SUMMARY:10:00 Fellowship
DESCRIPTION:
URL:https://americanlutheranchurch.com/event/1000-fellowship-77/
END:VEVENT
BEGIN:VEVENT
DTSTART;TZID=America/Chicago:20250817T101500
DTEND;TZID=America/Chicago:20250817T170000
DTSTAMP:20260420T063223
CREATED:20250629T162501Z
LAST-MODIFIED:20250629T162502Z
UID:4267-1755425700-1755450000@americanlutheranchurch.com
SUMMARY:10:15 Church Council
DESCRIPTION:
URL:https://americanlutheranchurch.com/event/1015-church-council-29/
END:VEVENT
BEGIN:VEVENT
DTSTART;TZID=America/Chicago:20250824T080000
DTEND;TZID=America/Chicago:20250824T170000
DTSTAMP:20260420T063223
CREATED:20250730T161712Z
LAST-MODIFIED:20250730T161713Z
UID:4302-1756022400-1756054800@americanlutheranchurch.com
SUMMARY:9:00 Worship
DESCRIPTION:
URL:https://americanlutheranchurch.com/event/900-worship-76/
END:VEVENT
BEGIN:VEVENT
DTSTART;TZID=America/Chicago:20230430T090000
DTEND;TZID=America/Chicago:20230430T170000
DTSTAMP:20260420T063223
CREATED:20230323T195758Z
LAST-MODIFIED:20230323T195759Z
UID:2664-1682845200-1682874000@americanlutheranchurch.com
SUMMARY:9:00 Worship
DESCRIPTION:
URL:https://americanlutheranchurch.com/event/900-worship/
LOCATION:American Lutheran Church\, 311 S 4th Ave\, Castlewood\, SD\, 57223\, United States
END:VEVENT
BEGIN:VEVENT
DTSTART;TZID=America/Chicago:20221030T100000
DTEND;TZID=America/Chicago:20221030T110000
DTSTAMP:20260420T063223
CREATED:20221028T203930Z
LAST-MODIFIED:20230323T201545Z
UID:2333-1667124000-1667127600@americanlutheranchurch.com
SUMMARY:10:00 Fellowship
DESCRIPTION:
URL:https://americanlutheranchurch.com/event/1000-am-fellowship/
LOCATION:American Lutheran Church\, 311 S 4th Ave\, Castlewood\, SD\, 57223\, United States
END:VEVENT
BEGIN:VEVENT
DTSTART;TZID=America/Chicago:20250824T100000
DTEND;TZID=America/Chicago:20250824T170000
DTSTAMP:20260420T063223
CREATED:20250730T161742Z
LAST-MODIFIED:20250730T161742Z
UID:4304-1756029600-1756054800@americanlutheranchurch.com
SUMMARY:10:00 Fellowship
DESCRIPTION:
URL:https://americanlutheranchurch.com/event/1000-fellowship-78/
END:VEVENT
BEGIN:VEVENT
DTSTART;TZID=America/Chicago:20250827T190000
DTEND;TZID=America/Chicago:20250827T193000
DTSTAMP:20260420T063223
CREATED:20250814T174345Z
LAST-MODIFIED:20250814T174346Z
UID:4328-1756321200-1756323000@americanlutheranchurch.com
SUMMARY:7:00 Confirmation Orientation
DESCRIPTION:
URL:https://americanlutheranchurch.com/event/700-confirmation-orientation/
END:VEVENT
BEGIN:VEVENT
DTSTART;TZID=America/Chicago:20250831T080000
DTEND;TZID=America/Chicago:20250831T170000
DTSTAMP:20260420T063223
CREATED:20250730T161807Z
LAST-MODIFIED:20250730T161808Z
UID:4306-1756627200-1756659600@americanlutheranchurch.com
SUMMARY:9:00 Worship
DESCRIPTION:
URL:https://americanlutheranchurch.com/event/900-worship-77/
END:VEVENT
END:VCALENDAR