BEGIN:VCALENDAR
VERSION:2.0
PRODID:-//American Lutheran Church - ECPv6.15.14//NONSGML v1.0//EN
CALSCALE:GREGORIAN
METHOD:PUBLISH
X-WR-CALNAME:American Lutheran Church
X-ORIGINAL-URL:https://americanlutheranchurch.com
X-WR-CALDESC:Events for American Lutheran Church
REFRESH-INTERVAL;VALUE=DURATION:PT1H
X-Robots-Tag:noindex
X-PUBLISHED-TTL:PT1H
BEGIN:VTIMEZONE
TZID:America/Chicago
BEGIN:DAYLIGHT
TZOFFSETFROM:-0600
TZOFFSETTO:-0500
TZNAME:CDT
DTSTART:20210314T080000
END:DAYLIGHT
BEGIN:STANDARD
TZOFFSETFROM:-0500
TZOFFSETTO:-0600
TZNAME:CST
DTSTART:20211107T070000
END:STANDARD
BEGIN:DAYLIGHT
TZOFFSETFROM:-0600
TZOFFSETTO:-0500
TZNAME:CDT
DTSTART:20220313T080000
END:DAYLIGHT
BEGIN:STANDARD
TZOFFSETFROM:-0500
TZOFFSETTO:-0600
TZNAME:CST
DTSTART:20221106T070000
END:STANDARD
BEGIN:DAYLIGHT
TZOFFSETFROM:-0600
TZOFFSETTO:-0500
TZNAME:CDT
DTSTART:20230312T080000
END:DAYLIGHT
BEGIN:STANDARD
TZOFFSETFROM:-0500
TZOFFSETTO:-0600
TZNAME:CST
DTSTART:20231105T070000
END:STANDARD
BEGIN:DAYLIGHT
TZOFFSETFROM:-0600
TZOFFSETTO:-0500
TZNAME:CDT
DTSTART:20240310T080000
END:DAYLIGHT
BEGIN:STANDARD
TZOFFSETFROM:-0500
TZOFFSETTO:-0600
TZNAME:CST
DTSTART:20241103T070000
END:STANDARD
BEGIN:DAYLIGHT
TZOFFSETFROM:-0600
TZOFFSETTO:-0500
TZNAME:CDT
DTSTART:20250309T080000
END:DAYLIGHT
BEGIN:STANDARD
TZOFFSETFROM:-0500
TZOFFSETTO:-0600
TZNAME:CST
DTSTART:20251102T070000
END:STANDARD
END:VTIMEZONE
BEGIN:VEVENT
DTSTART;TZID=America/Chicago:20241006T101500
DTEND;TZID=America/Chicago:20241006T170000
DTSTAMP:20260420T032805
CREATED:20240925T210201Z
LAST-MODIFIED:20240925T210202Z
UID:3650-1728209700-1728234000@americanlutheranchurch.com
SUMMARY:10:15 Sunday School
DESCRIPTION:
URL:https://americanlutheranchurch.com/event/1015-sunday-school-19/
END:VEVENT
BEGIN:VEVENT
DTSTART;TZID=America/Chicago:20241006T100000
DTEND;TZID=America/Chicago:20241006T170000
DTSTAMP:20260420T032805
CREATED:20240925T210112Z
LAST-MODIFIED:20240925T210113Z
UID:3648-1728208800-1728234000@americanlutheranchurch.com
SUMMARY:10:00 Fellowship
DESCRIPTION:
URL:https://americanlutheranchurch.com/event/1000-fellowship-36/
END:VEVENT
BEGIN:VEVENT
DTSTART;TZID=America/Chicago:20221030T100000
DTEND;TZID=America/Chicago:20221030T110000
DTSTAMP:20260420T032805
CREATED:20221028T203930Z
LAST-MODIFIED:20230323T201545Z
UID:2333-1667124000-1667127600@americanlutheranchurch.com
SUMMARY:10:00 Fellowship
DESCRIPTION:
URL:https://americanlutheranchurch.com/event/1000-am-fellowship/
LOCATION:American Lutheran Church\, 311 S 4th Ave\, Castlewood\, SD\, 57223\, United States
END:VEVENT
BEGIN:VEVENT
DTSTART;TZID=America/Chicago:20241006T090000
DTEND;TZID=America/Chicago:20241006T170000
DTSTAMP:20260420T032805
CREATED:20240925T210037Z
LAST-MODIFIED:20240925T210038Z
UID:3646-1728205200-1728234000@americanlutheranchurch.com
SUMMARY:9:00 Worship
DESCRIPTION:
URL:https://americanlutheranchurch.com/event/900-worship-38/
END:VEVENT
BEGIN:VEVENT
DTSTART;TZID=America/Chicago:20230430T090000
DTEND;TZID=America/Chicago:20230430T170000
DTSTAMP:20260420T032805
CREATED:20230323T195758Z
LAST-MODIFIED:20230323T195759Z
UID:2664-1682845200-1682874000@americanlutheranchurch.com
SUMMARY:9:00 Worship
DESCRIPTION:
URL:https://americanlutheranchurch.com/event/900-worship/
LOCATION:American Lutheran Church\, 311 S 4th Ave\, Castlewood\, SD\, 57223\, United States
END:VEVENT
BEGIN:VEVENT
DTSTART;TZID=America/Chicago:20241006T083000
DTEND;TZID=America/Chicago:20241006T170000
DTSTAMP:20260420T032805
CREATED:20240925T205754Z
LAST-MODIFIED:20240925T205755Z
UID:3638-1728203400-1728234000@americanlutheranchurch.com
SUMMARY:8:30 Choir Practice
DESCRIPTION:
URL:https://americanlutheranchurch.com/event/830-choir-practice-23/
END:VEVENT
BEGIN:VEVENT
DTSTART;TZID=America/Chicago:20241002T190000
DTEND;TZID=America/Chicago:20241002T193000
DTSTAMP:20260420T032805
CREATED:20240925T211421Z
LAST-MODIFIED:20240925T211422Z
UID:3683-1727895600-1727897400@americanlutheranchurch.com
SUMMARY:7:00 Youth Group
DESCRIPTION:
URL:https://americanlutheranchurch.com/event/700-youth-group/
END:VEVENT
BEGIN:VEVENT
DTSTART;TZID=America/Chicago:20241002T180000
DTEND;TZID=America/Chicago:20241002T183000
DTSTAMP:20260420T032805
CREATED:20240925T211352Z
LAST-MODIFIED:20240925T211352Z
UID:3681-1727892000-1727893800@americanlutheranchurch.com
SUMMARY:6:00 Confirmation
DESCRIPTION:
URL:https://americanlutheranchurch.com/event/600-confirmation/
END:VEVENT
BEGIN:VEVENT
DTSTART;TZID=America/Chicago:20240929T101500
DTEND;TZID=America/Chicago:20240929T170000
DTSTAMP:20260420T032805
CREATED:20240828T163417Z
LAST-MODIFIED:20240828T163418Z
UID:3602-1727604900-1727629200@americanlutheranchurch.com
SUMMARY:10:15 Sunday School
DESCRIPTION:
URL:https://americanlutheranchurch.com/event/1015-sunday-school-18/
END:VEVENT
BEGIN:VEVENT
DTSTART;TZID=America/Chicago:20240929T100000
DTEND;TZID=America/Chicago:20240929T170000
DTSTAMP:20260420T032805
CREATED:20240828T163345Z
LAST-MODIFIED:20240828T163346Z
UID:3600-1727604000-1727629200@americanlutheranchurch.com
SUMMARY:10:00 Fellowship
DESCRIPTION:
URL:https://americanlutheranchurch.com/event/1000-fellowship-35/
END:VEVENT
BEGIN:VEVENT
DTSTART;TZID=America/Chicago:20221030T100000
DTEND;TZID=America/Chicago:20221030T110000
DTSTAMP:20260420T032805
CREATED:20221028T203930Z
LAST-MODIFIED:20230323T201545Z
UID:2333-1667124000-1667127600@americanlutheranchurch.com
SUMMARY:10:00 Fellowship
DESCRIPTION:
URL:https://americanlutheranchurch.com/event/1000-am-fellowship/
LOCATION:American Lutheran Church\, 311 S 4th Ave\, Castlewood\, SD\, 57223\, United States
END:VEVENT
BEGIN:VEVENT
DTSTART;TZID=America/Chicago:20240929T090000
DTEND;TZID=America/Chicago:20240929T170000
DTSTAMP:20260420T032805
CREATED:20240828T163317Z
LAST-MODIFIED:20240828T163318Z
UID:3598-1727600400-1727629200@americanlutheranchurch.com
SUMMARY:9:00 Worship
DESCRIPTION:
URL:https://americanlutheranchurch.com/event/900-worship-37/
END:VEVENT
BEGIN:VEVENT
DTSTART;TZID=America/Chicago:20230430T090000
DTEND;TZID=America/Chicago:20230430T170000
DTSTAMP:20260420T032805
CREATED:20230323T195758Z
LAST-MODIFIED:20230323T195759Z
UID:2664-1682845200-1682874000@americanlutheranchurch.com
SUMMARY:9:00 Worship
DESCRIPTION:
URL:https://americanlutheranchurch.com/event/900-worship/
LOCATION:American Lutheran Church\, 311 S 4th Ave\, Castlewood\, SD\, 57223\, United States
END:VEVENT
BEGIN:VEVENT
DTSTART;TZID=America/Chicago:20240925T080000
DTEND;TZID=America/Chicago:20240925T170000
DTSTAMP:20260420T032805
CREATED:20240828T163248Z
LAST-MODIFIED:20240905T114740Z
UID:3596-1727251200-1727283600@americanlutheranchurch.com
SUMMARY:6:00 Confirmation
DESCRIPTION:
URL:https://americanlutheranchurch.com/event/515-confirmation-27/
END:VEVENT
BEGIN:VEVENT
DTSTART;TZID=America/Chicago:20240924T090000
DTEND;TZID=America/Chicago:20240924T170000
DTSTAMP:20260420T032805
CREATED:20240828T164328Z
LAST-MODIFIED:20240828T164329Z
UID:3604-1727168400-1727197200@americanlutheranchurch.com
SUMMARY:9:00-2:00 ESD Pastors at Castlewood
DESCRIPTION:
URL:https://americanlutheranchurch.com/event/900-200-esd-pastors-at-castlewood/
END:VEVENT
BEGIN:VEVENT
DTSTART;TZID=America/Chicago:20240922T101500
DTEND;TZID=America/Chicago:20240922T170000
DTSTAMP:20260420T032805
CREATED:20240828T163217Z
LAST-MODIFIED:20240828T163218Z
UID:3594-1727000100-1727024400@americanlutheranchurch.com
SUMMARY:10:15 Sunday School
DESCRIPTION:
URL:https://americanlutheranchurch.com/event/1015-sunday-school-3/
END:VEVENT
BEGIN:VEVENT
DTSTART;TZID=America/Chicago:20240922T100000
DTEND;TZID=America/Chicago:20240922T170000
DTSTAMP:20260420T032805
CREATED:20240828T163138Z
LAST-MODIFIED:20240828T163139Z
UID:3592-1726999200-1727024400@americanlutheranchurch.com
SUMMARY:10:00 Fellowship
DESCRIPTION:
URL:https://americanlutheranchurch.com/event/1000-fellowship-34/
END:VEVENT
BEGIN:VEVENT
DTSTART;TZID=America/Chicago:20221030T100000
DTEND;TZID=America/Chicago:20221030T110000
DTSTAMP:20260420T032805
CREATED:20221028T203930Z
LAST-MODIFIED:20230323T201545Z
UID:2333-1667124000-1667127600@americanlutheranchurch.com
SUMMARY:10:00 Fellowship
DESCRIPTION:
URL:https://americanlutheranchurch.com/event/1000-am-fellowship/
LOCATION:American Lutheran Church\, 311 S 4th Ave\, Castlewood\, SD\, 57223\, United States
END:VEVENT
BEGIN:VEVENT
DTSTART;TZID=America/Chicago:20240922T090000
DTEND;TZID=America/Chicago:20240922T170000
DTSTAMP:20260420T032805
CREATED:20240828T163100Z
LAST-MODIFIED:20240828T163101Z
UID:3590-1726995600-1727024400@americanlutheranchurch.com
SUMMARY:9:00 Worship
DESCRIPTION:
URL:https://americanlutheranchurch.com/event/900-worship-36/
END:VEVENT
BEGIN:VEVENT
DTSTART;TZID=America/Chicago:20230430T090000
DTEND;TZID=America/Chicago:20230430T170000
DTSTAMP:20260420T032805
CREATED:20230323T195758Z
LAST-MODIFIED:20230323T195759Z
UID:2664-1682845200-1682874000@americanlutheranchurch.com
SUMMARY:9:00 Worship
DESCRIPTION:
URL:https://americanlutheranchurch.com/event/900-worship/
LOCATION:American Lutheran Church\, 311 S 4th Ave\, Castlewood\, SD\, 57223\, United States
END:VEVENT
BEGIN:VEVENT
DTSTART;TZID=America/Chicago:20240921T080000
DTEND;TZID=America/Chicago:20240921T170000
DTSTAMP:20260420T032805
CREATED:20240912T193635Z
LAST-MODIFIED:20240912T193636Z
UID:3618-1726905600-1726938000@americanlutheranchurch.com
SUMMARY:10:00 Funeral
DESCRIPTION:
URL:https://americanlutheranchurch.com/event/1000-funeral/
END:VEVENT
BEGIN:VEVENT
DTSTART;TZID=America/Chicago:20240918T080000
DTEND;TZID=America/Chicago:20240918T170000
DTSTAMP:20260420T032805
CREATED:20240828T163031Z
LAST-MODIFIED:20240905T114801Z
UID:3588-1726646400-1726678800@americanlutheranchurch.com
SUMMARY:6:00 Confirmation
DESCRIPTION:
URL:https://americanlutheranchurch.com/event/515-confirmation-26/
END:VEVENT
BEGIN:VEVENT
DTSTART;TZID=America/Chicago:20240915T102000
DTEND;TZID=America/Chicago:20240915T170000
DTSTAMP:20260420T032805
CREATED:20240828T194453Z
LAST-MODIFIED:20240828T194454Z
UID:3606-1726395600-1726419600@americanlutheranchurch.com
SUMMARY:10:15 Church Council
DESCRIPTION:
URL:https://americanlutheranchurch.com/event/1015-church-council-21/
END:VEVENT
BEGIN:VEVENT
DTSTART;TZID=America/Chicago:20240915T101500
DTEND;TZID=America/Chicago:20240915T170000
DTSTAMP:20260420T032805
CREATED:20240828T162958Z
LAST-MODIFIED:20240828T162959Z
UID:3586-1726395300-1726419600@americanlutheranchurch.com
SUMMARY:10:15 Sunday School Rally Day!
DESCRIPTION:
URL:https://americanlutheranchurch.com/event/1015-sunday-school-rally-day/
END:VEVENT
BEGIN:VEVENT
DTSTART;TZID=America/Chicago:20240915T100000
DTEND;TZID=America/Chicago:20240915T170000
DTSTAMP:20260420T032805
CREATED:20240828T162911Z
LAST-MODIFIED:20240828T162911Z
UID:3584-1726394400-1726419600@americanlutheranchurch.com
SUMMARY:10:00 Fellowship
DESCRIPTION:
URL:https://americanlutheranchurch.com/event/1000-fellowship-33/
END:VEVENT
BEGIN:VEVENT
DTSTART;TZID=America/Chicago:20221030T100000
DTEND;TZID=America/Chicago:20221030T110000
DTSTAMP:20260420T032805
CREATED:20221028T203930Z
LAST-MODIFIED:20230323T201545Z
UID:2333-1667124000-1667127600@americanlutheranchurch.com
SUMMARY:10:00 Fellowship
DESCRIPTION:
URL:https://americanlutheranchurch.com/event/1000-am-fellowship/
LOCATION:American Lutheran Church\, 311 S 4th Ave\, Castlewood\, SD\, 57223\, United States
END:VEVENT
BEGIN:VEVENT
DTSTART;TZID=America/Chicago:20240915T090000
DTEND;TZID=America/Chicago:20240915T170000
DTSTAMP:20260420T032805
CREATED:20240828T162838Z
LAST-MODIFIED:20240828T162839Z
UID:3582-1726390800-1726419600@americanlutheranchurch.com
SUMMARY:9:00 Worship
DESCRIPTION:
URL:https://americanlutheranchurch.com/event/900-worship-35/
END:VEVENT
BEGIN:VEVENT
DTSTART;TZID=America/Chicago:20230430T090000
DTEND;TZID=America/Chicago:20230430T170000
DTSTAMP:20260420T032805
CREATED:20230323T195758Z
LAST-MODIFIED:20230323T195759Z
UID:2664-1682845200-1682874000@americanlutheranchurch.com
SUMMARY:9:00 Worship
DESCRIPTION:
URL:https://americanlutheranchurch.com/event/900-worship/
LOCATION:American Lutheran Church\, 311 S 4th Ave\, Castlewood\, SD\, 57223\, United States
END:VEVENT
BEGIN:VEVENT
DTSTART;TZID=America/Chicago:20240911T080000
DTEND;TZID=America/Chicago:20240911T170000
DTSTAMP:20260420T032805
CREATED:20240828T162805Z
LAST-MODIFIED:20240905T114833Z
UID:3580-1726041600-1726074000@americanlutheranchurch.com
SUMMARY:6:00 Confirmation
DESCRIPTION:
URL:https://americanlutheranchurch.com/event/515-confirmation-25/
END:VEVENT
BEGIN:VEVENT
DTSTART;TZID=America/Chicago:20240908T170000
DTEND;TZID=America/Chicago:20240908T170000
DTSTAMP:20260420T032805
CREATED:20240828T195908Z
LAST-MODIFIED:20240828T195909Z
UID:3608-1725814800-1725814800@americanlutheranchurch.com
SUMMARY:5:00-7:00 Youth Group Games and Cookout at Parsonage
DESCRIPTION:
URL:https://americanlutheranchurch.com/event/500-700-youth-group-games-and-cookout-at-parsonage/
END:VEVENT
END:VCALENDAR